BEGIN:VCALENDAR
VERSION:2.0
PRODID:-//The Episcopal Church of the Good Shepherd - ECPv6.15.18//NONSGML v1.0//EN
CALSCALE:GREGORIAN
METHOD:PUBLISH
X-ORIGINAL-URL:https://gsaustin.org
X-WR-CALDESC:Events for The Episcopal Church of the Good Shepherd
REFRESH-INTERVAL;VALUE=DURATION:PT1H
X-Robots-Tag:noindex
X-PUBLISHED-TTL:PT1H
BEGIN:VTIMEZONE
TZID:America/Chicago
BEGIN:DAYLIGHT
TZOFFSETFROM:-0600
TZOFFSETTO:-0500
TZNAME:CDT
DTSTART:20230312T080000
END:DAYLIGHT
BEGIN:STANDARD
TZOFFSETFROM:-0500
TZOFFSETTO:-0600
TZNAME:CST
DTSTART:20231105T070000
END:STANDARD
BEGIN:DAYLIGHT
TZOFFSETFROM:-0600
TZOFFSETTO:-0500
TZNAME:CDT
DTSTART:20240310T080000
END:DAYLIGHT
BEGIN:STANDARD
TZOFFSETFROM:-0500
TZOFFSETTO:-0600
TZNAME:CST
DTSTART:20241103T070000
END:STANDARD
BEGIN:DAYLIGHT
TZOFFSETFROM:-0600
TZOFFSETTO:-0500
TZNAME:CDT
DTSTART:20250309T080000
END:DAYLIGHT
BEGIN:STANDARD
TZOFFSETFROM:-0500
TZOFFSETTO:-0600
TZNAME:CST
DTSTART:20251102T070000
END:STANDARD
END:VTIMEZONE
BEGIN:VEVENT
DTSTART;VALUE=DATE:20241101
DTEND;VALUE=DATE:20241123
DTSTAMP:20260424T002324
CREATED:20241106T161522Z
LAST-MODIFIED:20241106T161641Z
UID:10047188-1730419200-1732319999@gsaustin.org
SUMMARY:Thanksgiving Food Drive
DESCRIPTION:Help us provide Thanksgiving meals to those in need in our community. We are collecting non-perishable food items during the month of November for Thanksgiving meal kits\, that will be later deliver to the residents of the North Loop Apartments. Thank you so much for your donations! \nFor a list of items needed and to sign up\, click here. \nTo sign up to deliver meal kits after the assembly on Sunday\, November 24\, click here.
URL:https://gsaustin.org/event/thanksgiving-food-drive/
LOCATION:Windsor Campus\, Parish Life Center (PLC)\, 3201 Windsor Road\, Austin\, TX\, 78703\, United States
CATEGORIES:Windsor Campus,Outreach
ATTACH;FMTTYPE=image/jpeg:https://gsaustin.org/wp-content/uploads/2023/04/2022-11_ThanksgivingMeals_Event.jpg
ORGANIZER;CN="The Rev. Leah Wise":MAILTO:leah@gsaustin.org
END:VEVENT
BEGIN:VEVENT
DTSTART;TZID=America/Chicago:20241105T121500
DTEND;TZID=America/Chicago:20241105T130000
DTSTAMP:20260424T002324
CREATED:20241022T211427Z
LAST-MODIFIED:20241022T211453Z
UID:10047137-1730808900-1730811600@gsaustin.org
SUMMARY:Prayers of Thanksgiving for our Nation
DESCRIPTION:As an expression of our union with God and with one another\, join us for prayers in thanksgiving for our nation and as a reminder of that union. The clergy will lead a short prayer service in the Windsor church building\, and the church building at Windsor will be open from 8am until 6pm that day for personal prayers. Please feel free to join us as you are able.
URL:https://gsaustin.org/event/prayers-of-thanksgiving/
LOCATION:Windsor Campus\, Nave\, 3201 Windsor Road\, Austin\, 78703
ORGANIZER;CN="Jessica Riels":MAILTO:jessica@gsaustin.org
END:VEVENT
END:VCALENDAR