BEGIN:VCALENDAR
VERSION:2.0
PRODID:-//The Episcopal Church of the Good Shepherd - ECPv6.15.18//NONSGML v1.0//EN
CALSCALE:GREGORIAN
METHOD:PUBLISH
X-WR-CALNAME:The Episcopal Church of the Good Shepherd
X-ORIGINAL-URL:https://gsaustin.org
X-WR-CALDESC:Events for The Episcopal Church of the Good Shepherd
REFRESH-INTERVAL;VALUE=DURATION:PT1H
X-Robots-Tag:noindex
X-PUBLISHED-TTL:PT1H
BEGIN:VTIMEZONE
TZID:America/Chicago
BEGIN:DAYLIGHT
TZOFFSETFROM:-0600
TZOFFSETTO:-0500
TZNAME:CDT
DTSTART:20240310T080000
END:DAYLIGHT
BEGIN:STANDARD
TZOFFSETFROM:-0500
TZOFFSETTO:-0600
TZNAME:CST
DTSTART:20241103T070000
END:STANDARD
BEGIN:DAYLIGHT
TZOFFSETFROM:-0600
TZOFFSETTO:-0500
TZNAME:CDT
DTSTART:20250309T080000
END:DAYLIGHT
BEGIN:STANDARD
TZOFFSETFROM:-0500
TZOFFSETTO:-0600
TZNAME:CST
DTSTART:20251102T070000
END:STANDARD
BEGIN:DAYLIGHT
TZOFFSETFROM:-0600
TZOFFSETTO:-0500
TZNAME:CDT
DTSTART:20260308T080000
END:DAYLIGHT
BEGIN:STANDARD
TZOFFSETFROM:-0500
TZOFFSETTO:-0600
TZNAME:CST
DTSTART:20261101T070000
END:STANDARD
END:VTIMEZONE
BEGIN:VEVENT
DTSTART;VALUE=DATE:20250710
DTEND;VALUE=DATE:20250715
DTSTAMP:20260419T094121
CREATED:20241216T174420Z
LAST-MODIFIED:20250303T164305Z
UID:10047697-1752105600-1752537599@gsaustin.org
SUMMARY:Summer Youth Pilgrimage
DESCRIPTION:Rising 9th grade–graduated seniors are invited to join the Good Shepherd High School Youth Group for a pilgrimage to our nation’s capitol Washington D.C\, July 10–14\, 2025. On the itinerary – touring monuments and museums\, serving our neighbors in DC\, and worshiping at the Washington National Cathedral. We will use our experiences in DC to reflect on what it means to be Christians who “strive for justice and peace among all people\, and respect the dignity of every human being” (The Book of Common Prayer\, Holy Baptism\, 305). Don’t miss out on this opportunity to strengthen friendships with other Good Shepherd youth\, have tons of fun\, and deepen your faith in Christ. With questions please contact the Rev. Jonathan McManus-Dail. To register by March 12 please click here.
URL:https://gsaustin.org/event/summer-youth-pilgrimage/
LOCATION:offsite\, TX
ATTACH;FMTTYPE=image/png:https://gsaustin.org/wp-content/uploads/2024/12/2025-07_YouthPilgrimage_Event.png
ORGANIZER;CN="the Rev. Jonathan McManus-Dail":MAILTO:jonathan@gsaustin.org
END:VEVENT
BEGIN:VEVENT
DTSTART;TZID=America/Chicago:20250713T080000
DTEND;TZID=America/Chicago:20250713T090000
DTSTAMP:20260419T094121
CREATED:20240827T173644Z
LAST-MODIFIED:20260311T163915Z
UID:10045280-1752393600-1752397200@gsaustin.org
SUMMARY:Holy Eucharist
DESCRIPTION:We pray our early morning celebration of the Holy Eucharist using The Book of Common Prayer’s Rite II. The 8:00a service includes a sermon and Holy Communion. This service does not include music\, so there is ample opportunity for silence.
URL:https://gsaustin.org/event/holy-eucharist/2025-07-13/
LOCATION:Windsor Campus\, Nave\, 3201 Windsor Road\, Austin\, 78703
CATEGORIES:Worship
END:VEVENT
BEGIN:VEVENT
DTSTART;TZID=America/Chicago:20250713T091500
DTEND;TZID=America/Chicago:20250713T100000
DTSTAMP:20260419T094121
CREATED:20220328T182320Z
LAST-MODIFIED:20260311T163949Z
UID:10036199-1752398100-1752400800@gsaustin.org
SUMMARY:Early Church: Holy Eucharist
DESCRIPTION:Please join us for our Sunday morning service Early Church in the PLC. \nWith special attention to children ages 8 years and younger\, this service will be shorter in duration\, including a brief sermon. \nIf your child would like to participate as an usher or reader\, or you have any questions\, please contact the Rev. Brin Bon.
URL:https://gsaustin.org/event/early-church/2025-07-13/
LOCATION:Windsor Campus\, Parish Life Center (PLC)\, 3201 Windsor Road\, Austin\, TX\, 78703\, United States
CATEGORIES:kids youth and family,Kids,Youth Ministry,Worship,Holy Week
ORGANIZER;CN="The Rev. Brin Bon":MAILTO:brin@gsaustin.org
END:VEVENT
BEGIN:VEVENT
DTSTART;TZID=America/Chicago:20250713T100000
DTEND;TZID=America/Chicago:20250713T120000
DTSTAMP:20260419T094121
CREATED:20240918T162806Z
LAST-MODIFIED:20260123T174138Z
UID:10046775-1752400800-1752408000@gsaustin.org
SUMMARY:Nursery
DESCRIPTION:Nursery care is provided for our youngest members (under 3 years old) every Sunday during the 10:30a services on both campuses. In a warm and nurturing environment\, we will assist you in beginning to build your child’s faith foundation from the ground up. Children can be picked up at any time. We look forward to greeting you and your children for nursery care!
URL:https://gsaustin.org/event/nursery/2025-07-13/
LOCATION:Windsor Campus\, Nursery\, 3201 Windsor Road\, Austin\, TX\, 78703\, United States
CATEGORIES:Nursery,Children Youth and Family
ORGANIZER;CN="the Rev. Jonathan McManus-Dail":MAILTO:jonathan@gsaustin.org
END:VEVENT
BEGIN:VEVENT
DTSTART;TZID=America/Chicago:20250713T101500
DTEND;TZID=America/Chicago:20250713T230500
DTSTAMP:20260419T094121
CREATED:20240822T203225Z
LAST-MODIFIED:20250501T163602Z
UID:10047668-1752401700-1752447900@gsaustin.org
SUMMARY:Godly Play
DESCRIPTION:Godly Play is a creative\, imaginative approach to christian formation and spiritual guidance for children 3 years old (potty trained) through 2nd grade. Every Sunday children gather in our Education Center to learn about the Bible and explore God’s expansive presence and unconditional love for them. Check-in begins at 10:15a with Godly Play lessons starting at 10:30a. Pick up children at the Peace so they can join you for Holy Communion. \nFor more information\, please contact the Rev. Jonathan McManus-Dail.
URL:https://gsaustin.org/event/godly-play-2-2/2025-07-13/
LOCATION:Windsor Campus\, Education Building\, Second floor\, 3201 Windsor Road\, Austin\, TX\, 78703\, United States
CATEGORIES:Windsor Campus,kids youth and family,Godly Play,Children Youth and Family
ATTACH;FMTTYPE=image/jpeg:https://gsaustin.org/wp-content/uploads/2023/08/2023-08_GodlyPlay_Event.jpg
ORGANIZER;CN="the Rev. Jonathan McManus-Dail":MAILTO:jonathan@gsaustin.org
END:VEVENT
BEGIN:VEVENT
DTSTART;TZID=America/Chicago:20250713T103000
DTEND;TZID=America/Chicago:20250713T113000
DTSTAMP:20260419T094121
CREATED:20220328T184827Z
LAST-MODIFIED:20260311T164045Z
UID:10034457-1752402600-1752406200@gsaustin.org
SUMMARY:Communion Café: Holy Eucharist
DESCRIPTION:Our second\, primary service of mid-morning worship\, Communion Café blends traditional\, Episcopal worship and a relaxed\, inclusive setting.\nSupported by the choral and musical leadership of a live\, acoustic band\, Communion Café includes readings from scripture; a sermon; prayers; congregational singing; and the celebration of the Holy Eucharist. \nNursery care available.
URL:https://gsaustin.org/event/communion-cafe/2025-07-13/
LOCATION:Windsor Campus\, Parish Life Center (PLC)\, 3201 Windsor Road\, Austin\, TX\, 78703\, United States
CATEGORIES:Windsor Campus,Worship,Holy Week
END:VEVENT
BEGIN:VEVENT
DTSTART;TZID=America/Chicago:20250713T103000
DTEND;TZID=America/Chicago:20250713T113000
DTSTAMP:20260419T094121
CREATED:20230612T143728Z
LAST-MODIFIED:20260311T164115Z
UID:10035210-1752402600-1752406200@gsaustin.org
SUMMARY:Holy Eucharist with Organ and Choir
DESCRIPTION:Our most well-attended hour of worship\, we customarily pray this mid-morning service in the The Book of Common Prayer’s Rite II. Supported by the choral leadership of the Good Shepherd Choir and organ\, the 10:30a includes readings from scripture; a sermon; congregational hymns; prayers for God’s Church\, the world\, ourselves\, and one another; and the celebration of the Holy Eucharist.
URL:https://gsaustin.org/event/holy-eucharist-with-choir/2025-07-13/
LOCATION:Windsor Campus\, Nave\, 3201 Windsor Road\, Austin\, 78703
CATEGORIES:Windsor Campus,Worship
END:VEVENT
BEGIN:VEVENT
DTSTART;TZID=America/Chicago:20250713T103000
DTEND;TZID=America/Chicago:20250713T113000
DTSTAMP:20260419T094121
CREATED:20250703T160906Z
LAST-MODIFIED:20260409T155800Z
UID:10034729-1752402600-1752406200@gsaustin.org
SUMMARY:Holy Eucharist: The Hill
DESCRIPTION:Our second campus’ Sunday worship follows a slightly less-traditional Episcopal liturgy\, in a comfortable setting. Prayed in the The Book of Common Prayer’s Rite II\, and supported by the choral and musical leadership of a live\, acoustic band\, The Hill’s worship includes readings from scripture; a sermon; prayers; congregational singing; and the celebration of the Holy Eucharist. \nThe Hill worship also includes a brief children’s sermon\, after which families may choose to allow their children to join appointed Youth for community-building time on the playground. Youth then lead participating children’s return to the sanctuary in time for Communion. \nNursery care available.
URL:https://gsaustin.org/event/holy-eucharist-the-hill-4/2025-07-13/
LOCATION:The Hill\, 1700 Woodland Avenue\, Austin\, 78741\, United States
CATEGORIES:The Hill,Worship,Holy Week
ORGANIZER;CN="The Rev. Leah Wise":MAILTO:leah@gsaustin.org
END:VEVENT
BEGIN:VEVENT
DTSTART;TZID=America/Chicago:20250713T180000
DTEND;TZID=America/Chicago:20250713T190000
DTSTAMP:20260419T094121
CREATED:20211202T054637Z
LAST-MODIFIED:20251117T232702Z
UID:10043668-1752429600-1752433200@gsaustin.org
SUMMARY:Holy Eucharist with Organ
DESCRIPTION:Our evening worship offers a more meditative\, intimate atmosphere\, acknowledging with prayer and setting the close of day.\nThe 6:00p includes readings from scripture; a sermon; prayers; congregational hymns led by organ; and the celebration of the Holy Eucharist.\n 
URL:https://gsaustin.org/event/holy-eucharist-with-organ/2025-07-13/
LOCATION:Windsor Campus\, Nave\, 3201 Windsor Road\, Austin\, 78703
CATEGORIES:Windsor Campus,Worship
END:VEVENT
END:VCALENDAR