BEGIN:VCALENDAR
VERSION:2.0
PRODID:-//The Episcopal Church of the Good Shepherd - ECPv6.15.18//NONSGML v1.0//EN
CALSCALE:GREGORIAN
METHOD:PUBLISH
X-ORIGINAL-URL:https://gsaustin.org
X-WR-CALDESC:Events for The Episcopal Church of the Good Shepherd
REFRESH-INTERVAL;VALUE=DURATION:PT1H
X-Robots-Tag:noindex
X-PUBLISHED-TTL:PT1H
BEGIN:VTIMEZONE
TZID:America/Chicago
BEGIN:DAYLIGHT
TZOFFSETFROM:-0600
TZOFFSETTO:-0500
TZNAME:CDT
DTSTART:20250309T080000
END:DAYLIGHT
BEGIN:STANDARD
TZOFFSETFROM:-0500
TZOFFSETTO:-0600
TZNAME:CST
DTSTART:20251102T070000
END:STANDARD
BEGIN:DAYLIGHT
TZOFFSETFROM:-0600
TZOFFSETTO:-0500
TZNAME:CDT
DTSTART:20260308T080000
END:DAYLIGHT
BEGIN:STANDARD
TZOFFSETFROM:-0500
TZOFFSETTO:-0600
TZNAME:CST
DTSTART:20261101T070000
END:STANDARD
BEGIN:DAYLIGHT
TZOFFSETFROM:-0600
TZOFFSETTO:-0500
TZNAME:CDT
DTSTART:20270314T080000
END:DAYLIGHT
BEGIN:STANDARD
TZOFFSETFROM:-0500
TZOFFSETTO:-0600
TZNAME:CST
DTSTART:20271107T070000
END:STANDARD
END:VTIMEZONE
BEGIN:VEVENT
DTSTART;VALUE=DATE:20260218
DTEND;VALUE=DATE:20260312
DTSTAMP:20260422T043541
CREATED:20220309T003123Z
LAST-MODIFIED:20260219T192503Z
UID:10050680-1771372800-1773273599@gsaustin.org
SUMMARY:Easter Flowers & Music Donations
DESCRIPTION:Your donations during the Lenten season help make our Easter ceremony beautiful on both campuses. We appreciate your donations to help make this happen each year. \n\nDonate in honor or memory of a loved one by clicking here or visiting Windsor’s administration office. \n\nTo be recognized in the Easter Day bulletin\, the parish office must receive your donation by Wednesday\, March 11 at noon.
URL:https://gsaustin.org/event/easter-flower-music-donation/
LOCATION:Both Campuses\, Austin\, TX\, United States
CATEGORIES:Featured Events,Easter
ATTACH;FMTTYPE=image/png:https://gsaustin.org/wp-content/uploads/2022/03/2025_Easter-FlowerDonations_Event.png
ORGANIZER;CN="Dawn Kaberline":MAILTO:dawn@gsaustin.org
END:VEVENT
BEGIN:VEVENT
DTSTART;TZID=America/Chicago:20260304T070000
DTEND;TZID=America/Chicago:20260304T073000
DTSTAMP:20260422T043541
CREATED:20260126T164508Z
LAST-MODIFIED:20260218T225630Z
UID:10050433-1772607600-1772609400@gsaustin.org
SUMMARY:Lenten Weekday Holy Eucharist
DESCRIPTION:We invite you to make our Lenten weekday services part of your Lenten discipline.\nWe celebrate the Eucharist each weekday morning at 7:00a in the Windsor chapel.
URL:https://gsaustin.org/event/lenten-weekday-holy-eucharist-2/2026-03-04/
LOCATION:Windsor Campus\, Chapel\, 3201 Windsor Road\, Austin\, TX\, 78703\, United States
CATEGORIES:Windsor Campus,Worship
ATTACH;FMTTYPE=image/jpeg:https://gsaustin.org/wp-content/uploads/2026/01/LentServices_Event.jpg
ORGANIZER;CN="The Rev. Brin Bon":MAILTO:brin@gsaustin.org
END:VEVENT
BEGIN:VEVENT
DTSTART;TZID=America/Chicago:20260304T070000
DTEND;TZID=America/Chicago:20260304T081500
DTSTAMP:20260422T043541
CREATED:20250923T190905Z
LAST-MODIFIED:20260309T154255Z
UID:10050014-1772607600-1772612100@gsaustin.org
SUMMARY:Dad's Bible Study
DESCRIPTION:All dads are invited to our newly forming Dad’s Bible Study from 7:00a–8:15a in the Windsor\, vestry room. Come for coffee\, breakfast\, and—most importantly—the Bible and the bread of life\, Jesus. This is a great opportunity to gather with other dads who are striving to be the best dads\, partners\, and people they can be. Together we’ll seek courage\, strength\, and wisdom from Scripture\, our faith\, and one another. With questions please contact the Rev. Jonathan McManus-Dail.
URL:https://gsaustin.org/event/dads-bible-study-2/2026-03-04/
LOCATION:Windsor Campus\, Vestry Room\, 3201 Windsor Road\, Austin\, TX\, 78703\, United States
CATEGORIES:Windsor Campus,Bible Study
ATTACH;FMTTYPE=image/png:https://gsaustin.org/wp-content/uploads/2025/08/DadsBibleStudy_Event.png
ORGANIZER;CN="the Rev. Jonathan McManus-Dail":MAILTO:jonathan@gsaustin.org
END:VEVENT
BEGIN:VEVENT
DTSTART;TZID=America/Chicago:20260304T173000
DTEND;TZID=America/Chicago:20260304T180000
DTSTAMP:20260422T043541
CREATED:20220917T021808Z
LAST-MODIFIED:20260122T184636Z
UID:10050202-1772645400-1772647200@gsaustin.org
SUMMARY:Healing Service
DESCRIPTION:This quiet\, reflective service takes time to pray specifically for those whose names appear on our prayer lists – those who suffer in any way\, our expectant mothers and newborn babies and their families\, those who have died\, and those serving in the armed forces. Anointing of the sick is offered to those who so desire\, and the liturgy concludes with Holy Communion. \nWednesdays at 5:30p in the chapel on the Windsor campus.
URL:https://gsaustin.org/event/healing-service/2026-03-04/
LOCATION:Windsor Campus\, Chapel\, 3201 Windsor Road\, Austin\, TX\, 78703\, United States
CATEGORIES:Featured Events,Windsor Campus
ATTACH;FMTTYPE=image/png:https://gsaustin.org/wp-content/uploads/2022/09/healing-2.png
ORGANIZER;CN="The Rev. Brin Bon":MAILTO:brin@gsaustin.org
END:VEVENT
BEGIN:VEVENT
DTSTART;TZID=America/Chicago:20260304T184500
DTEND;TZID=America/Chicago:20260304T193000
DTSTAMP:20260422T043541
CREATED:20250916T031222Z
LAST-MODIFIED:20260204T035141Z
UID:10049677-1772649900-1772652600@gsaustin.org
SUMMARY:Evensong Choir Rehearsal
DESCRIPTION:The Good Shepherd Evensong Choir is a smaller ensemble drawn from the adult choir.\nThis ensemble sings at Evensong on the second Sunday of every month during the program year. Evening Prayer is the time with the church gathers to give thanks for the day that is ending\, and Evensong is an expression of this\, unique to the Anglican tradition and a treasure of our church’s heritage.  \nFor more information please email Chris Oelkers.
URL:https://gsaustin.org/event/evensong-choir-rehearsal/2026-03-04/
LOCATION:Windsor Campus\, Choir Room\, 3201 Windsor Road\, Austin\, TX\, 78703\, United States
CATEGORIES:Windsor Campus,Choral Evensong,Choir
ORGANIZER;CN="Chris Oelkers":MAILTO:chris@gsaustin.org
END:VEVENT
BEGIN:VEVENT
DTSTART;TZID=America/Chicago:20260304T193000
DTEND;TZID=America/Chicago:20260304T210000
DTSTAMP:20260422T043541
CREATED:20230910T163002Z
LAST-MODIFIED:20251209T193917Z
UID:10049803-1772652600-1772658000@gsaustin.org
SUMMARY:Good Shepherd Adult Choir Rehearsal
DESCRIPTION:The Good Shepherd Adult Choir leads worship at our 10:30a Sunday services in the church building and at special liturgies throughout the year.  \nWe draw on the very best of ancient\, modern and world music\, including works by local Austin composers.\nIf you can sing well\, are willing to work hard\, and can commit to a rehearsal schedule\, we welcome your participation.  \nRehearsals take place on Wednesday evenings from 7:30p – 9:00p.\nNo audition is needed\, and you are welcome to sit in on a rehearsal any time if you’d like to try it out. \n With question\, please contact Chris Oelkers.
URL:https://gsaustin.org/event/good-shepherd-adult-choir-rehearsal/2026-03-04/
LOCATION:Windsor Campus\, Choir Room\, 3201 Windsor Road\, Austin\, TX\, 78703\, United States
CATEGORIES:Windsor Campus,Choir
ORGANIZER;CN="Chris Oelkers":MAILTO:chris@gsaustin.org
END:VEVENT
END:VCALENDAR