BEGIN:VCALENDAR
VERSION:2.0
PRODID:-//The Episcopal Church of the Good Shepherd - ECPv6.15.18//NONSGML v1.0//EN
CALSCALE:GREGORIAN
METHOD:PUBLISH
X-ORIGINAL-URL:https://gsaustin.org
X-WR-CALDESC:Events for The Episcopal Church of the Good Shepherd
REFRESH-INTERVAL;VALUE=DURATION:PT1H
X-Robots-Tag:noindex
X-PUBLISHED-TTL:PT1H
BEGIN:VTIMEZONE
TZID:America/Chicago
BEGIN:DAYLIGHT
TZOFFSETFROM:-0600
TZOFFSETTO:-0500
TZNAME:CDT
DTSTART:20280312T080000
END:DAYLIGHT
BEGIN:STANDARD
TZOFFSETFROM:-0500
TZOFFSETTO:-0600
TZNAME:CST
DTSTART:20281105T070000
END:STANDARD
BEGIN:DAYLIGHT
TZOFFSETFROM:-0600
TZOFFSETTO:-0500
TZNAME:CDT
DTSTART:20290311T080000
END:DAYLIGHT
BEGIN:STANDARD
TZOFFSETFROM:-0500
TZOFFSETTO:-0600
TZNAME:CST
DTSTART:20291104T070000
END:STANDARD
BEGIN:DAYLIGHT
TZOFFSETFROM:-0600
TZOFFSETTO:-0500
TZNAME:CDT
DTSTART:20300310T080000
END:DAYLIGHT
BEGIN:STANDARD
TZOFFSETFROM:-0500
TZOFFSETTO:-0600
TZNAME:CST
DTSTART:20301103T070000
END:STANDARD
END:VTIMEZONE
BEGIN:VEVENT
DTSTART;TZID=America/Chicago:20290121T100000
DTEND;TZID=America/Chicago:20290121T120000
DTSTAMP:20260421T051716
CREATED:20240918T162806Z
LAST-MODIFIED:20260123T174138Z
UID:10046959-1863684000-1863691200@gsaustin.org
SUMMARY:Nursery
DESCRIPTION:Nursery care is provided for our youngest members (under 3 years old) every Sunday during the 10:30a services on both campuses. In a warm and nurturing environment\, we will assist you in beginning to build your child’s faith foundation from the ground up. Children can be picked up at any time. We look forward to greeting you and your children for nursery care!
URL:https://gsaustin.org/event/nursery/2029-01-21/
LOCATION:Windsor Campus\, Nursery\, 3201 Windsor Road\, Austin\, TX\, 78703\, United States
CATEGORIES:Nursery,Children Youth and Family
ORGANIZER;CN="the Rev. Jonathan McManus-Dail":MAILTO:jonathan@gsaustin.org
END:VEVENT
BEGIN:VEVENT
DTSTART;TZID=America/Chicago:20290128T100000
DTEND;TZID=America/Chicago:20290128T120000
DTSTAMP:20260421T051716
CREATED:20240918T162806Z
LAST-MODIFIED:20260123T174138Z
UID:10046960-1864288800-1864296000@gsaustin.org
SUMMARY:Nursery
DESCRIPTION:Nursery care is provided for our youngest members (under 3 years old) every Sunday during the 10:30a services on both campuses. In a warm and nurturing environment\, we will assist you in beginning to build your child’s faith foundation from the ground up. Children can be picked up at any time. We look forward to greeting you and your children for nursery care!
URL:https://gsaustin.org/event/nursery/2029-01-28/
LOCATION:Windsor Campus\, Nursery\, 3201 Windsor Road\, Austin\, TX\, 78703\, United States
CATEGORIES:Nursery,Children Youth and Family
ORGANIZER;CN="the Rev. Jonathan McManus-Dail":MAILTO:jonathan@gsaustin.org
END:VEVENT
BEGIN:VEVENT
DTSTART;TZID=America/Chicago:20290204T100000
DTEND;TZID=America/Chicago:20290204T120000
DTSTAMP:20260421T051716
CREATED:20240918T162806Z
LAST-MODIFIED:20260123T174138Z
UID:10046961-1864893600-1864900800@gsaustin.org
SUMMARY:Nursery
DESCRIPTION:Nursery care is provided for our youngest members (under 3 years old) every Sunday during the 10:30a services on both campuses. In a warm and nurturing environment\, we will assist you in beginning to build your child’s faith foundation from the ground up. Children can be picked up at any time. We look forward to greeting you and your children for nursery care!
URL:https://gsaustin.org/event/nursery/2029-02-04/
LOCATION:Windsor Campus\, Nursery\, 3201 Windsor Road\, Austin\, TX\, 78703\, United States
CATEGORIES:Nursery,Children Youth and Family
ORGANIZER;CN="the Rev. Jonathan McManus-Dail":MAILTO:jonathan@gsaustin.org
END:VEVENT
BEGIN:VEVENT
DTSTART;TZID=America/Chicago:20290211T100000
DTEND;TZID=America/Chicago:20290211T120000
DTSTAMP:20260421T051716
CREATED:20240918T162806Z
LAST-MODIFIED:20260123T174138Z
UID:10046962-1865498400-1865505600@gsaustin.org
SUMMARY:Nursery
DESCRIPTION:Nursery care is provided for our youngest members (under 3 years old) every Sunday during the 10:30a services on both campuses. In a warm and nurturing environment\, we will assist you in beginning to build your child’s faith foundation from the ground up. Children can be picked up at any time. We look forward to greeting you and your children for nursery care!
URL:https://gsaustin.org/event/nursery/2029-02-11/
LOCATION:Windsor Campus\, Nursery\, 3201 Windsor Road\, Austin\, TX\, 78703\, United States
CATEGORIES:Nursery,Children Youth and Family
ORGANIZER;CN="the Rev. Jonathan McManus-Dail":MAILTO:jonathan@gsaustin.org
END:VEVENT
BEGIN:VEVENT
DTSTART;TZID=America/Chicago:20290218T100000
DTEND;TZID=America/Chicago:20290218T120000
DTSTAMP:20260421T051716
CREATED:20240918T162806Z
LAST-MODIFIED:20260123T174138Z
UID:10046963-1866103200-1866110400@gsaustin.org
SUMMARY:Nursery
DESCRIPTION:Nursery care is provided for our youngest members (under 3 years old) every Sunday during the 10:30a services on both campuses. In a warm and nurturing environment\, we will assist you in beginning to build your child’s faith foundation from the ground up. Children can be picked up at any time. We look forward to greeting you and your children for nursery care!
URL:https://gsaustin.org/event/nursery/2029-02-18/
LOCATION:Windsor Campus\, Nursery\, 3201 Windsor Road\, Austin\, TX\, 78703\, United States
CATEGORIES:Nursery,Children Youth and Family
ORGANIZER;CN="the Rev. Jonathan McManus-Dail":MAILTO:jonathan@gsaustin.org
END:VEVENT
BEGIN:VEVENT
DTSTART;TZID=America/Chicago:20290225T100000
DTEND;TZID=America/Chicago:20290225T120000
DTSTAMP:20260421T051716
CREATED:20240918T162806Z
LAST-MODIFIED:20260123T174138Z
UID:10046964-1866708000-1866715200@gsaustin.org
SUMMARY:Nursery
DESCRIPTION:Nursery care is provided for our youngest members (under 3 years old) every Sunday during the 10:30a services on both campuses. In a warm and nurturing environment\, we will assist you in beginning to build your child’s faith foundation from the ground up. Children can be picked up at any time. We look forward to greeting you and your children for nursery care!
URL:https://gsaustin.org/event/nursery/2029-02-25/
LOCATION:Windsor Campus\, Nursery\, 3201 Windsor Road\, Austin\, TX\, 78703\, United States
CATEGORIES:Nursery,Children Youth and Family
ORGANIZER;CN="the Rev. Jonathan McManus-Dail":MAILTO:jonathan@gsaustin.org
END:VEVENT
BEGIN:VEVENT
DTSTART;TZID=America/Chicago:20290304T100000
DTEND;TZID=America/Chicago:20290304T120000
DTSTAMP:20260421T051716
CREATED:20240918T162806Z
LAST-MODIFIED:20260123T174138Z
UID:10046965-1867312800-1867320000@gsaustin.org
SUMMARY:Nursery
DESCRIPTION:Nursery care is provided for our youngest members (under 3 years old) every Sunday during the 10:30a services on both campuses. In a warm and nurturing environment\, we will assist you in beginning to build your child’s faith foundation from the ground up. Children can be picked up at any time. We look forward to greeting you and your children for nursery care!
URL:https://gsaustin.org/event/nursery/2029-03-04/
LOCATION:Windsor Campus\, Nursery\, 3201 Windsor Road\, Austin\, TX\, 78703\, United States
CATEGORIES:Nursery,Children Youth and Family
ORGANIZER;CN="the Rev. Jonathan McManus-Dail":MAILTO:jonathan@gsaustin.org
END:VEVENT
BEGIN:VEVENT
DTSTART;TZID=America/Chicago:20290311T100000
DTEND;TZID=America/Chicago:20290311T120000
DTSTAMP:20260421T051716
CREATED:20240918T162806Z
LAST-MODIFIED:20260123T174138Z
UID:10046966-1867917600-1867924800@gsaustin.org
SUMMARY:Nursery
DESCRIPTION:Nursery care is provided for our youngest members (under 3 years old) every Sunday during the 10:30a services on both campuses. In a warm and nurturing environment\, we will assist you in beginning to build your child’s faith foundation from the ground up. Children can be picked up at any time. We look forward to greeting you and your children for nursery care!
URL:https://gsaustin.org/event/nursery/2029-03-11/
LOCATION:Windsor Campus\, Nursery\, 3201 Windsor Road\, Austin\, TX\, 78703\, United States
CATEGORIES:Nursery,Children Youth and Family
ORGANIZER;CN="the Rev. Jonathan McManus-Dail":MAILTO:jonathan@gsaustin.org
END:VEVENT
BEGIN:VEVENT
DTSTART;TZID=America/Chicago:20290318T100000
DTEND;TZID=America/Chicago:20290318T120000
DTSTAMP:20260421T051716
CREATED:20240918T162806Z
LAST-MODIFIED:20260123T174138Z
UID:10046967-1868522400-1868529600@gsaustin.org
SUMMARY:Nursery
DESCRIPTION:Nursery care is provided for our youngest members (under 3 years old) every Sunday during the 10:30a services on both campuses. In a warm and nurturing environment\, we will assist you in beginning to build your child’s faith foundation from the ground up. Children can be picked up at any time. We look forward to greeting you and your children for nursery care!
URL:https://gsaustin.org/event/nursery/2029-03-18/
LOCATION:Windsor Campus\, Nursery\, 3201 Windsor Road\, Austin\, TX\, 78703\, United States
CATEGORIES:Nursery,Children Youth and Family
ORGANIZER;CN="the Rev. Jonathan McManus-Dail":MAILTO:jonathan@gsaustin.org
END:VEVENT
BEGIN:VEVENT
DTSTART;TZID=America/Chicago:20290325T100000
DTEND;TZID=America/Chicago:20290325T120000
DTSTAMP:20260421T051716
CREATED:20240918T162806Z
LAST-MODIFIED:20260123T174138Z
UID:10046968-1869127200-1869134400@gsaustin.org
SUMMARY:Nursery
DESCRIPTION:Nursery care is provided for our youngest members (under 3 years old) every Sunday during the 10:30a services on both campuses. In a warm and nurturing environment\, we will assist you in beginning to build your child’s faith foundation from the ground up. Children can be picked up at any time. We look forward to greeting you and your children for nursery care!
URL:https://gsaustin.org/event/nursery/2029-03-25/
LOCATION:Windsor Campus\, Nursery\, 3201 Windsor Road\, Austin\, TX\, 78703\, United States
CATEGORIES:Nursery,Children Youth and Family
ORGANIZER;CN="the Rev. Jonathan McManus-Dail":MAILTO:jonathan@gsaustin.org
END:VEVENT
BEGIN:VEVENT
DTSTART;TZID=America/Chicago:20290401T100000
DTEND;TZID=America/Chicago:20290401T120000
DTSTAMP:20260421T051716
CREATED:20240918T162806Z
LAST-MODIFIED:20260123T174138Z
UID:10046969-1869732000-1869739200@gsaustin.org
SUMMARY:Nursery
DESCRIPTION:Nursery care is provided for our youngest members (under 3 years old) every Sunday during the 10:30a services on both campuses. In a warm and nurturing environment\, we will assist you in beginning to build your child’s faith foundation from the ground up. Children can be picked up at any time. We look forward to greeting you and your children for nursery care!
URL:https://gsaustin.org/event/nursery/2029-04-01/
LOCATION:Windsor Campus\, Nursery\, 3201 Windsor Road\, Austin\, TX\, 78703\, United States
CATEGORIES:Nursery,Children Youth and Family
ORGANIZER;CN="the Rev. Jonathan McManus-Dail":MAILTO:jonathan@gsaustin.org
END:VEVENT
BEGIN:VEVENT
DTSTART;TZID=America/Chicago:20290408T100000
DTEND;TZID=America/Chicago:20290408T120000
DTSTAMP:20260421T051716
CREATED:20240918T162806Z
LAST-MODIFIED:20260123T174138Z
UID:10046970-1870336800-1870344000@gsaustin.org
SUMMARY:Nursery
DESCRIPTION:Nursery care is provided for our youngest members (under 3 years old) every Sunday during the 10:30a services on both campuses. In a warm and nurturing environment\, we will assist you in beginning to build your child’s faith foundation from the ground up. Children can be picked up at any time. We look forward to greeting you and your children for nursery care!
URL:https://gsaustin.org/event/nursery/2029-04-08/
LOCATION:Windsor Campus\, Nursery\, 3201 Windsor Road\, Austin\, TX\, 78703\, United States
CATEGORIES:Nursery,Children Youth and Family
ORGANIZER;CN="the Rev. Jonathan McManus-Dail":MAILTO:jonathan@gsaustin.org
END:VEVENT
BEGIN:VEVENT
DTSTART;TZID=America/Chicago:20290415T100000
DTEND;TZID=America/Chicago:20290415T120000
DTSTAMP:20260421T051716
CREATED:20240918T162806Z
LAST-MODIFIED:20260123T174138Z
UID:10046971-1870941600-1870948800@gsaustin.org
SUMMARY:Nursery
DESCRIPTION:Nursery care is provided for our youngest members (under 3 years old) every Sunday during the 10:30a services on both campuses. In a warm and nurturing environment\, we will assist you in beginning to build your child’s faith foundation from the ground up. Children can be picked up at any time. We look forward to greeting you and your children for nursery care!
URL:https://gsaustin.org/event/nursery/2029-04-15/
LOCATION:Windsor Campus\, Nursery\, 3201 Windsor Road\, Austin\, TX\, 78703\, United States
CATEGORIES:Nursery,Children Youth and Family
ORGANIZER;CN="the Rev. Jonathan McManus-Dail":MAILTO:jonathan@gsaustin.org
END:VEVENT
BEGIN:VEVENT
DTSTART;TZID=America/Chicago:20290422T100000
DTEND;TZID=America/Chicago:20290422T120000
DTSTAMP:20260421T051716
CREATED:20240918T162806Z
LAST-MODIFIED:20260123T174138Z
UID:10046972-1871546400-1871553600@gsaustin.org
SUMMARY:Nursery
DESCRIPTION:Nursery care is provided for our youngest members (under 3 years old) every Sunday during the 10:30a services on both campuses. In a warm and nurturing environment\, we will assist you in beginning to build your child’s faith foundation from the ground up. Children can be picked up at any time. We look forward to greeting you and your children for nursery care!
URL:https://gsaustin.org/event/nursery/2029-04-22/
LOCATION:Windsor Campus\, Nursery\, 3201 Windsor Road\, Austin\, TX\, 78703\, United States
CATEGORIES:Nursery,Children Youth and Family
ORGANIZER;CN="the Rev. Jonathan McManus-Dail":MAILTO:jonathan@gsaustin.org
END:VEVENT
BEGIN:VEVENT
DTSTART;TZID=America/Chicago:20290429T100000
DTEND;TZID=America/Chicago:20290429T120000
DTSTAMP:20260421T051716
CREATED:20240918T162806Z
LAST-MODIFIED:20260123T174138Z
UID:10046973-1872151200-1872158400@gsaustin.org
SUMMARY:Nursery
DESCRIPTION:Nursery care is provided for our youngest members (under 3 years old) every Sunday during the 10:30a services on both campuses. In a warm and nurturing environment\, we will assist you in beginning to build your child’s faith foundation from the ground up. Children can be picked up at any time. We look forward to greeting you and your children for nursery care!
URL:https://gsaustin.org/event/nursery/2029-04-29/
LOCATION:Windsor Campus\, Nursery\, 3201 Windsor Road\, Austin\, TX\, 78703\, United States
CATEGORIES:Nursery,Children Youth and Family
ORGANIZER;CN="the Rev. Jonathan McManus-Dail":MAILTO:jonathan@gsaustin.org
END:VEVENT
BEGIN:VEVENT
DTSTART;TZID=America/Chicago:20290506T100000
DTEND;TZID=America/Chicago:20290506T120000
DTSTAMP:20260421T051716
CREATED:20240918T162806Z
LAST-MODIFIED:20260123T174138Z
UID:10046974-1872756000-1872763200@gsaustin.org
SUMMARY:Nursery
DESCRIPTION:Nursery care is provided for our youngest members (under 3 years old) every Sunday during the 10:30a services on both campuses. In a warm and nurturing environment\, we will assist you in beginning to build your child’s faith foundation from the ground up. Children can be picked up at any time. We look forward to greeting you and your children for nursery care!
URL:https://gsaustin.org/event/nursery/2029-05-06/
LOCATION:Windsor Campus\, Nursery\, 3201 Windsor Road\, Austin\, TX\, 78703\, United States
CATEGORIES:Nursery,Children Youth and Family
ORGANIZER;CN="the Rev. Jonathan McManus-Dail":MAILTO:jonathan@gsaustin.org
END:VEVENT
BEGIN:VEVENT
DTSTART;TZID=America/Chicago:20290513T100000
DTEND;TZID=America/Chicago:20290513T120000
DTSTAMP:20260421T051716
CREATED:20240918T162806Z
LAST-MODIFIED:20260123T174138Z
UID:10046975-1873360800-1873368000@gsaustin.org
SUMMARY:Nursery
DESCRIPTION:Nursery care is provided for our youngest members (under 3 years old) every Sunday during the 10:30a services on both campuses. In a warm and nurturing environment\, we will assist you in beginning to build your child’s faith foundation from the ground up. Children can be picked up at any time. We look forward to greeting you and your children for nursery care!
URL:https://gsaustin.org/event/nursery/2029-05-13/
LOCATION:Windsor Campus\, Nursery\, 3201 Windsor Road\, Austin\, TX\, 78703\, United States
CATEGORIES:Nursery,Children Youth and Family
ORGANIZER;CN="the Rev. Jonathan McManus-Dail":MAILTO:jonathan@gsaustin.org
END:VEVENT
BEGIN:VEVENT
DTSTART;TZID=America/Chicago:20290520T100000
DTEND;TZID=America/Chicago:20290520T120000
DTSTAMP:20260421T051716
CREATED:20240918T162806Z
LAST-MODIFIED:20260123T174138Z
UID:10046976-1873965600-1873972800@gsaustin.org
SUMMARY:Nursery
DESCRIPTION:Nursery care is provided for our youngest members (under 3 years old) every Sunday during the 10:30a services on both campuses. In a warm and nurturing environment\, we will assist you in beginning to build your child’s faith foundation from the ground up. Children can be picked up at any time. We look forward to greeting you and your children for nursery care!
URL:https://gsaustin.org/event/nursery/2029-05-20/
LOCATION:Windsor Campus\, Nursery\, 3201 Windsor Road\, Austin\, TX\, 78703\, United States
CATEGORIES:Nursery,Children Youth and Family
ORGANIZER;CN="the Rev. Jonathan McManus-Dail":MAILTO:jonathan@gsaustin.org
END:VEVENT
BEGIN:VEVENT
DTSTART;TZID=America/Chicago:20290527T100000
DTEND;TZID=America/Chicago:20290527T120000
DTSTAMP:20260421T051716
CREATED:20240918T162806Z
LAST-MODIFIED:20260123T174138Z
UID:10046977-1874570400-1874577600@gsaustin.org
SUMMARY:Nursery
DESCRIPTION:Nursery care is provided for our youngest members (under 3 years old) every Sunday during the 10:30a services on both campuses. In a warm and nurturing environment\, we will assist you in beginning to build your child’s faith foundation from the ground up. Children can be picked up at any time. We look forward to greeting you and your children for nursery care!
URL:https://gsaustin.org/event/nursery/2029-05-27/
LOCATION:Windsor Campus\, Nursery\, 3201 Windsor Road\, Austin\, TX\, 78703\, United States
CATEGORIES:Nursery,Children Youth and Family
ORGANIZER;CN="the Rev. Jonathan McManus-Dail":MAILTO:jonathan@gsaustin.org
END:VEVENT
BEGIN:VEVENT
DTSTART;TZID=America/Chicago:20290603T100000
DTEND;TZID=America/Chicago:20290603T120000
DTSTAMP:20260421T051717
CREATED:20240918T162806Z
LAST-MODIFIED:20260123T174138Z
UID:10046978-1875175200-1875182400@gsaustin.org
SUMMARY:Nursery
DESCRIPTION:Nursery care is provided for our youngest members (under 3 years old) every Sunday during the 10:30a services on both campuses. In a warm and nurturing environment\, we will assist you in beginning to build your child’s faith foundation from the ground up. Children can be picked up at any time. We look forward to greeting you and your children for nursery care!
URL:https://gsaustin.org/event/nursery/2029-06-03/
LOCATION:Windsor Campus\, Nursery\, 3201 Windsor Road\, Austin\, TX\, 78703\, United States
CATEGORIES:Nursery,Children Youth and Family
ORGANIZER;CN="the Rev. Jonathan McManus-Dail":MAILTO:jonathan@gsaustin.org
END:VEVENT
BEGIN:VEVENT
DTSTART;TZID=America/Chicago:20290610T100000
DTEND;TZID=America/Chicago:20290610T120000
DTSTAMP:20260421T051717
CREATED:20240918T162806Z
LAST-MODIFIED:20260123T174138Z
UID:10046979-1875780000-1875787200@gsaustin.org
SUMMARY:Nursery
DESCRIPTION:Nursery care is provided for our youngest members (under 3 years old) every Sunday during the 10:30a services on both campuses. In a warm and nurturing environment\, we will assist you in beginning to build your child’s faith foundation from the ground up. Children can be picked up at any time. We look forward to greeting you and your children for nursery care!
URL:https://gsaustin.org/event/nursery/2029-06-10/
LOCATION:Windsor Campus\, Nursery\, 3201 Windsor Road\, Austin\, TX\, 78703\, United States
CATEGORIES:Nursery,Children Youth and Family
ORGANIZER;CN="the Rev. Jonathan McManus-Dail":MAILTO:jonathan@gsaustin.org
END:VEVENT
BEGIN:VEVENT
DTSTART;TZID=America/Chicago:20290617T100000
DTEND;TZID=America/Chicago:20290617T120000
DTSTAMP:20260421T051717
CREATED:20240918T162806Z
LAST-MODIFIED:20260123T174138Z
UID:10046980-1876384800-1876392000@gsaustin.org
SUMMARY:Nursery
DESCRIPTION:Nursery care is provided for our youngest members (under 3 years old) every Sunday during the 10:30a services on both campuses. In a warm and nurturing environment\, we will assist you in beginning to build your child’s faith foundation from the ground up. Children can be picked up at any time. We look forward to greeting you and your children for nursery care!
URL:https://gsaustin.org/event/nursery/2029-06-17/
LOCATION:Windsor Campus\, Nursery\, 3201 Windsor Road\, Austin\, TX\, 78703\, United States
CATEGORIES:Nursery,Children Youth and Family
ORGANIZER;CN="the Rev. Jonathan McManus-Dail":MAILTO:jonathan@gsaustin.org
END:VEVENT
BEGIN:VEVENT
DTSTART;TZID=America/Chicago:20290624T100000
DTEND;TZID=America/Chicago:20290624T120000
DTSTAMP:20260421T051717
CREATED:20240918T162806Z
LAST-MODIFIED:20260123T174138Z
UID:10046981-1876989600-1876996800@gsaustin.org
SUMMARY:Nursery
DESCRIPTION:Nursery care is provided for our youngest members (under 3 years old) every Sunday during the 10:30a services on both campuses. In a warm and nurturing environment\, we will assist you in beginning to build your child’s faith foundation from the ground up. Children can be picked up at any time. We look forward to greeting you and your children for nursery care!
URL:https://gsaustin.org/event/nursery/2029-06-24/
LOCATION:Windsor Campus\, Nursery\, 3201 Windsor Road\, Austin\, TX\, 78703\, United States
CATEGORIES:Nursery,Children Youth and Family
ORGANIZER;CN="the Rev. Jonathan McManus-Dail":MAILTO:jonathan@gsaustin.org
END:VEVENT
BEGIN:VEVENT
DTSTART;TZID=America/Chicago:20290701T100000
DTEND;TZID=America/Chicago:20290701T120000
DTSTAMP:20260421T051717
CREATED:20240918T162806Z
LAST-MODIFIED:20260123T174138Z
UID:10046982-1877594400-1877601600@gsaustin.org
SUMMARY:Nursery
DESCRIPTION:Nursery care is provided for our youngest members (under 3 years old) every Sunday during the 10:30a services on both campuses. In a warm and nurturing environment\, we will assist you in beginning to build your child’s faith foundation from the ground up. Children can be picked up at any time. We look forward to greeting you and your children for nursery care!
URL:https://gsaustin.org/event/nursery/2029-07-01/
LOCATION:Windsor Campus\, Nursery\, 3201 Windsor Road\, Austin\, TX\, 78703\, United States
CATEGORIES:Nursery,Children Youth and Family
ORGANIZER;CN="the Rev. Jonathan McManus-Dail":MAILTO:jonathan@gsaustin.org
END:VEVENT
BEGIN:VEVENT
DTSTART;TZID=America/Chicago:20290708T100000
DTEND;TZID=America/Chicago:20290708T120000
DTSTAMP:20260421T051717
CREATED:20240918T162806Z
LAST-MODIFIED:20260123T174138Z
UID:10046983-1878199200-1878206400@gsaustin.org
SUMMARY:Nursery
DESCRIPTION:Nursery care is provided for our youngest members (under 3 years old) every Sunday during the 10:30a services on both campuses. In a warm and nurturing environment\, we will assist you in beginning to build your child’s faith foundation from the ground up. Children can be picked up at any time. We look forward to greeting you and your children for nursery care!
URL:https://gsaustin.org/event/nursery/2029-07-08/
LOCATION:Windsor Campus\, Nursery\, 3201 Windsor Road\, Austin\, TX\, 78703\, United States
CATEGORIES:Nursery,Children Youth and Family
ORGANIZER;CN="the Rev. Jonathan McManus-Dail":MAILTO:jonathan@gsaustin.org
END:VEVENT
BEGIN:VEVENT
DTSTART;TZID=America/Chicago:20290715T100000
DTEND;TZID=America/Chicago:20290715T120000
DTSTAMP:20260421T051717
CREATED:20240918T162806Z
LAST-MODIFIED:20260123T174138Z
UID:10046984-1878804000-1878811200@gsaustin.org
SUMMARY:Nursery
DESCRIPTION:Nursery care is provided for our youngest members (under 3 years old) every Sunday during the 10:30a services on both campuses. In a warm and nurturing environment\, we will assist you in beginning to build your child’s faith foundation from the ground up. Children can be picked up at any time. We look forward to greeting you and your children for nursery care!
URL:https://gsaustin.org/event/nursery/2029-07-15/
LOCATION:Windsor Campus\, Nursery\, 3201 Windsor Road\, Austin\, TX\, 78703\, United States
CATEGORIES:Nursery,Children Youth and Family
ORGANIZER;CN="the Rev. Jonathan McManus-Dail":MAILTO:jonathan@gsaustin.org
END:VEVENT
BEGIN:VEVENT
DTSTART;TZID=America/Chicago:20290722T100000
DTEND;TZID=America/Chicago:20290722T120000
DTSTAMP:20260421T051717
CREATED:20240918T162806Z
LAST-MODIFIED:20260123T174138Z
UID:10046985-1879408800-1879416000@gsaustin.org
SUMMARY:Nursery
DESCRIPTION:Nursery care is provided for our youngest members (under 3 years old) every Sunday during the 10:30a services on both campuses. In a warm and nurturing environment\, we will assist you in beginning to build your child’s faith foundation from the ground up. Children can be picked up at any time. We look forward to greeting you and your children for nursery care!
URL:https://gsaustin.org/event/nursery/2029-07-22/
LOCATION:Windsor Campus\, Nursery\, 3201 Windsor Road\, Austin\, TX\, 78703\, United States
CATEGORIES:Nursery,Children Youth and Family
ORGANIZER;CN="the Rev. Jonathan McManus-Dail":MAILTO:jonathan@gsaustin.org
END:VEVENT
BEGIN:VEVENT
DTSTART;TZID=America/Chicago:20290729T100000
DTEND;TZID=America/Chicago:20290729T120000
DTSTAMP:20260421T051717
CREATED:20240918T162806Z
LAST-MODIFIED:20260123T174138Z
UID:10046986-1880013600-1880020800@gsaustin.org
SUMMARY:Nursery
DESCRIPTION:Nursery care is provided for our youngest members (under 3 years old) every Sunday during the 10:30a services on both campuses. In a warm and nurturing environment\, we will assist you in beginning to build your child’s faith foundation from the ground up. Children can be picked up at any time. We look forward to greeting you and your children for nursery care!
URL:https://gsaustin.org/event/nursery/2029-07-29/
LOCATION:Windsor Campus\, Nursery\, 3201 Windsor Road\, Austin\, TX\, 78703\, United States
CATEGORIES:Nursery,Children Youth and Family
ORGANIZER;CN="the Rev. Jonathan McManus-Dail":MAILTO:jonathan@gsaustin.org
END:VEVENT
BEGIN:VEVENT
DTSTART;TZID=America/Chicago:20290805T100000
DTEND;TZID=America/Chicago:20290805T120000
DTSTAMP:20260421T051717
CREATED:20240918T162806Z
LAST-MODIFIED:20260123T174138Z
UID:10046987-1880618400-1880625600@gsaustin.org
SUMMARY:Nursery
DESCRIPTION:Nursery care is provided for our youngest members (under 3 years old) every Sunday during the 10:30a services on both campuses. In a warm and nurturing environment\, we will assist you in beginning to build your child’s faith foundation from the ground up. Children can be picked up at any time. We look forward to greeting you and your children for nursery care!
URL:https://gsaustin.org/event/nursery/2029-08-05/
LOCATION:Windsor Campus\, Nursery\, 3201 Windsor Road\, Austin\, TX\, 78703\, United States
CATEGORIES:Nursery,Children Youth and Family
ORGANIZER;CN="the Rev. Jonathan McManus-Dail":MAILTO:jonathan@gsaustin.org
END:VEVENT
BEGIN:VEVENT
DTSTART;TZID=America/Chicago:20290812T100000
DTEND;TZID=America/Chicago:20290812T120000
DTSTAMP:20260421T051717
CREATED:20240918T162806Z
LAST-MODIFIED:20260123T174138Z
UID:10046988-1881223200-1881230400@gsaustin.org
SUMMARY:Nursery
DESCRIPTION:Nursery care is provided for our youngest members (under 3 years old) every Sunday during the 10:30a services on both campuses. In a warm and nurturing environment\, we will assist you in beginning to build your child’s faith foundation from the ground up. Children can be picked up at any time. We look forward to greeting you and your children for nursery care!
URL:https://gsaustin.org/event/nursery/2029-08-12/
LOCATION:Windsor Campus\, Nursery\, 3201 Windsor Road\, Austin\, TX\, 78703\, United States
CATEGORIES:Nursery,Children Youth and Family
ORGANIZER;CN="the Rev. Jonathan McManus-Dail":MAILTO:jonathan@gsaustin.org
END:VEVENT
END:VCALENDAR