BEGIN:VCALENDAR
VERSION:2.0
PRODID:-//The Episcopal Church of the Good Shepherd - ECPv6.15.18//NONSGML v1.0//EN
CALSCALE:GREGORIAN
METHOD:PUBLISH
X-ORIGINAL-URL:https://gsaustin.org
X-WR-CALDESC:Events for The Episcopal Church of the Good Shepherd
REFRESH-INTERVAL;VALUE=DURATION:PT1H
X-Robots-Tag:noindex
X-PUBLISHED-TTL:PT1H
BEGIN:VTIMEZONE
TZID:America/Chicago
BEGIN:DAYLIGHT
TZOFFSETFROM:-0600
TZOFFSETTO:-0500
TZNAME:CDT
DTSTART:20250309T080000
END:DAYLIGHT
BEGIN:STANDARD
TZOFFSETFROM:-0500
TZOFFSETTO:-0600
TZNAME:CST
DTSTART:20251102T070000
END:STANDARD
BEGIN:DAYLIGHT
TZOFFSETFROM:-0600
TZOFFSETTO:-0500
TZNAME:CDT
DTSTART:20260308T080000
END:DAYLIGHT
BEGIN:STANDARD
TZOFFSETFROM:-0500
TZOFFSETTO:-0600
TZNAME:CST
DTSTART:20261101T070000
END:STANDARD
BEGIN:DAYLIGHT
TZOFFSETFROM:-0600
TZOFFSETTO:-0500
TZNAME:CDT
DTSTART:20270314T080000
END:DAYLIGHT
BEGIN:STANDARD
TZOFFSETFROM:-0500
TZOFFSETTO:-0600
TZNAME:CST
DTSTART:20271107T070000
END:STANDARD
END:VTIMEZONE
BEGIN:VEVENT
DTSTART;TZID=America/Chicago:20260212T093000
DTEND;TZID=America/Chicago:20260212T110000
DTSTAMP:20260420T185018
CREATED:20250428T180201Z
LAST-MODIFIED:20260326T202847Z
UID:10049438-1770888600-1770894000@gsaustin.org
SUMMARY:Thursday Bible Study: We Believe - A Study of the Nicene Creed
DESCRIPTION:Join us this spring for a thoughtful exploration of the Nicene Creed\, the ancient statement of faith Christians still proclaim each Sunday. Using a variety of texts we will explore how the creed emerged\, what it means\, and why it still matters for Christian belief\, worship\, and daily life. Contact the Rev. Brin Bon for more information or to get the link to join on Zoom.
URL:https://gsaustin.org/event/thursday-bible-study/2026-02-12/
LOCATION:Windsor Campus\, Vestry Room\, 3201 Windsor Road\, Austin\, TX\, 78703\, United States
CATEGORIES:Adult Formation,Featured Events
ATTACH;FMTTYPE=image/png:https://gsaustin.org/wp-content/uploads/2024/09/2024_ThursdayBibleStudy_Event.png
ORGANIZER;CN="The Rev. Brin Bon":MAILTO:brin@gsaustin.org
END:VEVENT
BEGIN:VEVENT
DTSTART;TZID=America/Chicago:20260212T183000
DTEND;TZID=America/Chicago:20260212T200000
DTSTAMP:20260420T185018
CREATED:20240124T181659Z
LAST-MODIFIED:20260130T203524Z
UID:10050358-1770921000-1770926400@gsaustin.org
SUMMARY:Valentine's Party with North Loop Apartments
DESCRIPTION:Help us share the love with our neighbors at North Loop\, a HACA community for older adults and disabled individuals. Join us for a Valentine’s party from 12:00p–2:00p with crafts\, treats\, and a lively game of Bingo! Volunteers elementary-age and up are encouraged to sign up with their parents.For more information\, please contact the Rev. Ryan Boettcher. \nWe need your help to bring some love to our friends at North Loop Apartments! All donations need to be dropped off at church by Tuesday\, February 10 at 4:00p. \nTo sign up to volunteer or donate\, please click HERE. \n 
URL:https://gsaustin.org/event/valentines-party-north-loop/
CATEGORIES:Featured Events,Outreach
ATTACH;FMTTYPE=image/png:https://gsaustin.org/wp-content/uploads/2024/01/NorthLoopValentine_Event.png
ORGANIZER;CN="The Rev. Ryan Boettcher":MAILTO:ryan@gsaustin.org
END:VEVENT
BEGIN:VEVENT
DTSTART;TZID=America/Chicago:20260212T190000
DTEND;TZID=America/Chicago:20260212T201500
DTSTAMP:20260420T185018
CREATED:20251222T192911Z
LAST-MODIFIED:20260408T202709Z
UID:10050127-1770922800-1770927300@gsaustin.org
SUMMARY:Good Shepherd's 20s and 30s Bible Study: 1-2 Corinthians
DESCRIPTION:Join young adults in the Hill’s parish hall (1700 Woodland Ave) for a drop-in study on Paul’s letters to the Church in Corinth. No preparation needed – just bring yourself (and your favorite Bible if you have one). Cookies and drinks will be provided. We will end our time together with a brief service of Compline (night prayer). We meet on Thursdays from 7:00p–8:15p at the Hill\, parish hall. For more information\, please contact the Rev. Leah Wise.
URL:https://gsaustin.org/event/young-adults-bible-study/2026-02-12/
LOCATION:The Hill\, 1700 Woodland Avenue\, Austin\, 78741\, United States
CATEGORIES:Featured Events,The Hill
ATTACH;FMTTYPE=image/png:https://gsaustin.org/wp-content/uploads/2025/12/2026-03_YABibleStudy.png
ORGANIZER;CN="The Rev. Leah Wise":MAILTO:leah@gsaustin.org
END:VEVENT
END:VCALENDAR