BEGIN:VCALENDAR
VERSION:2.0
PRODID:-//The Episcopal Church of the Good Shepherd - ECPv6.15.18//NONSGML v1.0//EN
CALSCALE:GREGORIAN
METHOD:PUBLISH
X-ORIGINAL-URL:https://gsaustin.org
X-WR-CALDESC:Events for The Episcopal Church of the Good Shepherd
REFRESH-INTERVAL;VALUE=DURATION:PT1H
X-Robots-Tag:noindex
X-PUBLISHED-TTL:PT1H
BEGIN:VTIMEZONE
TZID:America/Chicago
BEGIN:DAYLIGHT
TZOFFSETFROM:-0600
TZOFFSETTO:-0500
TZNAME:CDT
DTSTART:20250309T080000
END:DAYLIGHT
BEGIN:STANDARD
TZOFFSETFROM:-0500
TZOFFSETTO:-0600
TZNAME:CST
DTSTART:20251102T070000
END:STANDARD
BEGIN:DAYLIGHT
TZOFFSETFROM:-0600
TZOFFSETTO:-0500
TZNAME:CDT
DTSTART:20260308T080000
END:DAYLIGHT
BEGIN:STANDARD
TZOFFSETFROM:-0500
TZOFFSETTO:-0600
TZNAME:CST
DTSTART:20261101T070000
END:STANDARD
BEGIN:DAYLIGHT
TZOFFSETFROM:-0600
TZOFFSETTO:-0500
TZNAME:CDT
DTSTART:20270314T080000
END:DAYLIGHT
BEGIN:STANDARD
TZOFFSETFROM:-0500
TZOFFSETTO:-0600
TZNAME:CST
DTSTART:20271107T070000
END:STANDARD
END:VTIMEZONE
BEGIN:VEVENT
DTSTART;VALUE=DATE:20260218
DTEND;VALUE=DATE:20260312
DTSTAMP:20260423T032454
CREATED:20220309T003123Z
LAST-MODIFIED:20260219T192503Z
UID:10050680-1771372800-1773273599@gsaustin.org
SUMMARY:Easter Flowers & Music Donations
DESCRIPTION:Your donations during the Lenten season help make our Easter ceremony beautiful on both campuses. We appreciate your donations to help make this happen each year. \n\nDonate in honor or memory of a loved one by clicking here or visiting Windsor’s administration office. \n\nTo be recognized in the Easter Day bulletin\, the parish office must receive your donation by Wednesday\, March 11 at noon.
URL:https://gsaustin.org/event/easter-flower-music-donation/
LOCATION:Both Campuses\, Austin\, TX\, United States
CATEGORIES:Featured Events,Easter
ATTACH;FMTTYPE=image/png:https://gsaustin.org/wp-content/uploads/2022/03/2025_Easter-FlowerDonations_Event.png
ORGANIZER;CN="Dawn Kaberline":MAILTO:dawn@gsaustin.org
END:VEVENT
BEGIN:VEVENT
DTSTART;TZID=America/Chicago:20260226T093000
DTEND;TZID=America/Chicago:20260226T110000
DTSTAMP:20260423T032454
CREATED:20250428T180201Z
LAST-MODIFIED:20260326T202847Z
UID:10049440-1772098200-1772103600@gsaustin.org
SUMMARY:Thursday Bible Study: We Believe - A Study of the Nicene Creed
DESCRIPTION:Join us this spring for a thoughtful exploration of the Nicene Creed\, the ancient statement of faith Christians still proclaim each Sunday. Using a variety of texts we will explore how the creed emerged\, what it means\, and why it still matters for Christian belief\, worship\, and daily life. Contact the Rev. Brin Bon for more information or to get the link to join on Zoom.
URL:https://gsaustin.org/event/thursday-bible-study/2026-02-26/
LOCATION:Windsor Campus\, Vestry Room\, 3201 Windsor Road\, Austin\, TX\, 78703\, United States
CATEGORIES:Adult Formation,Featured Events
ATTACH;FMTTYPE=image/png:https://gsaustin.org/wp-content/uploads/2024/09/2024_ThursdayBibleStudy_Event.png
ORGANIZER;CN="The Rev. Brin Bon":MAILTO:brin@gsaustin.org
END:VEVENT
BEGIN:VEVENT
DTSTART;TZID=America/Chicago:20260226T121500
DTEND;TZID=America/Chicago:20260226T124500
DTSTAMP:20260423T032454
CREATED:20260202T164807Z
LAST-MODIFIED:20260319T193541Z
UID:10048036-1772108100-1772109900@gsaustin.org
SUMMARY:Lenten Organ Recitals
DESCRIPTION:30-minute organ recitals are offered on Thursdays in Lent\, featuring fine organists from the Austin area. The concerts are freeand open to the public\, with donations gratefully accepted. The recitals will also be live-streamed on the GS websiteand Facebook page. \n\nFebruary 26 – Dr. Midori Ataka\nMarch 5 – Chris Gugleta\nMarch 12 – Dr. Jill Nennmann\nMarch 19 – Gregory Eaton\nMarch 26 – Sheryl Sabo
URL:https://gsaustin.org/event/lenten-organ-recitals/2026-02-26/
LOCATION:Windsor Campus\, Nave\, 3201 Windsor Road\, Austin\, 78703
CATEGORIES:Featured Events
ATTACH;FMTTYPE=image/png:https://gsaustin.org/wp-content/uploads/2024/01/2024-02_LentenOrganRecital_Event.png
ORGANIZER;CN="Chris Oelkers":MAILTO:chris@gsaustin.org
END:VEVENT
BEGIN:VEVENT
DTSTART;TZID=America/Chicago:20260226T190000
DTEND;TZID=America/Chicago:20260226T201500
DTSTAMP:20260423T032454
CREATED:20251222T192911Z
LAST-MODIFIED:20260408T202709Z
UID:10050622-1772132400-1772136900@gsaustin.org
SUMMARY:Good Shepherd's 20s and 30s Bible Study: 1-2 Corinthians
DESCRIPTION:Join young adults in the Hill’s parish hall (1700 Woodland Ave) for a drop-in study on Paul’s letters to the Church in Corinth. No preparation needed – just bring yourself (and your favorite Bible if you have one). Cookies and drinks will be provided. We will end our time together with a brief service of Compline (night prayer). We meet on Thursdays from 7:00p–8:15p at the Hill\, parish hall. For more information\, please contact the Rev. Leah Wise.
URL:https://gsaustin.org/event/young-adults-bible-study/2026-02-26/
LOCATION:The Hill\, 1700 Woodland Avenue\, Austin\, 78741\, United States
CATEGORIES:Featured Events,The Hill
ATTACH;FMTTYPE=image/png:https://gsaustin.org/wp-content/uploads/2025/12/2026-03_YABibleStudy.png
ORGANIZER;CN="The Rev. Leah Wise":MAILTO:leah@gsaustin.org
END:VEVENT
END:VCALENDAR