BEGIN:VCALENDAR
VERSION:2.0
PRODID:-//The Episcopal Church of the Good Shepherd - ECPv6.15.18//NONSGML v1.0//EN
CALSCALE:GREGORIAN
METHOD:PUBLISH
X-WR-CALNAME:The Episcopal Church of the Good Shepherd
X-ORIGINAL-URL:https://gsaustin.org
X-WR-CALDESC:Events for The Episcopal Church of the Good Shepherd
REFRESH-INTERVAL;VALUE=DURATION:PT1H
X-Robots-Tag:noindex
X-PUBLISHED-TTL:PT1H
BEGIN:VTIMEZONE
TZID:America/Chicago
BEGIN:DAYLIGHT
TZOFFSETFROM:-0600
TZOFFSETTO:-0500
TZNAME:CDT
DTSTART:20250309T080000
END:DAYLIGHT
BEGIN:STANDARD
TZOFFSETFROM:-0500
TZOFFSETTO:-0600
TZNAME:CST
DTSTART:20251102T070000
END:STANDARD
BEGIN:DAYLIGHT
TZOFFSETFROM:-0600
TZOFFSETTO:-0500
TZNAME:CDT
DTSTART:20260308T080000
END:DAYLIGHT
BEGIN:STANDARD
TZOFFSETFROM:-0500
TZOFFSETTO:-0600
TZNAME:CST
DTSTART:20261101T070000
END:STANDARD
BEGIN:DAYLIGHT
TZOFFSETFROM:-0600
TZOFFSETTO:-0500
TZNAME:CDT
DTSTART:20270314T080000
END:DAYLIGHT
BEGIN:STANDARD
TZOFFSETFROM:-0500
TZOFFSETTO:-0600
TZNAME:CST
DTSTART:20271107T070000
END:STANDARD
END:VTIMEZONE
BEGIN:VEVENT
DTSTART;TZID=America/Chicago:20260217T173000
DTEND;TZID=America/Chicago:20260217T200000
DTSTAMP:20260420T110357
CREATED:20260109T154958Z
LAST-MODIFIED:20260203T035636Z
UID:10050189-1771349400-1771358400@gsaustin.org
SUMMARY:Mardi Gras Pancake Dinner at the Hill
DESCRIPTION:Come one\, come all to the Hill in celebration of Shrove Tuesday & Mardi Gras! A long tradition of the church\, on the day before Lent begins\, people use up their rich foods in preparation for a season of fasting. This year\, the Hill & Hillside will celebrate this tradition with a delicious “breakfast for dinner” pancake dinner with all the fixins.
URL:https://gsaustin.org/event/mardi-gras-the-hill/
LOCATION:The Hill\, Parish Hall\, 1700 Woodland Avenue\, Austin\, TX\, 78741\, United States
CATEGORIES:The Hill,Parish Life,Lent,Hillside
ATTACH;FMTTYPE=image/png:https://gsaustin.org/wp-content/uploads/2026/01/2026-02_PancakeDinner_Event.png
ORGANIZER;CN="The Rev. Leah Wise":MAILTO:leah@gsaustin.org
END:VEVENT
END:VCALENDAR