BEGIN:VCALENDAR
VERSION:2.0
PRODID:-//The Episcopal Church of the Good Shepherd - ECPv6.15.18//NONSGML v1.0//EN
CALSCALE:GREGORIAN
METHOD:PUBLISH
X-ORIGINAL-URL:https://gsaustin.org
X-WR-CALDESC:Events for The Episcopal Church of the Good Shepherd
REFRESH-INTERVAL;VALUE=DURATION:PT1H
X-Robots-Tag:noindex
X-PUBLISHED-TTL:PT1H
BEGIN:VTIMEZONE
TZID:America/Chicago
BEGIN:DAYLIGHT
TZOFFSETFROM:-0600
TZOFFSETTO:-0500
TZNAME:CDT
DTSTART:20260308T080000
END:DAYLIGHT
BEGIN:STANDARD
TZOFFSETFROM:-0500
TZOFFSETTO:-0600
TZNAME:CST
DTSTART:20261101T070000
END:STANDARD
BEGIN:DAYLIGHT
TZOFFSETFROM:-0600
TZOFFSETTO:-0500
TZNAME:CDT
DTSTART:20270314T080000
END:DAYLIGHT
BEGIN:STANDARD
TZOFFSETFROM:-0500
TZOFFSETTO:-0600
TZNAME:CST
DTSTART:20271107T070000
END:STANDARD
BEGIN:DAYLIGHT
TZOFFSETFROM:-0600
TZOFFSETTO:-0500
TZNAME:CDT
DTSTART:20280312T080000
END:DAYLIGHT
BEGIN:STANDARD
TZOFFSETFROM:-0500
TZOFFSETTO:-0600
TZNAME:CST
DTSTART:20281105T070000
END:STANDARD
END:VTIMEZONE
BEGIN:VEVENT
DTSTART;TZID=America/Chicago:20270502T091500
DTEND;TZID=America/Chicago:20270502T100000
DTSTAMP:20260421T193022
CREATED:20220328T182320Z
LAST-MODIFIED:20260311T163949Z
UID:10036293-1809249300-1809252000@gsaustin.org
SUMMARY:Early Church: Holy Eucharist
DESCRIPTION:Please join us for our Sunday morning service Early Church in the PLC. \nWith special attention to children ages 8 years and younger\, this service will be shorter in duration\, including a brief sermon. \nIf your child would like to participate as an usher or reader\, or you have any questions\, please contact the Rev. Brin Bon.
URL:https://gsaustin.org/event/early-church/2027-05-02/
LOCATION:Windsor Campus\, Parish Life Center (PLC)\, 3201 Windsor Road\, Austin\, TX\, 78703\, United States
CATEGORIES:kids youth and family,Kids,Youth Ministry,Worship,Holy Week
ORGANIZER;CN="The Rev. Brin Bon":MAILTO:brin@gsaustin.org
END:VEVENT
BEGIN:VEVENT
DTSTART;TZID=America/Chicago:20270509T091500
DTEND;TZID=America/Chicago:20270509T100000
DTSTAMP:20260421T193022
CREATED:20220328T182320Z
LAST-MODIFIED:20260311T163949Z
UID:10036294-1809854100-1809856800@gsaustin.org
SUMMARY:Early Church: Holy Eucharist
DESCRIPTION:Please join us for our Sunday morning service Early Church in the PLC. \nWith special attention to children ages 8 years and younger\, this service will be shorter in duration\, including a brief sermon. \nIf your child would like to participate as an usher or reader\, or you have any questions\, please contact the Rev. Brin Bon.
URL:https://gsaustin.org/event/early-church/2027-05-09/
LOCATION:Windsor Campus\, Parish Life Center (PLC)\, 3201 Windsor Road\, Austin\, TX\, 78703\, United States
CATEGORIES:kids youth and family,Kids,Youth Ministry,Worship,Holy Week
ORGANIZER;CN="The Rev. Brin Bon":MAILTO:brin@gsaustin.org
END:VEVENT
BEGIN:VEVENT
DTSTART;TZID=America/Chicago:20270516T091500
DTEND;TZID=America/Chicago:20270516T100000
DTSTAMP:20260421T193022
CREATED:20220328T182320Z
LAST-MODIFIED:20260311T163949Z
UID:10036295-1810458900-1810461600@gsaustin.org
SUMMARY:Early Church: Holy Eucharist
DESCRIPTION:Please join us for our Sunday morning service Early Church in the PLC. \nWith special attention to children ages 8 years and younger\, this service will be shorter in duration\, including a brief sermon. \nIf your child would like to participate as an usher or reader\, or you have any questions\, please contact the Rev. Brin Bon.
URL:https://gsaustin.org/event/early-church/2027-05-16/
LOCATION:Windsor Campus\, Parish Life Center (PLC)\, 3201 Windsor Road\, Austin\, TX\, 78703\, United States
CATEGORIES:kids youth and family,Kids,Youth Ministry,Worship,Holy Week
ORGANIZER;CN="The Rev. Brin Bon":MAILTO:brin@gsaustin.org
END:VEVENT
BEGIN:VEVENT
DTSTART;TZID=America/Chicago:20270523T091500
DTEND;TZID=America/Chicago:20270523T100000
DTSTAMP:20260421T193023
CREATED:20220328T182320Z
LAST-MODIFIED:20260311T163949Z
UID:10036296-1811063700-1811066400@gsaustin.org
SUMMARY:Early Church: Holy Eucharist
DESCRIPTION:Please join us for our Sunday morning service Early Church in the PLC. \nWith special attention to children ages 8 years and younger\, this service will be shorter in duration\, including a brief sermon. \nIf your child would like to participate as an usher or reader\, or you have any questions\, please contact the Rev. Brin Bon.
URL:https://gsaustin.org/event/early-church/2027-05-23/
LOCATION:Windsor Campus\, Parish Life Center (PLC)\, 3201 Windsor Road\, Austin\, TX\, 78703\, United States
CATEGORIES:kids youth and family,Kids,Youth Ministry,Worship,Holy Week
ORGANIZER;CN="The Rev. Brin Bon":MAILTO:brin@gsaustin.org
END:VEVENT
BEGIN:VEVENT
DTSTART;TZID=America/Chicago:20270530T091500
DTEND;TZID=America/Chicago:20270530T100000
DTSTAMP:20260421T193023
CREATED:20220328T182320Z
LAST-MODIFIED:20260311T163949Z
UID:10036297-1811668500-1811671200@gsaustin.org
SUMMARY:Early Church: Holy Eucharist
DESCRIPTION:Please join us for our Sunday morning service Early Church in the PLC. \nWith special attention to children ages 8 years and younger\, this service will be shorter in duration\, including a brief sermon. \nIf your child would like to participate as an usher or reader\, or you have any questions\, please contact the Rev. Brin Bon.
URL:https://gsaustin.org/event/early-church/2027-05-30/
LOCATION:Windsor Campus\, Parish Life Center (PLC)\, 3201 Windsor Road\, Austin\, TX\, 78703\, United States
CATEGORIES:kids youth and family,Kids,Youth Ministry,Worship,Holy Week
ORGANIZER;CN="The Rev. Brin Bon":MAILTO:brin@gsaustin.org
END:VEVENT
BEGIN:VEVENT
DTSTART;TZID=America/Chicago:20270606T091500
DTEND;TZID=America/Chicago:20270606T100000
DTSTAMP:20260421T193023
CREATED:20220328T182320Z
LAST-MODIFIED:20260311T163949Z
UID:10036298-1812273300-1812276000@gsaustin.org
SUMMARY:Early Church: Holy Eucharist
DESCRIPTION:Please join us for our Sunday morning service Early Church in the PLC. \nWith special attention to children ages 8 years and younger\, this service will be shorter in duration\, including a brief sermon. \nIf your child would like to participate as an usher or reader\, or you have any questions\, please contact the Rev. Brin Bon.
URL:https://gsaustin.org/event/early-church/2027-06-06/
LOCATION:Windsor Campus\, Parish Life Center (PLC)\, 3201 Windsor Road\, Austin\, TX\, 78703\, United States
CATEGORIES:kids youth and family,Kids,Youth Ministry,Worship,Holy Week
ORGANIZER;CN="The Rev. Brin Bon":MAILTO:brin@gsaustin.org
END:VEVENT
BEGIN:VEVENT
DTSTART;TZID=America/Chicago:20270613T091500
DTEND;TZID=America/Chicago:20270613T100000
DTSTAMP:20260421T193023
CREATED:20220328T182320Z
LAST-MODIFIED:20260311T163949Z
UID:10036299-1812878100-1812880800@gsaustin.org
SUMMARY:Early Church: Holy Eucharist
DESCRIPTION:Please join us for our Sunday morning service Early Church in the PLC. \nWith special attention to children ages 8 years and younger\, this service will be shorter in duration\, including a brief sermon. \nIf your child would like to participate as an usher or reader\, or you have any questions\, please contact the Rev. Brin Bon.
URL:https://gsaustin.org/event/early-church/2027-06-13/
LOCATION:Windsor Campus\, Parish Life Center (PLC)\, 3201 Windsor Road\, Austin\, TX\, 78703\, United States
CATEGORIES:kids youth and family,Kids,Youth Ministry,Worship,Holy Week
ORGANIZER;CN="The Rev. Brin Bon":MAILTO:brin@gsaustin.org
END:VEVENT
BEGIN:VEVENT
DTSTART;TZID=America/Chicago:20270620T091500
DTEND;TZID=America/Chicago:20270620T100000
DTSTAMP:20260421T193023
CREATED:20220328T182320Z
LAST-MODIFIED:20260311T163949Z
UID:10036300-1813482900-1813485600@gsaustin.org
SUMMARY:Early Church: Holy Eucharist
DESCRIPTION:Please join us for our Sunday morning service Early Church in the PLC. \nWith special attention to children ages 8 years and younger\, this service will be shorter in duration\, including a brief sermon. \nIf your child would like to participate as an usher or reader\, or you have any questions\, please contact the Rev. Brin Bon.
URL:https://gsaustin.org/event/early-church/2027-06-20/
LOCATION:Windsor Campus\, Parish Life Center (PLC)\, 3201 Windsor Road\, Austin\, TX\, 78703\, United States
CATEGORIES:kids youth and family,Kids,Youth Ministry,Worship,Holy Week
ORGANIZER;CN="The Rev. Brin Bon":MAILTO:brin@gsaustin.org
END:VEVENT
BEGIN:VEVENT
DTSTART;TZID=America/Chicago:20270627T091500
DTEND;TZID=America/Chicago:20270627T100000
DTSTAMP:20260421T193023
CREATED:20220328T182320Z
LAST-MODIFIED:20260311T163949Z
UID:10036301-1814087700-1814090400@gsaustin.org
SUMMARY:Early Church: Holy Eucharist
DESCRIPTION:Please join us for our Sunday morning service Early Church in the PLC. \nWith special attention to children ages 8 years and younger\, this service will be shorter in duration\, including a brief sermon. \nIf your child would like to participate as an usher or reader\, or you have any questions\, please contact the Rev. Brin Bon.
URL:https://gsaustin.org/event/early-church/2027-06-27/
LOCATION:Windsor Campus\, Parish Life Center (PLC)\, 3201 Windsor Road\, Austin\, TX\, 78703\, United States
CATEGORIES:kids youth and family,Kids,Youth Ministry,Worship,Holy Week
ORGANIZER;CN="The Rev. Brin Bon":MAILTO:brin@gsaustin.org
END:VEVENT
BEGIN:VEVENT
DTSTART;TZID=America/Chicago:20270704T091500
DTEND;TZID=America/Chicago:20270704T100000
DTSTAMP:20260421T193023
CREATED:20220328T182320Z
LAST-MODIFIED:20260311T163949Z
UID:10036302-1814692500-1814695200@gsaustin.org
SUMMARY:Early Church: Holy Eucharist
DESCRIPTION:Please join us for our Sunday morning service Early Church in the PLC. \nWith special attention to children ages 8 years and younger\, this service will be shorter in duration\, including a brief sermon. \nIf your child would like to participate as an usher or reader\, or you have any questions\, please contact the Rev. Brin Bon.
URL:https://gsaustin.org/event/early-church/2027-07-04/
LOCATION:Windsor Campus\, Parish Life Center (PLC)\, 3201 Windsor Road\, Austin\, TX\, 78703\, United States
CATEGORIES:kids youth and family,Kids,Youth Ministry,Worship,Holy Week
ORGANIZER;CN="The Rev. Brin Bon":MAILTO:brin@gsaustin.org
END:VEVENT
BEGIN:VEVENT
DTSTART;TZID=America/Chicago:20270711T091500
DTEND;TZID=America/Chicago:20270711T100000
DTSTAMP:20260421T193023
CREATED:20220328T182320Z
LAST-MODIFIED:20260311T163949Z
UID:10036303-1815297300-1815300000@gsaustin.org
SUMMARY:Early Church: Holy Eucharist
DESCRIPTION:Please join us for our Sunday morning service Early Church in the PLC. \nWith special attention to children ages 8 years and younger\, this service will be shorter in duration\, including a brief sermon. \nIf your child would like to participate as an usher or reader\, or you have any questions\, please contact the Rev. Brin Bon.
URL:https://gsaustin.org/event/early-church/2027-07-11/
LOCATION:Windsor Campus\, Parish Life Center (PLC)\, 3201 Windsor Road\, Austin\, TX\, 78703\, United States
CATEGORIES:kids youth and family,Kids,Youth Ministry,Worship,Holy Week
ORGANIZER;CN="The Rev. Brin Bon":MAILTO:brin@gsaustin.org
END:VEVENT
BEGIN:VEVENT
DTSTART;TZID=America/Chicago:20270718T091500
DTEND;TZID=America/Chicago:20270718T100000
DTSTAMP:20260421T193023
CREATED:20220328T182320Z
LAST-MODIFIED:20260311T163949Z
UID:10036304-1815902100-1815904800@gsaustin.org
SUMMARY:Early Church: Holy Eucharist
DESCRIPTION:Please join us for our Sunday morning service Early Church in the PLC. \nWith special attention to children ages 8 years and younger\, this service will be shorter in duration\, including a brief sermon. \nIf your child would like to participate as an usher or reader\, or you have any questions\, please contact the Rev. Brin Bon.
URL:https://gsaustin.org/event/early-church/2027-07-18/
LOCATION:Windsor Campus\, Parish Life Center (PLC)\, 3201 Windsor Road\, Austin\, TX\, 78703\, United States
CATEGORIES:kids youth and family,Kids,Youth Ministry,Worship,Holy Week
ORGANIZER;CN="The Rev. Brin Bon":MAILTO:brin@gsaustin.org
END:VEVENT
BEGIN:VEVENT
DTSTART;TZID=America/Chicago:20270725T091500
DTEND;TZID=America/Chicago:20270725T100000
DTSTAMP:20260421T193023
CREATED:20220328T182320Z
LAST-MODIFIED:20260311T163949Z
UID:10036305-1816506900-1816509600@gsaustin.org
SUMMARY:Early Church: Holy Eucharist
DESCRIPTION:Please join us for our Sunday morning service Early Church in the PLC. \nWith special attention to children ages 8 years and younger\, this service will be shorter in duration\, including a brief sermon. \nIf your child would like to participate as an usher or reader\, or you have any questions\, please contact the Rev. Brin Bon.
URL:https://gsaustin.org/event/early-church/2027-07-25/
LOCATION:Windsor Campus\, Parish Life Center (PLC)\, 3201 Windsor Road\, Austin\, TX\, 78703\, United States
CATEGORIES:kids youth and family,Kids,Youth Ministry,Worship,Holy Week
ORGANIZER;CN="The Rev. Brin Bon":MAILTO:brin@gsaustin.org
END:VEVENT
BEGIN:VEVENT
DTSTART;TZID=America/Chicago:20270801T091500
DTEND;TZID=America/Chicago:20270801T100000
DTSTAMP:20260421T193023
CREATED:20220328T182320Z
LAST-MODIFIED:20260311T163949Z
UID:10036306-1817111700-1817114400@gsaustin.org
SUMMARY:Early Church: Holy Eucharist
DESCRIPTION:Please join us for our Sunday morning service Early Church in the PLC. \nWith special attention to children ages 8 years and younger\, this service will be shorter in duration\, including a brief sermon. \nIf your child would like to participate as an usher or reader\, or you have any questions\, please contact the Rev. Brin Bon.
URL:https://gsaustin.org/event/early-church/2027-08-01/
LOCATION:Windsor Campus\, Parish Life Center (PLC)\, 3201 Windsor Road\, Austin\, TX\, 78703\, United States
CATEGORIES:kids youth and family,Kids,Youth Ministry,Worship,Holy Week
ORGANIZER;CN="The Rev. Brin Bon":MAILTO:brin@gsaustin.org
END:VEVENT
BEGIN:VEVENT
DTSTART;TZID=America/Chicago:20270808T091500
DTEND;TZID=America/Chicago:20270808T100000
DTSTAMP:20260421T193023
CREATED:20220328T182320Z
LAST-MODIFIED:20260311T163949Z
UID:10036307-1817716500-1817719200@gsaustin.org
SUMMARY:Early Church: Holy Eucharist
DESCRIPTION:Please join us for our Sunday morning service Early Church in the PLC. \nWith special attention to children ages 8 years and younger\, this service will be shorter in duration\, including a brief sermon. \nIf your child would like to participate as an usher or reader\, or you have any questions\, please contact the Rev. Brin Bon.
URL:https://gsaustin.org/event/early-church/2027-08-08/
LOCATION:Windsor Campus\, Parish Life Center (PLC)\, 3201 Windsor Road\, Austin\, TX\, 78703\, United States
CATEGORIES:kids youth and family,Kids,Youth Ministry,Worship,Holy Week
ORGANIZER;CN="The Rev. Brin Bon":MAILTO:brin@gsaustin.org
END:VEVENT
BEGIN:VEVENT
DTSTART;TZID=America/Chicago:20270815T091500
DTEND;TZID=America/Chicago:20270815T100000
DTSTAMP:20260421T193023
CREATED:20220328T182320Z
LAST-MODIFIED:20260311T163949Z
UID:10036308-1818321300-1818324000@gsaustin.org
SUMMARY:Early Church: Holy Eucharist
DESCRIPTION:Please join us for our Sunday morning service Early Church in the PLC. \nWith special attention to children ages 8 years and younger\, this service will be shorter in duration\, including a brief sermon. \nIf your child would like to participate as an usher or reader\, or you have any questions\, please contact the Rev. Brin Bon.
URL:https://gsaustin.org/event/early-church/2027-08-15/
LOCATION:Windsor Campus\, Parish Life Center (PLC)\, 3201 Windsor Road\, Austin\, TX\, 78703\, United States
CATEGORIES:kids youth and family,Kids,Youth Ministry,Worship,Holy Week
ORGANIZER;CN="The Rev. Brin Bon":MAILTO:brin@gsaustin.org
END:VEVENT
BEGIN:VEVENT
DTSTART;TZID=America/Chicago:20270822T091500
DTEND;TZID=America/Chicago:20270822T100000
DTSTAMP:20260421T193023
CREATED:20220328T182320Z
LAST-MODIFIED:20260311T163949Z
UID:10036309-1818926100-1818928800@gsaustin.org
SUMMARY:Early Church: Holy Eucharist
DESCRIPTION:Please join us for our Sunday morning service Early Church in the PLC. \nWith special attention to children ages 8 years and younger\, this service will be shorter in duration\, including a brief sermon. \nIf your child would like to participate as an usher or reader\, or you have any questions\, please contact the Rev. Brin Bon.
URL:https://gsaustin.org/event/early-church/2027-08-22/
LOCATION:Windsor Campus\, Parish Life Center (PLC)\, 3201 Windsor Road\, Austin\, TX\, 78703\, United States
CATEGORIES:kids youth and family,Kids,Youth Ministry,Worship,Holy Week
ORGANIZER;CN="The Rev. Brin Bon":MAILTO:brin@gsaustin.org
END:VEVENT
BEGIN:VEVENT
DTSTART;TZID=America/Chicago:20270829T091500
DTEND;TZID=America/Chicago:20270829T100000
DTSTAMP:20260421T193023
CREATED:20220328T182320Z
LAST-MODIFIED:20260311T163949Z
UID:10036310-1819530900-1819533600@gsaustin.org
SUMMARY:Early Church: Holy Eucharist
DESCRIPTION:Please join us for our Sunday morning service Early Church in the PLC. \nWith special attention to children ages 8 years and younger\, this service will be shorter in duration\, including a brief sermon. \nIf your child would like to participate as an usher or reader\, or you have any questions\, please contact the Rev. Brin Bon.
URL:https://gsaustin.org/event/early-church/2027-08-29/
LOCATION:Windsor Campus\, Parish Life Center (PLC)\, 3201 Windsor Road\, Austin\, TX\, 78703\, United States
CATEGORIES:kids youth and family,Kids,Youth Ministry,Worship,Holy Week
ORGANIZER;CN="The Rev. Brin Bon":MAILTO:brin@gsaustin.org
END:VEVENT
BEGIN:VEVENT
DTSTART;TZID=America/Chicago:20270905T091500
DTEND;TZID=America/Chicago:20270905T100000
DTSTAMP:20260421T193023
CREATED:20220328T182320Z
LAST-MODIFIED:20260311T163949Z
UID:10036311-1820135700-1820138400@gsaustin.org
SUMMARY:Early Church: Holy Eucharist
DESCRIPTION:Please join us for our Sunday morning service Early Church in the PLC. \nWith special attention to children ages 8 years and younger\, this service will be shorter in duration\, including a brief sermon. \nIf your child would like to participate as an usher or reader\, or you have any questions\, please contact the Rev. Brin Bon.
URL:https://gsaustin.org/event/early-church/2027-09-05/
LOCATION:Windsor Campus\, Parish Life Center (PLC)\, 3201 Windsor Road\, Austin\, TX\, 78703\, United States
CATEGORIES:kids youth and family,Kids,Youth Ministry,Worship,Holy Week
ORGANIZER;CN="The Rev. Brin Bon":MAILTO:brin@gsaustin.org
END:VEVENT
BEGIN:VEVENT
DTSTART;TZID=America/Chicago:20270912T091500
DTEND;TZID=America/Chicago:20270912T100000
DTSTAMP:20260421T193023
CREATED:20220328T182320Z
LAST-MODIFIED:20260311T163949Z
UID:10036312-1820740500-1820743200@gsaustin.org
SUMMARY:Early Church: Holy Eucharist
DESCRIPTION:Please join us for our Sunday morning service Early Church in the PLC. \nWith special attention to children ages 8 years and younger\, this service will be shorter in duration\, including a brief sermon. \nIf your child would like to participate as an usher or reader\, or you have any questions\, please contact the Rev. Brin Bon.
URL:https://gsaustin.org/event/early-church/2027-09-12/
LOCATION:Windsor Campus\, Parish Life Center (PLC)\, 3201 Windsor Road\, Austin\, TX\, 78703\, United States
CATEGORIES:kids youth and family,Kids,Youth Ministry,Worship,Holy Week
ORGANIZER;CN="The Rev. Brin Bon":MAILTO:brin@gsaustin.org
END:VEVENT
BEGIN:VEVENT
DTSTART;TZID=America/Chicago:20270919T091500
DTEND;TZID=America/Chicago:20270919T100000
DTSTAMP:20260421T193023
CREATED:20220328T182320Z
LAST-MODIFIED:20260311T163949Z
UID:10036313-1821345300-1821348000@gsaustin.org
SUMMARY:Early Church: Holy Eucharist
DESCRIPTION:Please join us for our Sunday morning service Early Church in the PLC. \nWith special attention to children ages 8 years and younger\, this service will be shorter in duration\, including a brief sermon. \nIf your child would like to participate as an usher or reader\, or you have any questions\, please contact the Rev. Brin Bon.
URL:https://gsaustin.org/event/early-church/2027-09-19/
LOCATION:Windsor Campus\, Parish Life Center (PLC)\, 3201 Windsor Road\, Austin\, TX\, 78703\, United States
CATEGORIES:kids youth and family,Kids,Youth Ministry,Worship,Holy Week
ORGANIZER;CN="The Rev. Brin Bon":MAILTO:brin@gsaustin.org
END:VEVENT
BEGIN:VEVENT
DTSTART;TZID=America/Chicago:20270926T091500
DTEND;TZID=America/Chicago:20270926T100000
DTSTAMP:20260421T193023
CREATED:20220328T182320Z
LAST-MODIFIED:20260311T163949Z
UID:10036314-1821950100-1821952800@gsaustin.org
SUMMARY:Early Church: Holy Eucharist
DESCRIPTION:Please join us for our Sunday morning service Early Church in the PLC. \nWith special attention to children ages 8 years and younger\, this service will be shorter in duration\, including a brief sermon. \nIf your child would like to participate as an usher or reader\, or you have any questions\, please contact the Rev. Brin Bon.
URL:https://gsaustin.org/event/early-church/2027-09-26/
LOCATION:Windsor Campus\, Parish Life Center (PLC)\, 3201 Windsor Road\, Austin\, TX\, 78703\, United States
CATEGORIES:kids youth and family,Kids,Youth Ministry,Worship,Holy Week
ORGANIZER;CN="The Rev. Brin Bon":MAILTO:brin@gsaustin.org
END:VEVENT
BEGIN:VEVENT
DTSTART;TZID=America/Chicago:20271003T091500
DTEND;TZID=America/Chicago:20271003T100000
DTSTAMP:20260421T193023
CREATED:20220328T182320Z
LAST-MODIFIED:20260311T163949Z
UID:10036315-1822554900-1822557600@gsaustin.org
SUMMARY:Early Church: Holy Eucharist
DESCRIPTION:Please join us for our Sunday morning service Early Church in the PLC. \nWith special attention to children ages 8 years and younger\, this service will be shorter in duration\, including a brief sermon. \nIf your child would like to participate as an usher or reader\, or you have any questions\, please contact the Rev. Brin Bon.
URL:https://gsaustin.org/event/early-church/2027-10-03/
LOCATION:Windsor Campus\, Parish Life Center (PLC)\, 3201 Windsor Road\, Austin\, TX\, 78703\, United States
CATEGORIES:kids youth and family,Kids,Youth Ministry,Worship,Holy Week
ORGANIZER;CN="The Rev. Brin Bon":MAILTO:brin@gsaustin.org
END:VEVENT
BEGIN:VEVENT
DTSTART;TZID=America/Chicago:20271010T091500
DTEND;TZID=America/Chicago:20271010T100000
DTSTAMP:20260421T193023
CREATED:20220328T182320Z
LAST-MODIFIED:20260311T163949Z
UID:10036316-1823159700-1823162400@gsaustin.org
SUMMARY:Early Church: Holy Eucharist
DESCRIPTION:Please join us for our Sunday morning service Early Church in the PLC. \nWith special attention to children ages 8 years and younger\, this service will be shorter in duration\, including a brief sermon. \nIf your child would like to participate as an usher or reader\, or you have any questions\, please contact the Rev. Brin Bon.
URL:https://gsaustin.org/event/early-church/2027-10-10/
LOCATION:Windsor Campus\, Parish Life Center (PLC)\, 3201 Windsor Road\, Austin\, TX\, 78703\, United States
CATEGORIES:kids youth and family,Kids,Youth Ministry,Worship,Holy Week
ORGANIZER;CN="The Rev. Brin Bon":MAILTO:brin@gsaustin.org
END:VEVENT
BEGIN:VEVENT
DTSTART;TZID=America/Chicago:20271017T091500
DTEND;TZID=America/Chicago:20271017T100000
DTSTAMP:20260421T193023
CREATED:20220328T182320Z
LAST-MODIFIED:20260311T163949Z
UID:10036317-1823764500-1823767200@gsaustin.org
SUMMARY:Early Church: Holy Eucharist
DESCRIPTION:Please join us for our Sunday morning service Early Church in the PLC. \nWith special attention to children ages 8 years and younger\, this service will be shorter in duration\, including a brief sermon. \nIf your child would like to participate as an usher or reader\, or you have any questions\, please contact the Rev. Brin Bon.
URL:https://gsaustin.org/event/early-church/2027-10-17/
LOCATION:Windsor Campus\, Parish Life Center (PLC)\, 3201 Windsor Road\, Austin\, TX\, 78703\, United States
CATEGORIES:kids youth and family,Kids,Youth Ministry,Worship,Holy Week
ORGANIZER;CN="The Rev. Brin Bon":MAILTO:brin@gsaustin.org
END:VEVENT
BEGIN:VEVENT
DTSTART;TZID=America/Chicago:20271024T091500
DTEND;TZID=America/Chicago:20271024T100000
DTSTAMP:20260421T193023
CREATED:20220328T182320Z
LAST-MODIFIED:20260311T163949Z
UID:10036318-1824369300-1824372000@gsaustin.org
SUMMARY:Early Church: Holy Eucharist
DESCRIPTION:Please join us for our Sunday morning service Early Church in the PLC. \nWith special attention to children ages 8 years and younger\, this service will be shorter in duration\, including a brief sermon. \nIf your child would like to participate as an usher or reader\, or you have any questions\, please contact the Rev. Brin Bon.
URL:https://gsaustin.org/event/early-church/2027-10-24/
LOCATION:Windsor Campus\, Parish Life Center (PLC)\, 3201 Windsor Road\, Austin\, TX\, 78703\, United States
CATEGORIES:kids youth and family,Kids,Youth Ministry,Worship,Holy Week
ORGANIZER;CN="The Rev. Brin Bon":MAILTO:brin@gsaustin.org
END:VEVENT
BEGIN:VEVENT
DTSTART;TZID=America/Chicago:20271031T091500
DTEND;TZID=America/Chicago:20271031T100000
DTSTAMP:20260421T193023
CREATED:20220328T182320Z
LAST-MODIFIED:20260311T163949Z
UID:10036319-1824974100-1824976800@gsaustin.org
SUMMARY:Early Church: Holy Eucharist
DESCRIPTION:Please join us for our Sunday morning service Early Church in the PLC. \nWith special attention to children ages 8 years and younger\, this service will be shorter in duration\, including a brief sermon. \nIf your child would like to participate as an usher or reader\, or you have any questions\, please contact the Rev. Brin Bon.
URL:https://gsaustin.org/event/early-church/2027-10-31/
LOCATION:Windsor Campus\, Parish Life Center (PLC)\, 3201 Windsor Road\, Austin\, TX\, 78703\, United States
CATEGORIES:kids youth and family,Kids,Youth Ministry,Worship,Holy Week
ORGANIZER;CN="The Rev. Brin Bon":MAILTO:brin@gsaustin.org
END:VEVENT
BEGIN:VEVENT
DTSTART;TZID=America/Chicago:20271107T091500
DTEND;TZID=America/Chicago:20271107T100000
DTSTAMP:20260421T193023
CREATED:20220328T182320Z
LAST-MODIFIED:20260311T163949Z
UID:10036320-1825578900-1825581600@gsaustin.org
SUMMARY:Early Church: Holy Eucharist
DESCRIPTION:Please join us for our Sunday morning service Early Church in the PLC. \nWith special attention to children ages 8 years and younger\, this service will be shorter in duration\, including a brief sermon. \nIf your child would like to participate as an usher or reader\, or you have any questions\, please contact the Rev. Brin Bon.
URL:https://gsaustin.org/event/early-church/2027-11-07/
LOCATION:Windsor Campus\, Parish Life Center (PLC)\, 3201 Windsor Road\, Austin\, TX\, 78703\, United States
CATEGORIES:kids youth and family,Kids,Youth Ministry,Worship,Holy Week
ORGANIZER;CN="The Rev. Brin Bon":MAILTO:brin@gsaustin.org
END:VEVENT
BEGIN:VEVENT
DTSTART;TZID=America/Chicago:20271114T091500
DTEND;TZID=America/Chicago:20271114T100000
DTSTAMP:20260421T193023
CREATED:20220328T182320Z
LAST-MODIFIED:20260311T163949Z
UID:10036321-1826183700-1826186400@gsaustin.org
SUMMARY:Early Church: Holy Eucharist
DESCRIPTION:Please join us for our Sunday morning service Early Church in the PLC. \nWith special attention to children ages 8 years and younger\, this service will be shorter in duration\, including a brief sermon. \nIf your child would like to participate as an usher or reader\, or you have any questions\, please contact the Rev. Brin Bon.
URL:https://gsaustin.org/event/early-church/2027-11-14/
LOCATION:Windsor Campus\, Parish Life Center (PLC)\, 3201 Windsor Road\, Austin\, TX\, 78703\, United States
CATEGORIES:kids youth and family,Kids,Youth Ministry,Worship,Holy Week
ORGANIZER;CN="The Rev. Brin Bon":MAILTO:brin@gsaustin.org
END:VEVENT
BEGIN:VEVENT
DTSTART;TZID=America/Chicago:20271121T091500
DTEND;TZID=America/Chicago:20271121T100000
DTSTAMP:20260421T193023
CREATED:20220328T182320Z
LAST-MODIFIED:20260311T163949Z
UID:10036322-1826788500-1826791200@gsaustin.org
SUMMARY:Early Church: Holy Eucharist
DESCRIPTION:Please join us for our Sunday morning service Early Church in the PLC. \nWith special attention to children ages 8 years and younger\, this service will be shorter in duration\, including a brief sermon. \nIf your child would like to participate as an usher or reader\, or you have any questions\, please contact the Rev. Brin Bon.
URL:https://gsaustin.org/event/early-church/2027-11-21/
LOCATION:Windsor Campus\, Parish Life Center (PLC)\, 3201 Windsor Road\, Austin\, TX\, 78703\, United States
CATEGORIES:kids youth and family,Kids,Youth Ministry,Worship,Holy Week
ORGANIZER;CN="The Rev. Brin Bon":MAILTO:brin@gsaustin.org
END:VEVENT
END:VCALENDAR