BEGIN:VCALENDAR
VERSION:2.0
PRODID:-//The Episcopal Church of the Good Shepherd - ECPv6.15.18//NONSGML v1.0//EN
CALSCALE:GREGORIAN
METHOD:PUBLISH
X-WR-CALNAME:The Episcopal Church of the Good Shepherd
X-ORIGINAL-URL:https://gsaustin.org
X-WR-CALDESC:Events for The Episcopal Church of the Good Shepherd
REFRESH-INTERVAL;VALUE=DURATION:PT1H
X-Robots-Tag:noindex
X-PUBLISHED-TTL:PT1H
BEGIN:VTIMEZONE
TZID:America/Chicago
BEGIN:DAYLIGHT
TZOFFSETFROM:-0600
TZOFFSETTO:-0500
TZNAME:CDT
DTSTART:20260308T080000
END:DAYLIGHT
BEGIN:STANDARD
TZOFFSETFROM:-0500
TZOFFSETTO:-0600
TZNAME:CST
DTSTART:20261101T070000
END:STANDARD
BEGIN:DAYLIGHT
TZOFFSETFROM:-0600
TZOFFSETTO:-0500
TZNAME:CDT
DTSTART:20270314T080000
END:DAYLIGHT
BEGIN:STANDARD
TZOFFSETFROM:-0500
TZOFFSETTO:-0600
TZNAME:CST
DTSTART:20271107T070000
END:STANDARD
BEGIN:DAYLIGHT
TZOFFSETFROM:-0600
TZOFFSETTO:-0500
TZNAME:CDT
DTSTART:20280312T080000
END:DAYLIGHT
BEGIN:STANDARD
TZOFFSETFROM:-0500
TZOFFSETTO:-0600
TZNAME:CST
DTSTART:20281105T070000
END:STANDARD
BEGIN:DAYLIGHT
TZOFFSETFROM:-0600
TZOFFSETTO:-0500
TZNAME:CDT
DTSTART:20290311T080000
END:DAYLIGHT
BEGIN:STANDARD
TZOFFSETFROM:-0500
TZOFFSETTO:-0600
TZNAME:CST
DTSTART:20291104T070000
END:STANDARD
END:VTIMEZONE
BEGIN:VEVENT
DTSTART;TZID=America/Chicago:20271017T091500
DTEND;TZID=America/Chicago:20271017T100000
DTSTAMP:20260424T213647
CREATED:20220328T182320Z
LAST-MODIFIED:20260311T163949Z
UID:10036317-1823764500-1823767200@gsaustin.org
SUMMARY:Early Church: Holy Eucharist
DESCRIPTION:Please join us for our Sunday morning service Early Church in the PLC. \nWith special attention to children ages 8 years and younger\, this service will be shorter in duration\, including a brief sermon. \nIf your child would like to participate as an usher or reader\, or you have any questions\, please contact the Rev. Brin Bon.
URL:https://gsaustin.org/event/early-church/2027-10-17/
LOCATION:Windsor Campus\, Parish Life Center (PLC)\, 3201 Windsor Road\, Austin\, TX\, 78703\, United States
CATEGORIES:kids youth and family,Kids,Youth Ministry,Worship,Holy Week
ORGANIZER;CN="The Rev. Brin Bon":MAILTO:brin@gsaustin.org
END:VEVENT
BEGIN:VEVENT
DTSTART;TZID=America/Chicago:20271024T091500
DTEND;TZID=America/Chicago:20271024T100000
DTSTAMP:20260424T213647
CREATED:20220328T182320Z
LAST-MODIFIED:20260311T163949Z
UID:10036318-1824369300-1824372000@gsaustin.org
SUMMARY:Early Church: Holy Eucharist
DESCRIPTION:Please join us for our Sunday morning service Early Church in the PLC. \nWith special attention to children ages 8 years and younger\, this service will be shorter in duration\, including a brief sermon. \nIf your child would like to participate as an usher or reader\, or you have any questions\, please contact the Rev. Brin Bon.
URL:https://gsaustin.org/event/early-church/2027-10-24/
LOCATION:Windsor Campus\, Parish Life Center (PLC)\, 3201 Windsor Road\, Austin\, TX\, 78703\, United States
CATEGORIES:kids youth and family,Kids,Youth Ministry,Worship,Holy Week
ORGANIZER;CN="The Rev. Brin Bon":MAILTO:brin@gsaustin.org
END:VEVENT
BEGIN:VEVENT
DTSTART;TZID=America/Chicago:20271031T091500
DTEND;TZID=America/Chicago:20271031T100000
DTSTAMP:20260424T213647
CREATED:20220328T182320Z
LAST-MODIFIED:20260311T163949Z
UID:10036319-1824974100-1824976800@gsaustin.org
SUMMARY:Early Church: Holy Eucharist
DESCRIPTION:Please join us for our Sunday morning service Early Church in the PLC. \nWith special attention to children ages 8 years and younger\, this service will be shorter in duration\, including a brief sermon. \nIf your child would like to participate as an usher or reader\, or you have any questions\, please contact the Rev. Brin Bon.
URL:https://gsaustin.org/event/early-church/2027-10-31/
LOCATION:Windsor Campus\, Parish Life Center (PLC)\, 3201 Windsor Road\, Austin\, TX\, 78703\, United States
CATEGORIES:kids youth and family,Kids,Youth Ministry,Worship,Holy Week
ORGANIZER;CN="The Rev. Brin Bon":MAILTO:brin@gsaustin.org
END:VEVENT
BEGIN:VEVENT
DTSTART;TZID=America/Chicago:20271107T091500
DTEND;TZID=America/Chicago:20271107T100000
DTSTAMP:20260424T213647
CREATED:20220328T182320Z
LAST-MODIFIED:20260311T163949Z
UID:10036320-1825578900-1825581600@gsaustin.org
SUMMARY:Early Church: Holy Eucharist
DESCRIPTION:Please join us for our Sunday morning service Early Church in the PLC. \nWith special attention to children ages 8 years and younger\, this service will be shorter in duration\, including a brief sermon. \nIf your child would like to participate as an usher or reader\, or you have any questions\, please contact the Rev. Brin Bon.
URL:https://gsaustin.org/event/early-church/2027-11-07/
LOCATION:Windsor Campus\, Parish Life Center (PLC)\, 3201 Windsor Road\, Austin\, TX\, 78703\, United States
CATEGORIES:kids youth and family,Kids,Youth Ministry,Worship,Holy Week
ORGANIZER;CN="The Rev. Brin Bon":MAILTO:brin@gsaustin.org
END:VEVENT
BEGIN:VEVENT
DTSTART;TZID=America/Chicago:20271114T091500
DTEND;TZID=America/Chicago:20271114T100000
DTSTAMP:20260424T213647
CREATED:20220328T182320Z
LAST-MODIFIED:20260311T163949Z
UID:10036321-1826183700-1826186400@gsaustin.org
SUMMARY:Early Church: Holy Eucharist
DESCRIPTION:Please join us for our Sunday morning service Early Church in the PLC. \nWith special attention to children ages 8 years and younger\, this service will be shorter in duration\, including a brief sermon. \nIf your child would like to participate as an usher or reader\, or you have any questions\, please contact the Rev. Brin Bon.
URL:https://gsaustin.org/event/early-church/2027-11-14/
LOCATION:Windsor Campus\, Parish Life Center (PLC)\, 3201 Windsor Road\, Austin\, TX\, 78703\, United States
CATEGORIES:kids youth and family,Kids,Youth Ministry,Worship,Holy Week
ORGANIZER;CN="The Rev. Brin Bon":MAILTO:brin@gsaustin.org
END:VEVENT
BEGIN:VEVENT
DTSTART;TZID=America/Chicago:20271121T091500
DTEND;TZID=America/Chicago:20271121T100000
DTSTAMP:20260424T213647
CREATED:20220328T182320Z
LAST-MODIFIED:20260311T163949Z
UID:10036322-1826788500-1826791200@gsaustin.org
SUMMARY:Early Church: Holy Eucharist
DESCRIPTION:Please join us for our Sunday morning service Early Church in the PLC. \nWith special attention to children ages 8 years and younger\, this service will be shorter in duration\, including a brief sermon. \nIf your child would like to participate as an usher or reader\, or you have any questions\, please contact the Rev. Brin Bon.
URL:https://gsaustin.org/event/early-church/2027-11-21/
LOCATION:Windsor Campus\, Parish Life Center (PLC)\, 3201 Windsor Road\, Austin\, TX\, 78703\, United States
CATEGORIES:kids youth and family,Kids,Youth Ministry,Worship,Holy Week
ORGANIZER;CN="The Rev. Brin Bon":MAILTO:brin@gsaustin.org
END:VEVENT
BEGIN:VEVENT
DTSTART;TZID=America/Chicago:20271128T091500
DTEND;TZID=America/Chicago:20271128T100000
DTSTAMP:20260424T213647
CREATED:20220328T182320Z
LAST-MODIFIED:20260311T163949Z
UID:10036323-1827393300-1827396000@gsaustin.org
SUMMARY:Early Church: Holy Eucharist
DESCRIPTION:Please join us for our Sunday morning service Early Church in the PLC. \nWith special attention to children ages 8 years and younger\, this service will be shorter in duration\, including a brief sermon. \nIf your child would like to participate as an usher or reader\, or you have any questions\, please contact the Rev. Brin Bon.
URL:https://gsaustin.org/event/early-church/2027-11-28/
LOCATION:Windsor Campus\, Parish Life Center (PLC)\, 3201 Windsor Road\, Austin\, TX\, 78703\, United States
CATEGORIES:kids youth and family,Kids,Youth Ministry,Worship,Holy Week
ORGANIZER;CN="The Rev. Brin Bon":MAILTO:brin@gsaustin.org
END:VEVENT
BEGIN:VEVENT
DTSTART;TZID=America/Chicago:20271205T091500
DTEND;TZID=America/Chicago:20271205T100000
DTSTAMP:20260424T213647
CREATED:20220328T182320Z
LAST-MODIFIED:20260311T163949Z
UID:10036324-1827998100-1828000800@gsaustin.org
SUMMARY:Early Church: Holy Eucharist
DESCRIPTION:Please join us for our Sunday morning service Early Church in the PLC. \nWith special attention to children ages 8 years and younger\, this service will be shorter in duration\, including a brief sermon. \nIf your child would like to participate as an usher or reader\, or you have any questions\, please contact the Rev. Brin Bon.
URL:https://gsaustin.org/event/early-church/2027-12-05/
LOCATION:Windsor Campus\, Parish Life Center (PLC)\, 3201 Windsor Road\, Austin\, TX\, 78703\, United States
CATEGORIES:kids youth and family,Kids,Youth Ministry,Worship,Holy Week
ORGANIZER;CN="The Rev. Brin Bon":MAILTO:brin@gsaustin.org
END:VEVENT
BEGIN:VEVENT
DTSTART;TZID=America/Chicago:20271212T091500
DTEND;TZID=America/Chicago:20271212T100000
DTSTAMP:20260424T213647
CREATED:20220328T182320Z
LAST-MODIFIED:20260311T163949Z
UID:10036325-1828602900-1828605600@gsaustin.org
SUMMARY:Early Church: Holy Eucharist
DESCRIPTION:Please join us for our Sunday morning service Early Church in the PLC. \nWith special attention to children ages 8 years and younger\, this service will be shorter in duration\, including a brief sermon. \nIf your child would like to participate as an usher or reader\, or you have any questions\, please contact the Rev. Brin Bon.
URL:https://gsaustin.org/event/early-church/2027-12-12/
LOCATION:Windsor Campus\, Parish Life Center (PLC)\, 3201 Windsor Road\, Austin\, TX\, 78703\, United States
CATEGORIES:kids youth and family,Kids,Youth Ministry,Worship,Holy Week
ORGANIZER;CN="The Rev. Brin Bon":MAILTO:brin@gsaustin.org
END:VEVENT
BEGIN:VEVENT
DTSTART;TZID=America/Chicago:20271219T091500
DTEND;TZID=America/Chicago:20271219T100000
DTSTAMP:20260424T213647
CREATED:20220328T182320Z
LAST-MODIFIED:20260311T163949Z
UID:10036326-1829207700-1829210400@gsaustin.org
SUMMARY:Early Church: Holy Eucharist
DESCRIPTION:Please join us for our Sunday morning service Early Church in the PLC. \nWith special attention to children ages 8 years and younger\, this service will be shorter in duration\, including a brief sermon. \nIf your child would like to participate as an usher or reader\, or you have any questions\, please contact the Rev. Brin Bon.
URL:https://gsaustin.org/event/early-church/2027-12-19/
LOCATION:Windsor Campus\, Parish Life Center (PLC)\, 3201 Windsor Road\, Austin\, TX\, 78703\, United States
CATEGORIES:kids youth and family,Kids,Youth Ministry,Worship,Holy Week
ORGANIZER;CN="The Rev. Brin Bon":MAILTO:brin@gsaustin.org
END:VEVENT
BEGIN:VEVENT
DTSTART;TZID=America/Chicago:20271226T091500
DTEND;TZID=America/Chicago:20271226T100000
DTSTAMP:20260424T213647
CREATED:20220328T182320Z
LAST-MODIFIED:20260311T163949Z
UID:10036327-1829812500-1829815200@gsaustin.org
SUMMARY:Early Church: Holy Eucharist
DESCRIPTION:Please join us for our Sunday morning service Early Church in the PLC. \nWith special attention to children ages 8 years and younger\, this service will be shorter in duration\, including a brief sermon. \nIf your child would like to participate as an usher or reader\, or you have any questions\, please contact the Rev. Brin Bon.
URL:https://gsaustin.org/event/early-church/2027-12-26/
LOCATION:Windsor Campus\, Parish Life Center (PLC)\, 3201 Windsor Road\, Austin\, TX\, 78703\, United States
CATEGORIES:kids youth and family,Kids,Youth Ministry,Worship,Holy Week
ORGANIZER;CN="The Rev. Brin Bon":MAILTO:brin@gsaustin.org
END:VEVENT
BEGIN:VEVENT
DTSTART;TZID=America/Chicago:20280102T091500
DTEND;TZID=America/Chicago:20280102T100000
DTSTAMP:20260424T213647
CREATED:20220328T182320Z
LAST-MODIFIED:20260311T163949Z
UID:10036328-1830417300-1830420000@gsaustin.org
SUMMARY:Early Church: Holy Eucharist
DESCRIPTION:Please join us for our Sunday morning service Early Church in the PLC. \nWith special attention to children ages 8 years and younger\, this service will be shorter in duration\, including a brief sermon. \nIf your child would like to participate as an usher or reader\, or you have any questions\, please contact the Rev. Brin Bon.
URL:https://gsaustin.org/event/early-church/2028-01-02/
LOCATION:Windsor Campus\, Parish Life Center (PLC)\, 3201 Windsor Road\, Austin\, TX\, 78703\, United States
CATEGORIES:kids youth and family,Kids,Youth Ministry,Worship,Holy Week
ORGANIZER;CN="The Rev. Brin Bon":MAILTO:brin@gsaustin.org
END:VEVENT
BEGIN:VEVENT
DTSTART;TZID=America/Chicago:20280109T091500
DTEND;TZID=America/Chicago:20280109T100000
DTSTAMP:20260424T213647
CREATED:20220328T182320Z
LAST-MODIFIED:20260311T163949Z
UID:10036329-1831022100-1831024800@gsaustin.org
SUMMARY:Early Church: Holy Eucharist
DESCRIPTION:Please join us for our Sunday morning service Early Church in the PLC. \nWith special attention to children ages 8 years and younger\, this service will be shorter in duration\, including a brief sermon. \nIf your child would like to participate as an usher or reader\, or you have any questions\, please contact the Rev. Brin Bon.
URL:https://gsaustin.org/event/early-church/2028-01-09/
LOCATION:Windsor Campus\, Parish Life Center (PLC)\, 3201 Windsor Road\, Austin\, TX\, 78703\, United States
CATEGORIES:kids youth and family,Kids,Youth Ministry,Worship,Holy Week
ORGANIZER;CN="The Rev. Brin Bon":MAILTO:brin@gsaustin.org
END:VEVENT
BEGIN:VEVENT
DTSTART;TZID=America/Chicago:20280116T091500
DTEND;TZID=America/Chicago:20280116T100000
DTSTAMP:20260424T213647
CREATED:20220328T182320Z
LAST-MODIFIED:20260311T163949Z
UID:10036330-1831626900-1831629600@gsaustin.org
SUMMARY:Early Church: Holy Eucharist
DESCRIPTION:Please join us for our Sunday morning service Early Church in the PLC. \nWith special attention to children ages 8 years and younger\, this service will be shorter in duration\, including a brief sermon. \nIf your child would like to participate as an usher or reader\, or you have any questions\, please contact the Rev. Brin Bon.
URL:https://gsaustin.org/event/early-church/2028-01-16/
LOCATION:Windsor Campus\, Parish Life Center (PLC)\, 3201 Windsor Road\, Austin\, TX\, 78703\, United States
CATEGORIES:kids youth and family,Kids,Youth Ministry,Worship,Holy Week
ORGANIZER;CN="The Rev. Brin Bon":MAILTO:brin@gsaustin.org
END:VEVENT
BEGIN:VEVENT
DTSTART;TZID=America/Chicago:20280123T091500
DTEND;TZID=America/Chicago:20280123T100000
DTSTAMP:20260424T213647
CREATED:20220328T182320Z
LAST-MODIFIED:20260311T163949Z
UID:10036331-1832231700-1832234400@gsaustin.org
SUMMARY:Early Church: Holy Eucharist
DESCRIPTION:Please join us for our Sunday morning service Early Church in the PLC. \nWith special attention to children ages 8 years and younger\, this service will be shorter in duration\, including a brief sermon. \nIf your child would like to participate as an usher or reader\, or you have any questions\, please contact the Rev. Brin Bon.
URL:https://gsaustin.org/event/early-church/2028-01-23/
LOCATION:Windsor Campus\, Parish Life Center (PLC)\, 3201 Windsor Road\, Austin\, TX\, 78703\, United States
CATEGORIES:kids youth and family,Kids,Youth Ministry,Worship,Holy Week
ORGANIZER;CN="The Rev. Brin Bon":MAILTO:brin@gsaustin.org
END:VEVENT
BEGIN:VEVENT
DTSTART;TZID=America/Chicago:20280130T091500
DTEND;TZID=America/Chicago:20280130T100000
DTSTAMP:20260424T213647
CREATED:20220328T182320Z
LAST-MODIFIED:20260311T163949Z
UID:10036332-1832836500-1832839200@gsaustin.org
SUMMARY:Early Church: Holy Eucharist
DESCRIPTION:Please join us for our Sunday morning service Early Church in the PLC. \nWith special attention to children ages 8 years and younger\, this service will be shorter in duration\, including a brief sermon. \nIf your child would like to participate as an usher or reader\, or you have any questions\, please contact the Rev. Brin Bon.
URL:https://gsaustin.org/event/early-church/2028-01-30/
LOCATION:Windsor Campus\, Parish Life Center (PLC)\, 3201 Windsor Road\, Austin\, TX\, 78703\, United States
CATEGORIES:kids youth and family,Kids,Youth Ministry,Worship,Holy Week
ORGANIZER;CN="The Rev. Brin Bon":MAILTO:brin@gsaustin.org
END:VEVENT
BEGIN:VEVENT
DTSTART;TZID=America/Chicago:20280206T091500
DTEND;TZID=America/Chicago:20280206T100000
DTSTAMP:20260424T213647
CREATED:20220328T182320Z
LAST-MODIFIED:20260311T163949Z
UID:10036333-1833441300-1833444000@gsaustin.org
SUMMARY:Early Church: Holy Eucharist
DESCRIPTION:Please join us for our Sunday morning service Early Church in the PLC. \nWith special attention to children ages 8 years and younger\, this service will be shorter in duration\, including a brief sermon. \nIf your child would like to participate as an usher or reader\, or you have any questions\, please contact the Rev. Brin Bon.
URL:https://gsaustin.org/event/early-church/2028-02-06/
LOCATION:Windsor Campus\, Parish Life Center (PLC)\, 3201 Windsor Road\, Austin\, TX\, 78703\, United States
CATEGORIES:kids youth and family,Kids,Youth Ministry,Worship,Holy Week
ORGANIZER;CN="The Rev. Brin Bon":MAILTO:brin@gsaustin.org
END:VEVENT
BEGIN:VEVENT
DTSTART;TZID=America/Chicago:20280213T091500
DTEND;TZID=America/Chicago:20280213T100000
DTSTAMP:20260424T213647
CREATED:20220328T182320Z
LAST-MODIFIED:20260311T163949Z
UID:10036334-1834046100-1834048800@gsaustin.org
SUMMARY:Early Church: Holy Eucharist
DESCRIPTION:Please join us for our Sunday morning service Early Church in the PLC. \nWith special attention to children ages 8 years and younger\, this service will be shorter in duration\, including a brief sermon. \nIf your child would like to participate as an usher or reader\, or you have any questions\, please contact the Rev. Brin Bon.
URL:https://gsaustin.org/event/early-church/2028-02-13/
LOCATION:Windsor Campus\, Parish Life Center (PLC)\, 3201 Windsor Road\, Austin\, TX\, 78703\, United States
CATEGORIES:kids youth and family,Kids,Youth Ministry,Worship,Holy Week
ORGANIZER;CN="The Rev. Brin Bon":MAILTO:brin@gsaustin.org
END:VEVENT
BEGIN:VEVENT
DTSTART;TZID=America/Chicago:20280220T091500
DTEND;TZID=America/Chicago:20280220T100000
DTSTAMP:20260424T213647
CREATED:20220328T182320Z
LAST-MODIFIED:20260311T163949Z
UID:10036335-1834650900-1834653600@gsaustin.org
SUMMARY:Early Church: Holy Eucharist
DESCRIPTION:Please join us for our Sunday morning service Early Church in the PLC. \nWith special attention to children ages 8 years and younger\, this service will be shorter in duration\, including a brief sermon. \nIf your child would like to participate as an usher or reader\, or you have any questions\, please contact the Rev. Brin Bon.
URL:https://gsaustin.org/event/early-church/2028-02-20/
LOCATION:Windsor Campus\, Parish Life Center (PLC)\, 3201 Windsor Road\, Austin\, TX\, 78703\, United States
CATEGORIES:kids youth and family,Kids,Youth Ministry,Worship,Holy Week
ORGANIZER;CN="The Rev. Brin Bon":MAILTO:brin@gsaustin.org
END:VEVENT
BEGIN:VEVENT
DTSTART;TZID=America/Chicago:20280227T091500
DTEND;TZID=America/Chicago:20280227T100000
DTSTAMP:20260424T213647
CREATED:20220328T182320Z
LAST-MODIFIED:20260311T163949Z
UID:10036336-1835255700-1835258400@gsaustin.org
SUMMARY:Early Church: Holy Eucharist
DESCRIPTION:Please join us for our Sunday morning service Early Church in the PLC. \nWith special attention to children ages 8 years and younger\, this service will be shorter in duration\, including a brief sermon. \nIf your child would like to participate as an usher or reader\, or you have any questions\, please contact the Rev. Brin Bon.
URL:https://gsaustin.org/event/early-church/2028-02-27/
LOCATION:Windsor Campus\, Parish Life Center (PLC)\, 3201 Windsor Road\, Austin\, TX\, 78703\, United States
CATEGORIES:kids youth and family,Kids,Youth Ministry,Worship,Holy Week
ORGANIZER;CN="The Rev. Brin Bon":MAILTO:brin@gsaustin.org
END:VEVENT
BEGIN:VEVENT
DTSTART;TZID=America/Chicago:20280305T091500
DTEND;TZID=America/Chicago:20280305T100000
DTSTAMP:20260424T213647
CREATED:20220328T182320Z
LAST-MODIFIED:20260311T163949Z
UID:10036337-1835860500-1835863200@gsaustin.org
SUMMARY:Early Church: Holy Eucharist
DESCRIPTION:Please join us for our Sunday morning service Early Church in the PLC. \nWith special attention to children ages 8 years and younger\, this service will be shorter in duration\, including a brief sermon. \nIf your child would like to participate as an usher or reader\, or you have any questions\, please contact the Rev. Brin Bon.
URL:https://gsaustin.org/event/early-church/2028-03-05/
LOCATION:Windsor Campus\, Parish Life Center (PLC)\, 3201 Windsor Road\, Austin\, TX\, 78703\, United States
CATEGORIES:kids youth and family,Kids,Youth Ministry,Worship,Holy Week
ORGANIZER;CN="The Rev. Brin Bon":MAILTO:brin@gsaustin.org
END:VEVENT
BEGIN:VEVENT
DTSTART;TZID=America/Chicago:20280312T091500
DTEND;TZID=America/Chicago:20280312T100000
DTSTAMP:20260424T213647
CREATED:20220328T182320Z
LAST-MODIFIED:20260311T163949Z
UID:10036338-1836465300-1836468000@gsaustin.org
SUMMARY:Early Church: Holy Eucharist
DESCRIPTION:Please join us for our Sunday morning service Early Church in the PLC. \nWith special attention to children ages 8 years and younger\, this service will be shorter in duration\, including a brief sermon. \nIf your child would like to participate as an usher or reader\, or you have any questions\, please contact the Rev. Brin Bon.
URL:https://gsaustin.org/event/early-church/2028-03-12/
LOCATION:Windsor Campus\, Parish Life Center (PLC)\, 3201 Windsor Road\, Austin\, TX\, 78703\, United States
CATEGORIES:kids youth and family,Kids,Youth Ministry,Worship,Holy Week
ORGANIZER;CN="The Rev. Brin Bon":MAILTO:brin@gsaustin.org
END:VEVENT
BEGIN:VEVENT
DTSTART;TZID=America/Chicago:20280319T091500
DTEND;TZID=America/Chicago:20280319T100000
DTSTAMP:20260424T213647
CREATED:20220328T182320Z
LAST-MODIFIED:20260311T163949Z
UID:10036339-1837070100-1837072800@gsaustin.org
SUMMARY:Early Church: Holy Eucharist
DESCRIPTION:Please join us for our Sunday morning service Early Church in the PLC. \nWith special attention to children ages 8 years and younger\, this service will be shorter in duration\, including a brief sermon. \nIf your child would like to participate as an usher or reader\, or you have any questions\, please contact the Rev. Brin Bon.
URL:https://gsaustin.org/event/early-church/2028-03-19/
LOCATION:Windsor Campus\, Parish Life Center (PLC)\, 3201 Windsor Road\, Austin\, TX\, 78703\, United States
CATEGORIES:kids youth and family,Kids,Youth Ministry,Worship,Holy Week
ORGANIZER;CN="The Rev. Brin Bon":MAILTO:brin@gsaustin.org
END:VEVENT
BEGIN:VEVENT
DTSTART;TZID=America/Chicago:20280326T091500
DTEND;TZID=America/Chicago:20280326T100000
DTSTAMP:20260424T213647
CREATED:20220328T182320Z
LAST-MODIFIED:20260311T163949Z
UID:10036340-1837674900-1837677600@gsaustin.org
SUMMARY:Early Church: Holy Eucharist
DESCRIPTION:Please join us for our Sunday morning service Early Church in the PLC. \nWith special attention to children ages 8 years and younger\, this service will be shorter in duration\, including a brief sermon. \nIf your child would like to participate as an usher or reader\, or you have any questions\, please contact the Rev. Brin Bon.
URL:https://gsaustin.org/event/early-church/2028-03-26/
LOCATION:Windsor Campus\, Parish Life Center (PLC)\, 3201 Windsor Road\, Austin\, TX\, 78703\, United States
CATEGORIES:kids youth and family,Kids,Youth Ministry,Worship,Holy Week
ORGANIZER;CN="The Rev. Brin Bon":MAILTO:brin@gsaustin.org
END:VEVENT
BEGIN:VEVENT
DTSTART;TZID=America/Chicago:20280402T091500
DTEND;TZID=America/Chicago:20280402T100000
DTSTAMP:20260424T213647
CREATED:20220328T182320Z
LAST-MODIFIED:20260311T163949Z
UID:10036341-1838279700-1838282400@gsaustin.org
SUMMARY:Early Church: Holy Eucharist
DESCRIPTION:Please join us for our Sunday morning service Early Church in the PLC. \nWith special attention to children ages 8 years and younger\, this service will be shorter in duration\, including a brief sermon. \nIf your child would like to participate as an usher or reader\, or you have any questions\, please contact the Rev. Brin Bon.
URL:https://gsaustin.org/event/early-church/2028-04-02/
LOCATION:Windsor Campus\, Parish Life Center (PLC)\, 3201 Windsor Road\, Austin\, TX\, 78703\, United States
CATEGORIES:kids youth and family,Kids,Youth Ministry,Worship,Holy Week
ORGANIZER;CN="The Rev. Brin Bon":MAILTO:brin@gsaustin.org
END:VEVENT
BEGIN:VEVENT
DTSTART;TZID=America/Chicago:20280409T091500
DTEND;TZID=America/Chicago:20280409T100000
DTSTAMP:20260424T213647
CREATED:20220328T182320Z
LAST-MODIFIED:20260311T163949Z
UID:10036342-1838884500-1838887200@gsaustin.org
SUMMARY:Early Church: Holy Eucharist
DESCRIPTION:Please join us for our Sunday morning service Early Church in the PLC. \nWith special attention to children ages 8 years and younger\, this service will be shorter in duration\, including a brief sermon. \nIf your child would like to participate as an usher or reader\, or you have any questions\, please contact the Rev. Brin Bon.
URL:https://gsaustin.org/event/early-church/2028-04-09/
LOCATION:Windsor Campus\, Parish Life Center (PLC)\, 3201 Windsor Road\, Austin\, TX\, 78703\, United States
CATEGORIES:kids youth and family,Kids,Youth Ministry,Worship,Holy Week
ORGANIZER;CN="The Rev. Brin Bon":MAILTO:brin@gsaustin.org
END:VEVENT
BEGIN:VEVENT
DTSTART;TZID=America/Chicago:20280416T091500
DTEND;TZID=America/Chicago:20280416T100000
DTSTAMP:20260424T213647
CREATED:20220328T182320Z
LAST-MODIFIED:20260311T163949Z
UID:10036343-1839489300-1839492000@gsaustin.org
SUMMARY:Early Church: Holy Eucharist
DESCRIPTION:Please join us for our Sunday morning service Early Church in the PLC. \nWith special attention to children ages 8 years and younger\, this service will be shorter in duration\, including a brief sermon. \nIf your child would like to participate as an usher or reader\, or you have any questions\, please contact the Rev. Brin Bon.
URL:https://gsaustin.org/event/early-church/2028-04-16/
LOCATION:Windsor Campus\, Parish Life Center (PLC)\, 3201 Windsor Road\, Austin\, TX\, 78703\, United States
CATEGORIES:kids youth and family,Kids,Youth Ministry,Worship,Holy Week
ORGANIZER;CN="The Rev. Brin Bon":MAILTO:brin@gsaustin.org
END:VEVENT
BEGIN:VEVENT
DTSTART;TZID=America/Chicago:20280423T091500
DTEND;TZID=America/Chicago:20280423T100000
DTSTAMP:20260424T213647
CREATED:20220328T182320Z
LAST-MODIFIED:20260311T163949Z
UID:10036344-1840094100-1840096800@gsaustin.org
SUMMARY:Early Church: Holy Eucharist
DESCRIPTION:Please join us for our Sunday morning service Early Church in the PLC. \nWith special attention to children ages 8 years and younger\, this service will be shorter in duration\, including a brief sermon. \nIf your child would like to participate as an usher or reader\, or you have any questions\, please contact the Rev. Brin Bon.
URL:https://gsaustin.org/event/early-church/2028-04-23/
LOCATION:Windsor Campus\, Parish Life Center (PLC)\, 3201 Windsor Road\, Austin\, TX\, 78703\, United States
CATEGORIES:kids youth and family,Kids,Youth Ministry,Worship,Holy Week
ORGANIZER;CN="The Rev. Brin Bon":MAILTO:brin@gsaustin.org
END:VEVENT
BEGIN:VEVENT
DTSTART;TZID=America/Chicago:20280430T091500
DTEND;TZID=America/Chicago:20280430T100000
DTSTAMP:20260424T213647
CREATED:20220328T182320Z
LAST-MODIFIED:20260311T163949Z
UID:10036345-1840698900-1840701600@gsaustin.org
SUMMARY:Early Church: Holy Eucharist
DESCRIPTION:Please join us for our Sunday morning service Early Church in the PLC. \nWith special attention to children ages 8 years and younger\, this service will be shorter in duration\, including a brief sermon. \nIf your child would like to participate as an usher or reader\, or you have any questions\, please contact the Rev. Brin Bon.
URL:https://gsaustin.org/event/early-church/2028-04-30/
LOCATION:Windsor Campus\, Parish Life Center (PLC)\, 3201 Windsor Road\, Austin\, TX\, 78703\, United States
CATEGORIES:kids youth and family,Kids,Youth Ministry,Worship,Holy Week
ORGANIZER;CN="The Rev. Brin Bon":MAILTO:brin@gsaustin.org
END:VEVENT
BEGIN:VEVENT
DTSTART;TZID=America/Chicago:20280507T091500
DTEND;TZID=America/Chicago:20280507T100000
DTSTAMP:20260424T213647
CREATED:20220328T182320Z
LAST-MODIFIED:20260311T163949Z
UID:10036346-1841303700-1841306400@gsaustin.org
SUMMARY:Early Church: Holy Eucharist
DESCRIPTION:Please join us for our Sunday morning service Early Church in the PLC. \nWith special attention to children ages 8 years and younger\, this service will be shorter in duration\, including a brief sermon. \nIf your child would like to participate as an usher or reader\, or you have any questions\, please contact the Rev. Brin Bon.
URL:https://gsaustin.org/event/early-church/2028-05-07/
LOCATION:Windsor Campus\, Parish Life Center (PLC)\, 3201 Windsor Road\, Austin\, TX\, 78703\, United States
CATEGORIES:kids youth and family,Kids,Youth Ministry,Worship,Holy Week
ORGANIZER;CN="The Rev. Brin Bon":MAILTO:brin@gsaustin.org
END:VEVENT
END:VCALENDAR