BEGIN:VCALENDAR
VERSION:2.0
PRODID:-//The Episcopal Church of the Good Shepherd - ECPv6.15.18//NONSGML v1.0//EN
CALSCALE:GREGORIAN
METHOD:PUBLISH
X-ORIGINAL-URL:https://gsaustin.org
X-WR-CALDESC:Events for The Episcopal Church of the Good Shepherd
REFRESH-INTERVAL;VALUE=DURATION:PT1H
X-Robots-Tag:noindex
X-PUBLISHED-TTL:PT1H
BEGIN:VTIMEZONE
TZID:America/Chicago
BEGIN:DAYLIGHT
TZOFFSETFROM:-0600
TZOFFSETTO:-0500
TZNAME:CDT
DTSTART:20240310T080000
END:DAYLIGHT
BEGIN:STANDARD
TZOFFSETFROM:-0500
TZOFFSETTO:-0600
TZNAME:CST
DTSTART:20241103T070000
END:STANDARD
BEGIN:DAYLIGHT
TZOFFSETFROM:-0600
TZOFFSETTO:-0500
TZNAME:CDT
DTSTART:20250309T080000
END:DAYLIGHT
BEGIN:STANDARD
TZOFFSETFROM:-0500
TZOFFSETTO:-0600
TZNAME:CST
DTSTART:20251102T070000
END:STANDARD
BEGIN:DAYLIGHT
TZOFFSETFROM:-0600
TZOFFSETTO:-0500
TZNAME:CDT
DTSTART:20260308T080000
END:DAYLIGHT
BEGIN:STANDARD
TZOFFSETFROM:-0500
TZOFFSETTO:-0600
TZNAME:CST
DTSTART:20261101T070000
END:STANDARD
BEGIN:DAYLIGHT
TZOFFSETFROM:-0600
TZOFFSETTO:-0500
TZNAME:CDT
DTSTART:20270314T080000
END:DAYLIGHT
BEGIN:STANDARD
TZOFFSETFROM:-0500
TZOFFSETTO:-0600
TZNAME:CST
DTSTART:20271107T070000
END:STANDARD
END:VTIMEZONE
BEGIN:VEVENT
DTSTART;TZID=America/Chicago:20260113T093000
DTEND;TZID=America/Chicago:20260113T103000
DTSTAMP:20260420T024626
CREATED:20250903T173137Z
LAST-MODIFIED:20260323T153834Z
UID:10049307-1768296600-1768300200@gsaustin.org
SUMMARY:Mom's Bible Study
DESCRIPTION:We gather in person to support one another in the trials and joys of motherhood.\nWe hold space to meet weekly and explore together mini-sabbaths and bite-size spiritual practices when there is seemingly never enough time in the day for ourselves. The group is comprised of moms of all ages\, with a particular emphasis on those with small children at home. Nursery care is provided. New members are welcome to join us at any time. This group meets September-May.\nFor more information please contact Jessica Riels.
URL:https://gsaustin.org/event/moms-bible-study/2026-01-13/
LOCATION:Windsor Campus\, Media Room\, 3201 Windsor Road\, Austin\, TX\, United States
CATEGORIES:Adult Formation,Featured Events,Windsor Campus,Mom’s Bible Study
ATTACH;FMTTYPE=image/jpeg:https://gsaustin.org/wp-content/uploads/2022/08/2023-09_MomBibleStudy_Event-2.jpg
ORGANIZER;CN="Jessica Riels":MAILTO:jessica@gsaustin.org
END:VEVENT
BEGIN:VEVENT
DTSTART;TZID=America/Chicago:20260106T093000
DTEND;TZID=America/Chicago:20260106T103000
DTSTAMP:20260420T024626
CREATED:20250903T173137Z
LAST-MODIFIED:20260323T153834Z
UID:10049306-1767691800-1767695400@gsaustin.org
SUMMARY:Mom's Bible Study
DESCRIPTION:We gather in person to support one another in the trials and joys of motherhood.\nWe hold space to meet weekly and explore together mini-sabbaths and bite-size spiritual practices when there is seemingly never enough time in the day for ourselves. The group is comprised of moms of all ages\, with a particular emphasis on those with small children at home. Nursery care is provided. New members are welcome to join us at any time. This group meets September-May.\nFor more information please contact Jessica Riels.
URL:https://gsaustin.org/event/moms-bible-study/2026-01-06/
LOCATION:Windsor Campus\, Media Room\, 3201 Windsor Road\, Austin\, TX\, United States
CATEGORIES:Adult Formation,Featured Events,Windsor Campus,Mom’s Bible Study
ATTACH;FMTTYPE=image/jpeg:https://gsaustin.org/wp-content/uploads/2022/08/2023-09_MomBibleStudy_Event-2.jpg
ORGANIZER;CN="Jessica Riels":MAILTO:jessica@gsaustin.org
END:VEVENT
BEGIN:VEVENT
DTSTART;TZID=America/Chicago:20251230T093000
DTEND;TZID=America/Chicago:20251230T103000
DTSTAMP:20260420T024626
CREATED:20250903T173137Z
LAST-MODIFIED:20260323T153834Z
UID:10050749-1767087000-1767090600@gsaustin.org
SUMMARY:Mom's Bible Study
DESCRIPTION:We gather in person to support one another in the trials and joys of motherhood.\nWe hold space to meet weekly and explore together mini-sabbaths and bite-size spiritual practices when there is seemingly never enough time in the day for ourselves. The group is comprised of moms of all ages\, with a particular emphasis on those with small children at home. Nursery care is provided. New members are welcome to join us at any time. This group meets September-May.\nFor more information please contact Jessica Riels.
URL:https://gsaustin.org/event/moms-bible-study/2025-12-30/
LOCATION:Windsor Campus\, Media Room\, 3201 Windsor Road\, Austin\, TX\, United States
CATEGORIES:Adult Formation,Featured Events,Windsor Campus,Mom’s Bible Study
ATTACH;FMTTYPE=image/jpeg:https://gsaustin.org/wp-content/uploads/2022/08/2023-09_MomBibleStudy_Event-2.jpg
ORGANIZER;CN="Jessica Riels":MAILTO:jessica@gsaustin.org
END:VEVENT
BEGIN:VEVENT
DTSTART;TZID=America/Chicago:20251223T093000
DTEND;TZID=America/Chicago:20251223T103000
DTSTAMP:20260420T024626
CREATED:20250903T173137Z
LAST-MODIFIED:20260323T153834Z
UID:10050748-1766482200-1766485800@gsaustin.org
SUMMARY:Mom's Bible Study
DESCRIPTION:We gather in person to support one another in the trials and joys of motherhood.\nWe hold space to meet weekly and explore together mini-sabbaths and bite-size spiritual practices when there is seemingly never enough time in the day for ourselves. The group is comprised of moms of all ages\, with a particular emphasis on those with small children at home. Nursery care is provided. New members are welcome to join us at any time. This group meets September-May.\nFor more information please contact Jessica Riels.
URL:https://gsaustin.org/event/moms-bible-study/2025-12-23/
LOCATION:Windsor Campus\, Media Room\, 3201 Windsor Road\, Austin\, TX\, United States
CATEGORIES:Adult Formation,Featured Events,Windsor Campus,Mom’s Bible Study
ATTACH;FMTTYPE=image/jpeg:https://gsaustin.org/wp-content/uploads/2022/08/2023-09_MomBibleStudy_Event-2.jpg
ORGANIZER;CN="Jessica Riels":MAILTO:jessica@gsaustin.org
END:VEVENT
BEGIN:VEVENT
DTSTART;TZID=America/Chicago:20251216T093000
DTEND;TZID=America/Chicago:20251216T103000
DTSTAMP:20260420T024626
CREATED:20250903T173137Z
LAST-MODIFIED:20260323T153834Z
UID:10049303-1765877400-1765881000@gsaustin.org
SUMMARY:Mom's Bible Study
DESCRIPTION:We gather in person to support one another in the trials and joys of motherhood.\nWe hold space to meet weekly and explore together mini-sabbaths and bite-size spiritual practices when there is seemingly never enough time in the day for ourselves. The group is comprised of moms of all ages\, with a particular emphasis on those with small children at home. Nursery care is provided. New members are welcome to join us at any time. This group meets September-May.\nFor more information please contact Jessica Riels.
URL:https://gsaustin.org/event/moms-bible-study/2025-12-16/
LOCATION:Windsor Campus\, Media Room\, 3201 Windsor Road\, Austin\, TX\, United States
CATEGORIES:Adult Formation,Featured Events,Windsor Campus,Mom’s Bible Study
ATTACH;FMTTYPE=image/jpeg:https://gsaustin.org/wp-content/uploads/2022/08/2023-09_MomBibleStudy_Event-2.jpg
ORGANIZER;CN="Jessica Riels":MAILTO:jessica@gsaustin.org
END:VEVENT
BEGIN:VEVENT
DTSTART;TZID=America/Chicago:20251209T093000
DTEND;TZID=America/Chicago:20251209T103000
DTSTAMP:20260420T024626
CREATED:20250903T173137Z
LAST-MODIFIED:20260323T153834Z
UID:10049302-1765272600-1765276200@gsaustin.org
SUMMARY:Mom's Bible Study
DESCRIPTION:We gather in person to support one another in the trials and joys of motherhood.\nWe hold space to meet weekly and explore together mini-sabbaths and bite-size spiritual practices when there is seemingly never enough time in the day for ourselves. The group is comprised of moms of all ages\, with a particular emphasis on those with small children at home. Nursery care is provided. New members are welcome to join us at any time. This group meets September-May.\nFor more information please contact Jessica Riels.
URL:https://gsaustin.org/event/moms-bible-study/2025-12-09/
LOCATION:Windsor Campus\, Media Room\, 3201 Windsor Road\, Austin\, TX\, United States
CATEGORIES:Adult Formation,Featured Events,Windsor Campus,Mom’s Bible Study
ATTACH;FMTTYPE=image/jpeg:https://gsaustin.org/wp-content/uploads/2022/08/2023-09_MomBibleStudy_Event-2.jpg
ORGANIZER;CN="Jessica Riels":MAILTO:jessica@gsaustin.org
END:VEVENT
BEGIN:VEVENT
DTSTART;TZID=America/Chicago:20251202T093000
DTEND;TZID=America/Chicago:20251202T103000
DTSTAMP:20260420T024626
CREATED:20250903T173137Z
LAST-MODIFIED:20260323T153834Z
UID:10049301-1764667800-1764671400@gsaustin.org
SUMMARY:Mom's Bible Study
DESCRIPTION:We gather in person to support one another in the trials and joys of motherhood.\nWe hold space to meet weekly and explore together mini-sabbaths and bite-size spiritual practices when there is seemingly never enough time in the day for ourselves. The group is comprised of moms of all ages\, with a particular emphasis on those with small children at home. Nursery care is provided. New members are welcome to join us at any time. This group meets September-May.\nFor more information please contact Jessica Riels.
URL:https://gsaustin.org/event/moms-bible-study/2025-12-02/
LOCATION:Windsor Campus\, Media Room\, 3201 Windsor Road\, Austin\, TX\, United States
CATEGORIES:Adult Formation,Featured Events,Windsor Campus,Mom’s Bible Study
ATTACH;FMTTYPE=image/jpeg:https://gsaustin.org/wp-content/uploads/2022/08/2023-09_MomBibleStudy_Event-2.jpg
ORGANIZER;CN="Jessica Riels":MAILTO:jessica@gsaustin.org
END:VEVENT
BEGIN:VEVENT
DTSTART;TZID=America/Chicago:20251125T093000
DTEND;TZID=America/Chicago:20251125T103000
DTSTAMP:20260420T024626
CREATED:20250903T173137Z
LAST-MODIFIED:20260323T153834Z
UID:10050747-1764063000-1764066600@gsaustin.org
SUMMARY:Mom's Bible Study
DESCRIPTION:We gather in person to support one another in the trials and joys of motherhood.\nWe hold space to meet weekly and explore together mini-sabbaths and bite-size spiritual practices when there is seemingly never enough time in the day for ourselves. The group is comprised of moms of all ages\, with a particular emphasis on those with small children at home. Nursery care is provided. New members are welcome to join us at any time. This group meets September-May.\nFor more information please contact Jessica Riels.
URL:https://gsaustin.org/event/moms-bible-study/2025-11-25/
LOCATION:Windsor Campus\, Media Room\, 3201 Windsor Road\, Austin\, TX\, United States
CATEGORIES:Adult Formation,Featured Events,Windsor Campus,Mom’s Bible Study
ATTACH;FMTTYPE=image/jpeg:https://gsaustin.org/wp-content/uploads/2022/08/2023-09_MomBibleStudy_Event-2.jpg
ORGANIZER;CN="Jessica Riels":MAILTO:jessica@gsaustin.org
END:VEVENT
BEGIN:VEVENT
DTSTART;TZID=America/Chicago:20251118T093000
DTEND;TZID=America/Chicago:20251118T103000
DTSTAMP:20260420T024627
CREATED:20250903T173137Z
LAST-MODIFIED:20260323T153834Z
UID:10049299-1763458200-1763461800@gsaustin.org
SUMMARY:Mom's Bible Study
DESCRIPTION:We gather in person to support one another in the trials and joys of motherhood.\nWe hold space to meet weekly and explore together mini-sabbaths and bite-size spiritual practices when there is seemingly never enough time in the day for ourselves. The group is comprised of moms of all ages\, with a particular emphasis on those with small children at home. Nursery care is provided. New members are welcome to join us at any time. This group meets September-May.\nFor more information please contact Jessica Riels.
URL:https://gsaustin.org/event/moms-bible-study/2025-11-18/
LOCATION:Windsor Campus\, Media Room\, 3201 Windsor Road\, Austin\, TX\, United States
CATEGORIES:Adult Formation,Featured Events,Windsor Campus,Mom’s Bible Study
ATTACH;FMTTYPE=image/jpeg:https://gsaustin.org/wp-content/uploads/2022/08/2023-09_MomBibleStudy_Event-2.jpg
ORGANIZER;CN="Jessica Riels":MAILTO:jessica@gsaustin.org
END:VEVENT
BEGIN:VEVENT
DTSTART;TZID=America/Chicago:20251111T093000
DTEND;TZID=America/Chicago:20251111T103000
DTSTAMP:20260420T024627
CREATED:20250903T173137Z
LAST-MODIFIED:20260323T153834Z
UID:10049298-1762853400-1762857000@gsaustin.org
SUMMARY:Mom's Bible Study
DESCRIPTION:We gather in person to support one another in the trials and joys of motherhood.\nWe hold space to meet weekly and explore together mini-sabbaths and bite-size spiritual practices when there is seemingly never enough time in the day for ourselves. The group is comprised of moms of all ages\, with a particular emphasis on those with small children at home. Nursery care is provided. New members are welcome to join us at any time. This group meets September-May.\nFor more information please contact Jessica Riels.
URL:https://gsaustin.org/event/moms-bible-study/2025-11-11/
LOCATION:Windsor Campus\, Media Room\, 3201 Windsor Road\, Austin\, TX\, United States
CATEGORIES:Adult Formation,Featured Events,Windsor Campus,Mom’s Bible Study
ATTACH;FMTTYPE=image/jpeg:https://gsaustin.org/wp-content/uploads/2022/08/2023-09_MomBibleStudy_Event-2.jpg
ORGANIZER;CN="Jessica Riels":MAILTO:jessica@gsaustin.org
END:VEVENT
BEGIN:VEVENT
DTSTART;TZID=America/Chicago:20251104T093000
DTEND;TZID=America/Chicago:20251104T103000
DTSTAMP:20260420T024627
CREATED:20250903T173137Z
LAST-MODIFIED:20260323T153834Z
UID:10049297-1762248600-1762252200@gsaustin.org
SUMMARY:Mom's Bible Study
DESCRIPTION:We gather in person to support one another in the trials and joys of motherhood.\nWe hold space to meet weekly and explore together mini-sabbaths and bite-size spiritual practices when there is seemingly never enough time in the day for ourselves. The group is comprised of moms of all ages\, with a particular emphasis on those with small children at home. Nursery care is provided. New members are welcome to join us at any time. This group meets September-May.\nFor more information please contact Jessica Riels.
URL:https://gsaustin.org/event/moms-bible-study/2025-11-04/
LOCATION:Windsor Campus\, Media Room\, 3201 Windsor Road\, Austin\, TX\, United States
CATEGORIES:Adult Formation,Featured Events,Windsor Campus,Mom’s Bible Study
ATTACH;FMTTYPE=image/jpeg:https://gsaustin.org/wp-content/uploads/2022/08/2023-09_MomBibleStudy_Event-2.jpg
ORGANIZER;CN="Jessica Riels":MAILTO:jessica@gsaustin.org
END:VEVENT
BEGIN:VEVENT
DTSTART;TZID=America/Chicago:20251028T093000
DTEND;TZID=America/Chicago:20251028T103000
DTSTAMP:20260420T024627
CREATED:20250903T173137Z
LAST-MODIFIED:20260323T153834Z
UID:10049296-1761643800-1761647400@gsaustin.org
SUMMARY:Mom's Bible Study
DESCRIPTION:We gather in person to support one another in the trials and joys of motherhood.\nWe hold space to meet weekly and explore together mini-sabbaths and bite-size spiritual practices when there is seemingly never enough time in the day for ourselves. The group is comprised of moms of all ages\, with a particular emphasis on those with small children at home. Nursery care is provided. New members are welcome to join us at any time. This group meets September-May.\nFor more information please contact Jessica Riels.
URL:https://gsaustin.org/event/moms-bible-study/2025-10-28/
LOCATION:Windsor Campus\, Media Room\, 3201 Windsor Road\, Austin\, TX\, United States
CATEGORIES:Adult Formation,Featured Events,Windsor Campus,Mom’s Bible Study
ATTACH;FMTTYPE=image/jpeg:https://gsaustin.org/wp-content/uploads/2022/08/2023-09_MomBibleStudy_Event-2.jpg
ORGANIZER;CN="Jessica Riels":MAILTO:jessica@gsaustin.org
END:VEVENT
BEGIN:VEVENT
DTSTART;TZID=America/Chicago:20251021T093000
DTEND;TZID=America/Chicago:20251021T103000
DTSTAMP:20260420T024627
CREATED:20250903T173137Z
LAST-MODIFIED:20260323T153834Z
UID:10049295-1761039000-1761042600@gsaustin.org
SUMMARY:Mom's Bible Study
DESCRIPTION:We gather in person to support one another in the trials and joys of motherhood.\nWe hold space to meet weekly and explore together mini-sabbaths and bite-size spiritual practices when there is seemingly never enough time in the day for ourselves. The group is comprised of moms of all ages\, with a particular emphasis on those with small children at home. Nursery care is provided. New members are welcome to join us at any time. This group meets September-May.\nFor more information please contact Jessica Riels.
URL:https://gsaustin.org/event/moms-bible-study/2025-10-21/
LOCATION:Windsor Campus\, Media Room\, 3201 Windsor Road\, Austin\, TX\, United States
CATEGORIES:Adult Formation,Featured Events,Windsor Campus,Mom’s Bible Study
ATTACH;FMTTYPE=image/jpeg:https://gsaustin.org/wp-content/uploads/2022/08/2023-09_MomBibleStudy_Event-2.jpg
ORGANIZER;CN="Jessica Riels":MAILTO:jessica@gsaustin.org
END:VEVENT
BEGIN:VEVENT
DTSTART;TZID=America/Chicago:20251014T093000
DTEND;TZID=America/Chicago:20251014T103000
DTSTAMP:20260420T024627
CREATED:20250903T173137Z
LAST-MODIFIED:20260323T153834Z
UID:10049294-1760434200-1760437800@gsaustin.org
SUMMARY:Mom's Bible Study
DESCRIPTION:We gather in person to support one another in the trials and joys of motherhood.\nWe hold space to meet weekly and explore together mini-sabbaths and bite-size spiritual practices when there is seemingly never enough time in the day for ourselves. The group is comprised of moms of all ages\, with a particular emphasis on those with small children at home. Nursery care is provided. New members are welcome to join us at any time. This group meets September-May.\nFor more information please contact Jessica Riels.
URL:https://gsaustin.org/event/moms-bible-study/2025-10-14/
LOCATION:Windsor Campus\, Media Room\, 3201 Windsor Road\, Austin\, TX\, United States
CATEGORIES:Adult Formation,Featured Events,Windsor Campus,Mom’s Bible Study
ATTACH;FMTTYPE=image/jpeg:https://gsaustin.org/wp-content/uploads/2022/08/2023-09_MomBibleStudy_Event-2.jpg
ORGANIZER;CN="Jessica Riels":MAILTO:jessica@gsaustin.org
END:VEVENT
BEGIN:VEVENT
DTSTART;TZID=America/Chicago:20251007T093000
DTEND;TZID=America/Chicago:20251007T103000
DTSTAMP:20260420T024627
CREATED:20250903T173137Z
LAST-MODIFIED:20260323T153834Z
UID:10049293-1759829400-1759833000@gsaustin.org
SUMMARY:Mom's Bible Study
DESCRIPTION:We gather in person to support one another in the trials and joys of motherhood.\nWe hold space to meet weekly and explore together mini-sabbaths and bite-size spiritual practices when there is seemingly never enough time in the day for ourselves. The group is comprised of moms of all ages\, with a particular emphasis on those with small children at home. Nursery care is provided. New members are welcome to join us at any time. This group meets September-May.\nFor more information please contact Jessica Riels.
URL:https://gsaustin.org/event/moms-bible-study/2025-10-07/
LOCATION:Windsor Campus\, Media Room\, 3201 Windsor Road\, Austin\, TX\, United States
CATEGORIES:Adult Formation,Featured Events,Windsor Campus,Mom’s Bible Study
ATTACH;FMTTYPE=image/jpeg:https://gsaustin.org/wp-content/uploads/2022/08/2023-09_MomBibleStudy_Event-2.jpg
ORGANIZER;CN="Jessica Riels":MAILTO:jessica@gsaustin.org
END:VEVENT
BEGIN:VEVENT
DTSTART;TZID=America/Chicago:20250930T093000
DTEND;TZID=America/Chicago:20250930T103000
DTSTAMP:20260420T024627
CREATED:20250903T173137Z
LAST-MODIFIED:20260323T153834Z
UID:10049292-1759224600-1759228200@gsaustin.org
SUMMARY:Mom's Bible Study
DESCRIPTION:We gather in person to support one another in the trials and joys of motherhood.\nWe hold space to meet weekly and explore together mini-sabbaths and bite-size spiritual practices when there is seemingly never enough time in the day for ourselves. The group is comprised of moms of all ages\, with a particular emphasis on those with small children at home. Nursery care is provided. New members are welcome to join us at any time. This group meets September-May.\nFor more information please contact Jessica Riels.
URL:https://gsaustin.org/event/moms-bible-study/2025-09-30/
LOCATION:Windsor Campus\, Media Room\, 3201 Windsor Road\, Austin\, TX\, United States
CATEGORIES:Adult Formation,Featured Events,Windsor Campus,Mom’s Bible Study
ATTACH;FMTTYPE=image/jpeg:https://gsaustin.org/wp-content/uploads/2022/08/2023-09_MomBibleStudy_Event-2.jpg
ORGANIZER;CN="Jessica Riels":MAILTO:jessica@gsaustin.org
END:VEVENT
BEGIN:VEVENT
DTSTART;TZID=America/Chicago:20250923T093000
DTEND;TZID=America/Chicago:20250923T103000
DTSTAMP:20260420T024627
CREATED:20250903T173137Z
LAST-MODIFIED:20260323T153834Z
UID:10049291-1758619800-1758623400@gsaustin.org
SUMMARY:Mom's Bible Study
DESCRIPTION:We gather in person to support one another in the trials and joys of motherhood.\nWe hold space to meet weekly and explore together mini-sabbaths and bite-size spiritual practices when there is seemingly never enough time in the day for ourselves. The group is comprised of moms of all ages\, with a particular emphasis on those with small children at home. Nursery care is provided. New members are welcome to join us at any time. This group meets September-May.\nFor more information please contact Jessica Riels.
URL:https://gsaustin.org/event/moms-bible-study/2025-09-23/
LOCATION:Windsor Campus\, Media Room\, 3201 Windsor Road\, Austin\, TX\, United States
CATEGORIES:Adult Formation,Featured Events,Windsor Campus,Mom’s Bible Study
ATTACH;FMTTYPE=image/jpeg:https://gsaustin.org/wp-content/uploads/2022/08/2023-09_MomBibleStudy_Event-2.jpg
ORGANIZER;CN="Jessica Riels":MAILTO:jessica@gsaustin.org
END:VEVENT
BEGIN:VEVENT
DTSTART;TZID=America/Chicago:20250916T093000
DTEND;TZID=America/Chicago:20250916T103000
DTSTAMP:20260420T024627
CREATED:20250903T173137Z
LAST-MODIFIED:20260323T153834Z
UID:10049290-1758015000-1758018600@gsaustin.org
SUMMARY:Mom's Bible Study
DESCRIPTION:We gather in person to support one another in the trials and joys of motherhood.\nWe hold space to meet weekly and explore together mini-sabbaths and bite-size spiritual practices when there is seemingly never enough time in the day for ourselves. The group is comprised of moms of all ages\, with a particular emphasis on those with small children at home. Nursery care is provided. New members are welcome to join us at any time. This group meets September-May.\nFor more information please contact Jessica Riels.
URL:https://gsaustin.org/event/moms-bible-study/2025-09-16/
LOCATION:Windsor Campus\, Media Room\, 3201 Windsor Road\, Austin\, TX\, United States
CATEGORIES:Adult Formation,Featured Events,Windsor Campus,Mom’s Bible Study
ATTACH;FMTTYPE=image/jpeg:https://gsaustin.org/wp-content/uploads/2022/08/2023-09_MomBibleStudy_Event-2.jpg
ORGANIZER;CN="Jessica Riels":MAILTO:jessica@gsaustin.org
END:VEVENT
BEGIN:VEVENT
DTSTART;TZID=America/Chicago:20250909T093000
DTEND;TZID=America/Chicago:20250909T103000
DTSTAMP:20260420T024627
CREATED:20250903T173137Z
LAST-MODIFIED:20260323T153834Z
UID:10048757-1757410200-1757413800@gsaustin.org
SUMMARY:Mom's Bible Study
DESCRIPTION:We gather in person to support one another in the trials and joys of motherhood.\nWe hold space to meet weekly and explore together mini-sabbaths and bite-size spiritual practices when there is seemingly never enough time in the day for ourselves. The group is comprised of moms of all ages\, with a particular emphasis on those with small children at home. Nursery care is provided. New members are welcome to join us at any time. This group meets September-May.\nFor more information please contact Jessica Riels.
URL:https://gsaustin.org/event/moms-bible-study/2025-09-09/
LOCATION:Windsor Campus\, Media Room\, 3201 Windsor Road\, Austin\, TX\, United States
CATEGORIES:Adult Formation,Featured Events,Windsor Campus,Mom’s Bible Study
ATTACH;FMTTYPE=image/jpeg:https://gsaustin.org/wp-content/uploads/2022/08/2023-09_MomBibleStudy_Event-2.jpg
ORGANIZER;CN="Jessica Riels":MAILTO:jessica@gsaustin.org
END:VEVENT
END:VCALENDAR