BEGIN:VCALENDAR
VERSION:2.0
PRODID:-//The Episcopal Church of the Good Shepherd - ECPv6.15.18//NONSGML v1.0//EN
CALSCALE:GREGORIAN
METHOD:PUBLISH
X-ORIGINAL-URL:https://gsaustin.org
X-WR-CALDESC:Events for The Episcopal Church of the Good Shepherd
REFRESH-INTERVAL;VALUE=DURATION:PT1H
X-Robots-Tag:noindex
X-PUBLISHED-TTL:PT1H
BEGIN:VTIMEZONE
TZID:America/Chicago
BEGIN:DAYLIGHT
TZOFFSETFROM:-0600
TZOFFSETTO:-0500
TZNAME:CDT
DTSTART:20230312T080000
END:DAYLIGHT
BEGIN:STANDARD
TZOFFSETFROM:-0500
TZOFFSETTO:-0600
TZNAME:CST
DTSTART:20231105T070000
END:STANDARD
BEGIN:DAYLIGHT
TZOFFSETFROM:-0600
TZOFFSETTO:-0500
TZNAME:CDT
DTSTART:20240310T080000
END:DAYLIGHT
BEGIN:STANDARD
TZOFFSETFROM:-0500
TZOFFSETTO:-0600
TZNAME:CST
DTSTART:20241103T070000
END:STANDARD
BEGIN:DAYLIGHT
TZOFFSETFROM:-0600
TZOFFSETTO:-0500
TZNAME:CDT
DTSTART:20250309T080000
END:DAYLIGHT
BEGIN:STANDARD
TZOFFSETFROM:-0500
TZOFFSETTO:-0600
TZNAME:CST
DTSTART:20251102T070000
END:STANDARD
BEGIN:DAYLIGHT
TZOFFSETFROM:-0600
TZOFFSETTO:-0500
TZNAME:CDT
DTSTART:20260308T080000
END:DAYLIGHT
BEGIN:STANDARD
TZOFFSETFROM:-0500
TZOFFSETTO:-0600
TZNAME:CST
DTSTART:20261101T070000
END:STANDARD
END:VTIMEZONE
BEGIN:VEVENT
DTSTART;TZID=America/Chicago:20250504T113000
DTEND;TZID=America/Chicago:20250504T130000
DTSTAMP:20260424T144101
CREATED:20220407T200223Z
LAST-MODIFIED:20250410T195514Z
UID:10048133-1746358200-1746363600@gsaustin.org
SUMMARY:Young Adults Cinco de Mayo Party
DESCRIPTION:Our young adults group fosters community and connection among those in the congregation in their 20’s and 30’s. Join us for a festive lunch and opportunity to socialize after church. \nRegister for the Cinco de Mayo lunch by Thursday\, May 1 by clicking here.\nWith questions\, please contact Jessica Riels.
URL:https://gsaustin.org/event/cinco-de-mayo/
LOCATION:Windsor Campus\, Allen Hall\, 3201 Windsor Road\, Austin\, TX\, 78703\, United States
CATEGORIES:Featured Events,Parish Life,Outreach,St. Brigid’s Guild,St. Anne’s Guild
ATTACH;FMTTYPE=image/png:https://gsaustin.org/wp-content/uploads/2022/04/2025-05-04_CincoDeMayo_Event.png
END:VEVENT
BEGIN:VEVENT
DTSTART;TZID=America/Chicago:20240528T113000
DTEND;TZID=America/Chicago:20240528T130000
DTSTAMP:20260424T144101
CREATED:20230509T202743Z
LAST-MODIFIED:20240507T160557Z
UID:10018287-1716895800-1716901200@gsaustin.org
SUMMARY:Saint Anne’s Spring Luncheon
DESCRIPTION:The Guild will wrap up the program year with a spring luncheon catered by Reale’s Italian Cafe. Reservations to the event can be filled by sending a $35 check to our treasurer: Ruth Whitehurst\, Treasurer St. Anne’s Guild 5811 Trailridge Dr. Austin\, TX 78731. Seating for the event is limited to 40. Please have your reservations in by May 20th. \nPlease mail your check to: \nRuth Whitehurst\, Treasurer\,\nSt. Anne’s Guild\, 5811 Trailridge Dr.\,\nAustin\, TX  78731   
URL:https://gsaustin.org/event/saint-annes-spring-luncheon/
LOCATION:Windsor Campus\, Parish Life Center (PLC)\, 3201 Windsor Road\, Austin\, TX\, 78703\, United States
CATEGORIES:Windsor Campus,St. Anne’s Guild
ATTACH;FMTTYPE=image/jpeg:https://gsaustin.org/wp-content/uploads/2023/05/2023-05_StAnnesLuncheon_Event.jpg
END:VEVENT
BEGIN:VEVENT
DTSTART;TZID=America/Chicago:20240206T100000
DTEND;TZID=America/Chicago:20240206T140000
DTSTAMP:20260424T144101
CREATED:20230106T232450Z
LAST-MODIFIED:20240118T204141Z
UID:10042047-1707213600-1707228000@gsaustin.org
SUMMARY:Valentine's Luncheon & Game Day
DESCRIPTION:ST. ANNE’S & ST. BRIGID’S VALENTINE GAME DAY AND SWEETHEART LUNCHEON  \nPlease join us for the annual Valentine’s Luncheon & Game Day — a fun event for all friends and members of Good Shepherd. \nAll women of the parish are invited to organize a table to play bridge\, mahjong\, hearts\, dominos\, or scrabble and enjoy a delicious luncheon with your girlfriends. Buy an ornament for the Sweetheart Tree to honor or remember a loved one. \nAll proceeds from this event will benefit Hill Community Ministry and Hillside Early Childhood Center.\nThe festivities will take place at the Windsor\, PLC from 10:00a–2:00p. For more information\, please contact Kathy Lowman. 
URL:https://gsaustin.org/event/valentines-luncheon-and-game-day/
LOCATION:Windsor Campus\, Parish Life Center (PLC)\, 3201 Windsor Road\, Austin\, TX\, 78703\, United States
CATEGORIES:Featured Events,St. Brigid’s Guild,St. Anne’s Guild
ATTACH;FMTTYPE=image/png:https://gsaustin.org/wp-content/uploads/2024/01/2024-02_StAnnesValentineGame.png
ORGANIZER;CN="St. Anne's Guild":MAILTO:renemy@swbell.net
END:VEVENT
END:VCALENDAR