BEGIN:VCALENDAR
VERSION:2.0
PRODID:-//The Episcopal Church of the Good Shepherd - ECPv6.15.18//NONSGML v1.0//EN
CALSCALE:GREGORIAN
METHOD:PUBLISH
X-WR-CALNAME:The Episcopal Church of the Good Shepherd
X-ORIGINAL-URL:https://gsaustin.org
X-WR-CALDESC:Events for The Episcopal Church of the Good Shepherd
REFRESH-INTERVAL;VALUE=DURATION:PT1H
X-Robots-Tag:noindex
X-PUBLISHED-TTL:PT1H
BEGIN:VTIMEZONE
TZID:America/Chicago
BEGIN:DAYLIGHT
TZOFFSETFROM:-0600
TZOFFSETTO:-0500
TZNAME:CDT
DTSTART:20250309T080000
END:DAYLIGHT
BEGIN:STANDARD
TZOFFSETFROM:-0500
TZOFFSETTO:-0600
TZNAME:CST
DTSTART:20251102T070000
END:STANDARD
BEGIN:DAYLIGHT
TZOFFSETFROM:-0600
TZOFFSETTO:-0500
TZNAME:CDT
DTSTART:20260308T080000
END:DAYLIGHT
BEGIN:STANDARD
TZOFFSETFROM:-0500
TZOFFSETTO:-0600
TZNAME:CST
DTSTART:20261101T070000
END:STANDARD
BEGIN:DAYLIGHT
TZOFFSETFROM:-0600
TZOFFSETTO:-0500
TZNAME:CDT
DTSTART:20270314T080000
END:DAYLIGHT
BEGIN:STANDARD
TZOFFSETFROM:-0500
TZOFFSETTO:-0600
TZNAME:CST
DTSTART:20271107T070000
END:STANDARD
END:VTIMEZONE
BEGIN:VEVENT
DTSTART;TZID=America/Chicago:20260403T070000
DTEND;TZID=America/Chicago:20260403T073000
DTSTAMP:20260420T171752
CREATED:20260126T164508Z
LAST-MODIFIED:20260218T225630Z
UID:10050463-1775199600-1775201400@gsaustin.org
SUMMARY:Lenten Weekday Holy Eucharist
DESCRIPTION:We invite you to make our Lenten weekday services part of your Lenten discipline.\nWe celebrate the Eucharist each weekday morning at 7:00a in the Windsor chapel.
URL:https://gsaustin.org/event/lenten-weekday-holy-eucharist-2/2026-04-03/
LOCATION:Windsor Campus\, Chapel\, 3201 Windsor Road\, Austin\, TX\, 78703\, United States
CATEGORIES:Windsor Campus,Worship
ATTACH;FMTTYPE=image/jpeg:https://gsaustin.org/wp-content/uploads/2026/01/LentServices_Event.jpg
ORGANIZER;CN="The Rev. Brin Bon":MAILTO:brin@gsaustin.org
END:VEVENT
BEGIN:VEVENT
DTSTART;TZID=America/Chicago:20260403T120000
DTEND;TZID=America/Chicago:20260403T130000
DTSTAMP:20260420T171752
CREATED:20220329T024550Z
LAST-MODIFIED:20260317T220523Z
UID:10042432-1775217600-1775221200@gsaustin.org
SUMMARY:Good Friday Liturgy
DESCRIPTION:Recounting the suffering and death of Jesus\, the Good Friday liturgy invites us to bring to the Cross in prayer our own deep needs and those of the world. Holy Communion will be distributed. This is the second of three services in the Triduum\, which continues on Holy Saturday. \nThis service will be livestreamed.
URL:https://gsaustin.org/event/good-friday-holy-eucharist/
LOCATION:Windsor Campus\, Nave\, 3201 Windsor Road\, Austin\, 78703
CATEGORIES:Featured Events,Windsor Campus,Worship,Holy Week
ATTACH;FMTTYPE=image/png:https://gsaustin.org/wp-content/uploads/2022/03/2026_GoodFriday.png
ORGANIZER;CN="The Rev. Brin Bon":MAILTO:brin@gsaustin.org
END:VEVENT
BEGIN:VEVENT
DTSTART;TZID=America/Chicago:20260403T190000
DTEND;TZID=America/Chicago:20260403T200000
DTSTAMP:20260420T171752
CREATED:20250401T185432Z
LAST-MODIFIED:20260317T220926Z
UID:10048322-1775242800-1775246400@gsaustin.org
SUMMARY:Good Friday Service at the Hill
DESCRIPTION:The second service of the Triduum\, our Good Friday service at the Hill is a solemn service recalling Jesus’ crucifixion and inviting us to ponder God’s great love for us that reaches even to death and the grave. This service is brief and does not include communion.
URL:https://gsaustin.org/event/good-friday-service-hill/
LOCATION:The Hill\, 1700 Woodland Avenue\, Austin\, 78741\, United States
CATEGORIES:Featured Events,The Hill,Windsor Campus,Worship,Holy Week
ATTACH;FMTTYPE=image/png:https://gsaustin.org/wp-content/uploads/2022/03/2026_GoodFriday-Hill.png
ORGANIZER;CN="The Rev. Leah Wise":MAILTO:leah@gsaustin.org
END:VEVENT
END:VCALENDAR