BEGIN:VCALENDAR
VERSION:2.0
PRODID:-//The Episcopal Church of the Good Shepherd - ECPv6.15.18//NONSGML v1.0//EN
CALSCALE:GREGORIAN
METHOD:PUBLISH
X-WR-CALNAME:The Episcopal Church of the Good Shepherd
X-ORIGINAL-URL:https://gsaustin.org
X-WR-CALDESC:Events for The Episcopal Church of the Good Shepherd
REFRESH-INTERVAL;VALUE=DURATION:PT1H
X-Robots-Tag:noindex
X-PUBLISHED-TTL:PT1H
BEGIN:VTIMEZONE
TZID:America/Chicago
BEGIN:DAYLIGHT
TZOFFSETFROM:-0600
TZOFFSETTO:-0500
TZNAME:CDT
DTSTART:20220313T080000
END:DAYLIGHT
BEGIN:STANDARD
TZOFFSETFROM:-0500
TZOFFSETTO:-0600
TZNAME:CST
DTSTART:20221106T070000
END:STANDARD
BEGIN:DAYLIGHT
TZOFFSETFROM:-0600
TZOFFSETTO:-0500
TZNAME:CDT
DTSTART:20230312T080000
END:DAYLIGHT
BEGIN:STANDARD
TZOFFSETFROM:-0500
TZOFFSETTO:-0600
TZNAME:CST
DTSTART:20231105T070000
END:STANDARD
BEGIN:DAYLIGHT
TZOFFSETFROM:-0600
TZOFFSETTO:-0500
TZNAME:CDT
DTSTART:20240310T080000
END:DAYLIGHT
BEGIN:STANDARD
TZOFFSETFROM:-0500
TZOFFSETTO:-0600
TZNAME:CST
DTSTART:20241103T070000
END:STANDARD
BEGIN:DAYLIGHT
TZOFFSETFROM:-0600
TZOFFSETTO:-0500
TZNAME:CDT
DTSTART:20250309T080000
END:DAYLIGHT
BEGIN:STANDARD
TZOFFSETFROM:-0500
TZOFFSETTO:-0600
TZNAME:CST
DTSTART:20251102T070000
END:STANDARD
END:VTIMEZONE
BEGIN:VEVENT
DTSTART;TZID=America/Chicago:20231210T091500
DTEND;TZID=America/Chicago:20231210T100000
DTSTAMP:20260421T104549
CREATED:20220328T182320Z
LAST-MODIFIED:20260311T163949Z
UID:10036116-1702199700-1702202400@gsaustin.org
SUMMARY:Early Church: Holy Eucharist
DESCRIPTION:Please join us for our Sunday morning service Early Church in the PLC. \nWith special attention to children ages 8 years and younger\, this service will be shorter in duration\, including a brief sermon. \nIf your child would like to participate as an usher or reader\, or you have any questions\, please contact the Rev. Brin Bon.
URL:https://gsaustin.org/event/early-church/2023-12-10/
LOCATION:Windsor Campus\, Parish Life Center (PLC)\, 3201 Windsor Road\, Austin\, TX\, 78703\, United States
CATEGORIES:kids youth and family,Kids,Youth Ministry,Worship,Holy Week
ORGANIZER;CN="The Rev. Brin Bon":MAILTO:brin@gsaustin.org
END:VEVENT
BEGIN:VEVENT
DTSTART;TZID=America/Chicago:20231217T091500
DTEND;TZID=America/Chicago:20231217T100000
DTSTAMP:20260421T104549
CREATED:20220328T182320Z
LAST-MODIFIED:20260311T163949Z
UID:10050510-1702804500-1702807200@gsaustin.org
SUMMARY:Early Church: Holy Eucharist
DESCRIPTION:Please join us for our Sunday morning service Early Church in the PLC. \nWith special attention to children ages 8 years and younger\, this service will be shorter in duration\, including a brief sermon. \nIf your child would like to participate as an usher or reader\, or you have any questions\, please contact the Rev. Brin Bon.
URL:https://gsaustin.org/event/early-church/2023-12-17/
LOCATION:Windsor Campus\, Parish Life Center (PLC)\, 3201 Windsor Road\, Austin\, TX\, 78703\, United States
CATEGORIES:kids youth and family,Kids,Youth Ministry,Worship,Holy Week
ORGANIZER;CN="The Rev. Brin Bon":MAILTO:brin@gsaustin.org
END:VEVENT
BEGIN:VEVENT
DTSTART;TZID=America/Chicago:20231224T091500
DTEND;TZID=America/Chicago:20231224T100000
DTSTAMP:20260421T104549
CREATED:20220328T182320Z
LAST-MODIFIED:20260311T163949Z
UID:10050511-1703409300-1703412000@gsaustin.org
SUMMARY:Early Church: Holy Eucharist
DESCRIPTION:Please join us for our Sunday morning service Early Church in the PLC. \nWith special attention to children ages 8 years and younger\, this service will be shorter in duration\, including a brief sermon. \nIf your child would like to participate as an usher or reader\, or you have any questions\, please contact the Rev. Brin Bon.
URL:https://gsaustin.org/event/early-church/2023-12-24/
LOCATION:Windsor Campus\, Parish Life Center (PLC)\, 3201 Windsor Road\, Austin\, TX\, 78703\, United States
CATEGORIES:kids youth and family,Kids,Youth Ministry,Worship,Holy Week
ORGANIZER;CN="The Rev. Brin Bon":MAILTO:brin@gsaustin.org
END:VEVENT
BEGIN:VEVENT
DTSTART;TZID=America/Chicago:20231231T091500
DTEND;TZID=America/Chicago:20231231T100000
DTSTAMP:20260421T104549
CREATED:20220328T182320Z
LAST-MODIFIED:20260311T163949Z
UID:10050512-1704014100-1704016800@gsaustin.org
SUMMARY:Early Church: Holy Eucharist
DESCRIPTION:Please join us for our Sunday morning service Early Church in the PLC. \nWith special attention to children ages 8 years and younger\, this service will be shorter in duration\, including a brief sermon. \nIf your child would like to participate as an usher or reader\, or you have any questions\, please contact the Rev. Brin Bon.
URL:https://gsaustin.org/event/early-church/2023-12-31/
LOCATION:Windsor Campus\, Parish Life Center (PLC)\, 3201 Windsor Road\, Austin\, TX\, 78703\, United States
CATEGORIES:kids youth and family,Kids,Youth Ministry,Worship,Holy Week
ORGANIZER;CN="The Rev. Brin Bon":MAILTO:brin@gsaustin.org
END:VEVENT
BEGIN:VEVENT
DTSTART;TZID=America/Chicago:20240107T091500
DTEND;TZID=America/Chicago:20240107T100000
DTSTAMP:20260421T104549
CREATED:20220328T182320Z
LAST-MODIFIED:20260311T163949Z
UID:10036120-1704618900-1704621600@gsaustin.org
SUMMARY:Early Church: Holy Eucharist
DESCRIPTION:Please join us for our Sunday morning service Early Church in the PLC. \nWith special attention to children ages 8 years and younger\, this service will be shorter in duration\, including a brief sermon. \nIf your child would like to participate as an usher or reader\, or you have any questions\, please contact the Rev. Brin Bon.
URL:https://gsaustin.org/event/early-church/2024-01-07/
LOCATION:Windsor Campus\, Parish Life Center (PLC)\, 3201 Windsor Road\, Austin\, TX\, 78703\, United States
CATEGORIES:kids youth and family,Kids,Youth Ministry,Worship,Holy Week
ORGANIZER;CN="The Rev. Brin Bon":MAILTO:brin@gsaustin.org
END:VEVENT
BEGIN:VEVENT
DTSTART;TZID=America/Chicago:20240110T173000
DTEND;TZID=America/Chicago:20240110T193000
DTSTAMP:20260421T104549
CREATED:20211214T020100Z
LAST-MODIFIED:20240103T233333Z
UID:10042216-1704907800-1704915000@gsaustin.org
SUMMARY:The Star Movie Night + Feast of Light Epiphany Celebration
DESCRIPTION:Join us for our Feast of Light where we celebrate the Epiphany—when the baby Jesus was honored and presented with gifts by wise men who followed the light of a star to find him. At 5:30p\, we will have a celebration of Jesus’s appearance and the journey\nof the Magi with the medieval tradition of chalking the door. The movie will begin at 6:00p. The Star (PG\, 1:26m in length) is an entertaining animated film for all ages about a donkey named Bo that followed the light of a star on an adventure and became a part of the sacred story of the Holy Family. Please register for dinner by clicking HERE. \n• 5:30p-6:30p—Dinner in the PLC (This is our new dinner time!)\nMENU: spaghetti & meatballs\, broccoli\, garlic bread\, Italian cream cake \n• 5:30p—Chalking of the Door\n• 6:00p—Movie
URL:https://gsaustin.org/event/feast-of-light/
LOCATION:Windsor Campus\, Sanctuary\, 3201 Windsor Road\, Austin\, 78703
CATEGORIES:Featured Events,Children's Ministry,Youth Ministry,Epiphany
ATTACH;FMTTYPE=image/png:https://gsaustin.org/wp-content/uploads/2021/12/2024_FeastOfLight_Event.png
ORGANIZER;CN="Jessica Riels":MAILTO:jessica@gsaustin.org
END:VEVENT
BEGIN:VEVENT
DTSTART;TZID=America/Chicago:20240114T091500
DTEND;TZID=America/Chicago:20240114T100000
DTSTAMP:20260421T104549
CREATED:20220328T182320Z
LAST-MODIFIED:20260311T163949Z
UID:10036121-1705223700-1705226400@gsaustin.org
SUMMARY:Early Church: Holy Eucharist
DESCRIPTION:Please join us for our Sunday morning service Early Church in the PLC. \nWith special attention to children ages 8 years and younger\, this service will be shorter in duration\, including a brief sermon. \nIf your child would like to participate as an usher or reader\, or you have any questions\, please contact the Rev. Brin Bon.
URL:https://gsaustin.org/event/early-church/2024-01-14/
LOCATION:Windsor Campus\, Parish Life Center (PLC)\, 3201 Windsor Road\, Austin\, TX\, 78703\, United States
CATEGORIES:kids youth and family,Kids,Youth Ministry,Worship,Holy Week
ORGANIZER;CN="The Rev. Brin Bon":MAILTO:brin@gsaustin.org
END:VEVENT
BEGIN:VEVENT
DTSTART;TZID=America/Chicago:20240121T091500
DTEND;TZID=America/Chicago:20240121T100000
DTSTAMP:20260421T104549
CREATED:20220328T182320Z
LAST-MODIFIED:20260311T163949Z
UID:10036122-1705828500-1705831200@gsaustin.org
SUMMARY:Early Church: Holy Eucharist
DESCRIPTION:Please join us for our Sunday morning service Early Church in the PLC. \nWith special attention to children ages 8 years and younger\, this service will be shorter in duration\, including a brief sermon. \nIf your child would like to participate as an usher or reader\, or you have any questions\, please contact the Rev. Brin Bon.
URL:https://gsaustin.org/event/early-church/2024-01-21/
LOCATION:Windsor Campus\, Parish Life Center (PLC)\, 3201 Windsor Road\, Austin\, TX\, 78703\, United States
CATEGORIES:kids youth and family,Kids,Youth Ministry,Worship,Holy Week
ORGANIZER;CN="The Rev. Brin Bon":MAILTO:brin@gsaustin.org
END:VEVENT
BEGIN:VEVENT
DTSTART;TZID=America/Chicago:20240128T091500
DTEND;TZID=America/Chicago:20240128T100000
DTSTAMP:20260421T104549
CREATED:20220328T182320Z
LAST-MODIFIED:20260311T163949Z
UID:10036123-1706433300-1706436000@gsaustin.org
SUMMARY:Early Church: Holy Eucharist
DESCRIPTION:Please join us for our Sunday morning service Early Church in the PLC. \nWith special attention to children ages 8 years and younger\, this service will be shorter in duration\, including a brief sermon. \nIf your child would like to participate as an usher or reader\, or you have any questions\, please contact the Rev. Brin Bon.
URL:https://gsaustin.org/event/early-church/2024-01-28/
LOCATION:Windsor Campus\, Parish Life Center (PLC)\, 3201 Windsor Road\, Austin\, TX\, 78703\, United States
CATEGORIES:kids youth and family,Kids,Youth Ministry,Worship,Holy Week
ORGANIZER;CN="The Rev. Brin Bon":MAILTO:brin@gsaustin.org
END:VEVENT
BEGIN:VEVENT
DTSTART;TZID=America/Chicago:20240204T091500
DTEND;TZID=America/Chicago:20240204T100000
DTSTAMP:20260421T104549
CREATED:20220328T182320Z
LAST-MODIFIED:20260311T163949Z
UID:10036124-1707038100-1707040800@gsaustin.org
SUMMARY:Early Church: Holy Eucharist
DESCRIPTION:Please join us for our Sunday morning service Early Church in the PLC. \nWith special attention to children ages 8 years and younger\, this service will be shorter in duration\, including a brief sermon. \nIf your child would like to participate as an usher or reader\, or you have any questions\, please contact the Rev. Brin Bon.
URL:https://gsaustin.org/event/early-church/2024-02-04/
LOCATION:Windsor Campus\, Parish Life Center (PLC)\, 3201 Windsor Road\, Austin\, TX\, 78703\, United States
CATEGORIES:kids youth and family,Kids,Youth Ministry,Worship,Holy Week
ORGANIZER;CN="The Rev. Brin Bon":MAILTO:brin@gsaustin.org
END:VEVENT
BEGIN:VEVENT
DTSTART;TZID=America/Chicago:20240211T091500
DTEND;TZID=America/Chicago:20240211T100000
DTSTAMP:20260421T104549
CREATED:20220328T182320Z
LAST-MODIFIED:20260311T163949Z
UID:10036125-1707642900-1707645600@gsaustin.org
SUMMARY:Early Church: Holy Eucharist
DESCRIPTION:Please join us for our Sunday morning service Early Church in the PLC. \nWith special attention to children ages 8 years and younger\, this service will be shorter in duration\, including a brief sermon. \nIf your child would like to participate as an usher or reader\, or you have any questions\, please contact the Rev. Brin Bon.
URL:https://gsaustin.org/event/early-church/2024-02-11/
LOCATION:Windsor Campus\, Parish Life Center (PLC)\, 3201 Windsor Road\, Austin\, TX\, 78703\, United States
CATEGORIES:kids youth and family,Kids,Youth Ministry,Worship,Holy Week
ORGANIZER;CN="The Rev. Brin Bon":MAILTO:brin@gsaustin.org
END:VEVENT
BEGIN:VEVENT
DTSTART;TZID=America/Chicago:20240218T091500
DTEND;TZID=America/Chicago:20240218T100000
DTSTAMP:20260421T104549
CREATED:20220328T182320Z
LAST-MODIFIED:20260311T163949Z
UID:10036126-1708247700-1708250400@gsaustin.org
SUMMARY:Early Church: Holy Eucharist
DESCRIPTION:Please join us for our Sunday morning service Early Church in the PLC. \nWith special attention to children ages 8 years and younger\, this service will be shorter in duration\, including a brief sermon. \nIf your child would like to participate as an usher or reader\, or you have any questions\, please contact the Rev. Brin Bon.
URL:https://gsaustin.org/event/early-church/2024-02-18/
LOCATION:Windsor Campus\, Parish Life Center (PLC)\, 3201 Windsor Road\, Austin\, TX\, 78703\, United States
CATEGORIES:kids youth and family,Kids,Youth Ministry,Worship,Holy Week
ORGANIZER;CN="The Rev. Brin Bon":MAILTO:brin@gsaustin.org
END:VEVENT
BEGIN:VEVENT
DTSTART;TZID=America/Chicago:20240225T091500
DTEND;TZID=America/Chicago:20240225T100000
DTSTAMP:20260421T104549
CREATED:20220328T182320Z
LAST-MODIFIED:20260311T163949Z
UID:10036127-1708852500-1708855200@gsaustin.org
SUMMARY:Early Church: Holy Eucharist
DESCRIPTION:Please join us for our Sunday morning service Early Church in the PLC. \nWith special attention to children ages 8 years and younger\, this service will be shorter in duration\, including a brief sermon. \nIf your child would like to participate as an usher or reader\, or you have any questions\, please contact the Rev. Brin Bon.
URL:https://gsaustin.org/event/early-church/2024-02-25/
LOCATION:Windsor Campus\, Parish Life Center (PLC)\, 3201 Windsor Road\, Austin\, TX\, 78703\, United States
CATEGORIES:kids youth and family,Kids,Youth Ministry,Worship,Holy Week
ORGANIZER;CN="The Rev. Brin Bon":MAILTO:brin@gsaustin.org
END:VEVENT
BEGIN:VEVENT
DTSTART;TZID=America/Chicago:20240303T091500
DTEND;TZID=America/Chicago:20240303T100000
DTSTAMP:20260421T104549
CREATED:20220328T182320Z
LAST-MODIFIED:20260311T163949Z
UID:10036128-1709457300-1709460000@gsaustin.org
SUMMARY:Early Church: Holy Eucharist
DESCRIPTION:Please join us for our Sunday morning service Early Church in the PLC. \nWith special attention to children ages 8 years and younger\, this service will be shorter in duration\, including a brief sermon. \nIf your child would like to participate as an usher or reader\, or you have any questions\, please contact the Rev. Brin Bon.
URL:https://gsaustin.org/event/early-church/2024-03-03/
LOCATION:Windsor Campus\, Parish Life Center (PLC)\, 3201 Windsor Road\, Austin\, TX\, 78703\, United States
CATEGORIES:kids youth and family,Kids,Youth Ministry,Worship,Holy Week
ORGANIZER;CN="The Rev. Brin Bon":MAILTO:brin@gsaustin.org
END:VEVENT
BEGIN:VEVENT
DTSTART;TZID=America/Chicago:20240310T091500
DTEND;TZID=America/Chicago:20240310T100000
DTSTAMP:20260421T104549
CREATED:20220328T182320Z
LAST-MODIFIED:20260311T163949Z
UID:10036129-1710062100-1710064800@gsaustin.org
SUMMARY:Early Church: Holy Eucharist
DESCRIPTION:Please join us for our Sunday morning service Early Church in the PLC. \nWith special attention to children ages 8 years and younger\, this service will be shorter in duration\, including a brief sermon. \nIf your child would like to participate as an usher or reader\, or you have any questions\, please contact the Rev. Brin Bon.
URL:https://gsaustin.org/event/early-church/2024-03-10/
LOCATION:Windsor Campus\, Parish Life Center (PLC)\, 3201 Windsor Road\, Austin\, TX\, 78703\, United States
CATEGORIES:kids youth and family,Kids,Youth Ministry,Worship,Holy Week
ORGANIZER;CN="The Rev. Brin Bon":MAILTO:brin@gsaustin.org
END:VEVENT
BEGIN:VEVENT
DTSTART;TZID=America/Chicago:20240317T091500
DTEND;TZID=America/Chicago:20240317T100000
DTSTAMP:20260421T104549
CREATED:20220328T182320Z
LAST-MODIFIED:20260311T163949Z
UID:10036130-1710666900-1710669600@gsaustin.org
SUMMARY:Early Church: Holy Eucharist
DESCRIPTION:Please join us for our Sunday morning service Early Church in the PLC. \nWith special attention to children ages 8 years and younger\, this service will be shorter in duration\, including a brief sermon. \nIf your child would like to participate as an usher or reader\, or you have any questions\, please contact the Rev. Brin Bon.
URL:https://gsaustin.org/event/early-church/2024-03-17/
LOCATION:Windsor Campus\, Parish Life Center (PLC)\, 3201 Windsor Road\, Austin\, TX\, 78703\, United States
CATEGORIES:kids youth and family,Kids,Youth Ministry,Worship,Holy Week
ORGANIZER;CN="The Rev. Brin Bon":MAILTO:brin@gsaustin.org
END:VEVENT
BEGIN:VEVENT
DTSTART;TZID=America/Chicago:20240324T091500
DTEND;TZID=America/Chicago:20240324T100000
DTSTAMP:20260421T104549
CREATED:20220328T182320Z
LAST-MODIFIED:20260311T163949Z
UID:10036131-1711271700-1711274400@gsaustin.org
SUMMARY:Early Church: Holy Eucharist
DESCRIPTION:Please join us for our Sunday morning service Early Church in the PLC. \nWith special attention to children ages 8 years and younger\, this service will be shorter in duration\, including a brief sermon. \nIf your child would like to participate as an usher or reader\, or you have any questions\, please contact the Rev. Brin Bon.
URL:https://gsaustin.org/event/early-church/2024-03-24/
LOCATION:Windsor Campus\, Parish Life Center (PLC)\, 3201 Windsor Road\, Austin\, TX\, 78703\, United States
CATEGORIES:kids youth and family,Kids,Youth Ministry,Worship,Holy Week
ORGANIZER;CN="The Rev. Brin Bon":MAILTO:brin@gsaustin.org
END:VEVENT
BEGIN:VEVENT
DTSTART;TZID=America/Chicago:20240331T091500
DTEND;TZID=America/Chicago:20240331T100000
DTSTAMP:20260421T104549
CREATED:20220328T182320Z
LAST-MODIFIED:20260311T163949Z
UID:10050513-1711876500-1711879200@gsaustin.org
SUMMARY:Early Church: Holy Eucharist
DESCRIPTION:Please join us for our Sunday morning service Early Church in the PLC. \nWith special attention to children ages 8 years and younger\, this service will be shorter in duration\, including a brief sermon. \nIf your child would like to participate as an usher or reader\, or you have any questions\, please contact the Rev. Brin Bon.
URL:https://gsaustin.org/event/early-church/2024-03-31/
LOCATION:Windsor Campus\, Parish Life Center (PLC)\, 3201 Windsor Road\, Austin\, TX\, 78703\, United States
CATEGORIES:kids youth and family,Kids,Youth Ministry,Worship,Holy Week
ORGANIZER;CN="The Rev. Brin Bon":MAILTO:brin@gsaustin.org
END:VEVENT
BEGIN:VEVENT
DTSTART;TZID=America/Chicago:20240407T091500
DTEND;TZID=America/Chicago:20240407T100000
DTSTAMP:20260421T104549
CREATED:20220328T182320Z
LAST-MODIFIED:20260311T163949Z
UID:10036133-1712481300-1712484000@gsaustin.org
SUMMARY:Early Church: Holy Eucharist
DESCRIPTION:Please join us for our Sunday morning service Early Church in the PLC. \nWith special attention to children ages 8 years and younger\, this service will be shorter in duration\, including a brief sermon. \nIf your child would like to participate as an usher or reader\, or you have any questions\, please contact the Rev. Brin Bon.
URL:https://gsaustin.org/event/early-church/2024-04-07/
LOCATION:Windsor Campus\, Parish Life Center (PLC)\, 3201 Windsor Road\, Austin\, TX\, 78703\, United States
CATEGORIES:kids youth and family,Kids,Youth Ministry,Worship,Holy Week
ORGANIZER;CN="The Rev. Brin Bon":MAILTO:brin@gsaustin.org
END:VEVENT
BEGIN:VEVENT
DTSTART;TZID=America/Chicago:20240414T091500
DTEND;TZID=America/Chicago:20240414T100000
DTSTAMP:20260421T104549
CREATED:20220328T182320Z
LAST-MODIFIED:20260311T163949Z
UID:10036134-1713086100-1713088800@gsaustin.org
SUMMARY:Early Church: Holy Eucharist
DESCRIPTION:Please join us for our Sunday morning service Early Church in the PLC. \nWith special attention to children ages 8 years and younger\, this service will be shorter in duration\, including a brief sermon. \nIf your child would like to participate as an usher or reader\, or you have any questions\, please contact the Rev. Brin Bon.
URL:https://gsaustin.org/event/early-church/2024-04-14/
LOCATION:Windsor Campus\, Parish Life Center (PLC)\, 3201 Windsor Road\, Austin\, TX\, 78703\, United States
CATEGORIES:kids youth and family,Kids,Youth Ministry,Worship,Holy Week
ORGANIZER;CN="The Rev. Brin Bon":MAILTO:brin@gsaustin.org
END:VEVENT
BEGIN:VEVENT
DTSTART;TZID=America/Chicago:20240421T091500
DTEND;TZID=America/Chicago:20240421T100000
DTSTAMP:20260421T104549
CREATED:20220328T182320Z
LAST-MODIFIED:20260311T163949Z
UID:10036135-1713690900-1713693600@gsaustin.org
SUMMARY:Early Church: Holy Eucharist
DESCRIPTION:Please join us for our Sunday morning service Early Church in the PLC. \nWith special attention to children ages 8 years and younger\, this service will be shorter in duration\, including a brief sermon. \nIf your child would like to participate as an usher or reader\, or you have any questions\, please contact the Rev. Brin Bon.
URL:https://gsaustin.org/event/early-church/2024-04-21/
LOCATION:Windsor Campus\, Parish Life Center (PLC)\, 3201 Windsor Road\, Austin\, TX\, 78703\, United States
CATEGORIES:kids youth and family,Kids,Youth Ministry,Worship,Holy Week
ORGANIZER;CN="The Rev. Brin Bon":MAILTO:brin@gsaustin.org
END:VEVENT
BEGIN:VEVENT
DTSTART;TZID=America/Chicago:20240428T091500
DTEND;TZID=America/Chicago:20240428T100000
DTSTAMP:20260421T104549
CREATED:20220328T182320Z
LAST-MODIFIED:20260311T163949Z
UID:10036136-1714295700-1714298400@gsaustin.org
SUMMARY:Early Church: Holy Eucharist
DESCRIPTION:Please join us for our Sunday morning service Early Church in the PLC. \nWith special attention to children ages 8 years and younger\, this service will be shorter in duration\, including a brief sermon. \nIf your child would like to participate as an usher or reader\, or you have any questions\, please contact the Rev. Brin Bon.
URL:https://gsaustin.org/event/early-church/2024-04-28/
LOCATION:Windsor Campus\, Parish Life Center (PLC)\, 3201 Windsor Road\, Austin\, TX\, 78703\, United States
CATEGORIES:kids youth and family,Kids,Youth Ministry,Worship,Holy Week
ORGANIZER;CN="The Rev. Brin Bon":MAILTO:brin@gsaustin.org
END:VEVENT
BEGIN:VEVENT
DTSTART;TZID=America/Chicago:20240505T091500
DTEND;TZID=America/Chicago:20240505T100000
DTSTAMP:20260421T104549
CREATED:20220328T182320Z
LAST-MODIFIED:20260311T163949Z
UID:10036137-1714900500-1714903200@gsaustin.org
SUMMARY:Early Church: Holy Eucharist
DESCRIPTION:Please join us for our Sunday morning service Early Church in the PLC. \nWith special attention to children ages 8 years and younger\, this service will be shorter in duration\, including a brief sermon. \nIf your child would like to participate as an usher or reader\, or you have any questions\, please contact the Rev. Brin Bon.
URL:https://gsaustin.org/event/early-church/2024-05-05/
LOCATION:Windsor Campus\, Parish Life Center (PLC)\, 3201 Windsor Road\, Austin\, TX\, 78703\, United States
CATEGORIES:kids youth and family,Kids,Youth Ministry,Worship,Holy Week
ORGANIZER;CN="The Rev. Brin Bon":MAILTO:brin@gsaustin.org
END:VEVENT
BEGIN:VEVENT
DTSTART;TZID=America/Chicago:20240512T091500
DTEND;TZID=America/Chicago:20240512T100000
DTSTAMP:20260421T104549
CREATED:20220328T182320Z
LAST-MODIFIED:20260311T163949Z
UID:10036138-1715505300-1715508000@gsaustin.org
SUMMARY:Early Church: Holy Eucharist
DESCRIPTION:Please join us for our Sunday morning service Early Church in the PLC. \nWith special attention to children ages 8 years and younger\, this service will be shorter in duration\, including a brief sermon. \nIf your child would like to participate as an usher or reader\, or you have any questions\, please contact the Rev. Brin Bon.
URL:https://gsaustin.org/event/early-church/2024-05-12/
LOCATION:Windsor Campus\, Parish Life Center (PLC)\, 3201 Windsor Road\, Austin\, TX\, 78703\, United States
CATEGORIES:kids youth and family,Kids,Youth Ministry,Worship,Holy Week
ORGANIZER;CN="The Rev. Brin Bon":MAILTO:brin@gsaustin.org
END:VEVENT
BEGIN:VEVENT
DTSTART;TZID=America/Chicago:20240519T091500
DTEND;TZID=America/Chicago:20240519T100000
DTSTAMP:20260421T104549
CREATED:20220328T182320Z
LAST-MODIFIED:20260311T163949Z
UID:10036139-1716110100-1716112800@gsaustin.org
SUMMARY:Early Church: Holy Eucharist
DESCRIPTION:Please join us for our Sunday morning service Early Church in the PLC. \nWith special attention to children ages 8 years and younger\, this service will be shorter in duration\, including a brief sermon. \nIf your child would like to participate as an usher or reader\, or you have any questions\, please contact the Rev. Brin Bon.
URL:https://gsaustin.org/event/early-church/2024-05-19/
LOCATION:Windsor Campus\, Parish Life Center (PLC)\, 3201 Windsor Road\, Austin\, TX\, 78703\, United States
CATEGORIES:kids youth and family,Kids,Youth Ministry,Worship,Holy Week
ORGANIZER;CN="The Rev. Brin Bon":MAILTO:brin@gsaustin.org
END:VEVENT
BEGIN:VEVENT
DTSTART;TZID=America/Chicago:20240526T091500
DTEND;TZID=America/Chicago:20240526T100000
DTSTAMP:20260421T104549
CREATED:20220328T182320Z
LAST-MODIFIED:20260311T163949Z
UID:10036140-1716714900-1716717600@gsaustin.org
SUMMARY:Early Church: Holy Eucharist
DESCRIPTION:Please join us for our Sunday morning service Early Church in the PLC. \nWith special attention to children ages 8 years and younger\, this service will be shorter in duration\, including a brief sermon. \nIf your child would like to participate as an usher or reader\, or you have any questions\, please contact the Rev. Brin Bon.
URL:https://gsaustin.org/event/early-church/2024-05-26/
LOCATION:Windsor Campus\, Parish Life Center (PLC)\, 3201 Windsor Road\, Austin\, TX\, 78703\, United States
CATEGORIES:kids youth and family,Kids,Youth Ministry,Worship,Holy Week
ORGANIZER;CN="The Rev. Brin Bon":MAILTO:brin@gsaustin.org
END:VEVENT
BEGIN:VEVENT
DTSTART;TZID=America/Chicago:20240602T091500
DTEND;TZID=America/Chicago:20240602T100000
DTSTAMP:20260421T104549
CREATED:20220328T182320Z
LAST-MODIFIED:20260311T163949Z
UID:10036141-1717319700-1717322400@gsaustin.org
SUMMARY:Early Church: Holy Eucharist
DESCRIPTION:Please join us for our Sunday morning service Early Church in the PLC. \nWith special attention to children ages 8 years and younger\, this service will be shorter in duration\, including a brief sermon. \nIf your child would like to participate as an usher or reader\, or you have any questions\, please contact the Rev. Brin Bon.
URL:https://gsaustin.org/event/early-church/2024-06-02/
LOCATION:Windsor Campus\, Parish Life Center (PLC)\, 3201 Windsor Road\, Austin\, TX\, 78703\, United States
CATEGORIES:kids youth and family,Kids,Youth Ministry,Worship,Holy Week
ORGANIZER;CN="The Rev. Brin Bon":MAILTO:brin@gsaustin.org
END:VEVENT
BEGIN:VEVENT
DTSTART;TZID=America/Chicago:20240609T091500
DTEND;TZID=America/Chicago:20240609T100000
DTSTAMP:20260421T104549
CREATED:20220328T182320Z
LAST-MODIFIED:20260311T163949Z
UID:10036142-1717924500-1717927200@gsaustin.org
SUMMARY:Early Church: Holy Eucharist
DESCRIPTION:Please join us for our Sunday morning service Early Church in the PLC. \nWith special attention to children ages 8 years and younger\, this service will be shorter in duration\, including a brief sermon. \nIf your child would like to participate as an usher or reader\, or you have any questions\, please contact the Rev. Brin Bon.
URL:https://gsaustin.org/event/early-church/2024-06-09/
LOCATION:Windsor Campus\, Parish Life Center (PLC)\, 3201 Windsor Road\, Austin\, TX\, 78703\, United States
CATEGORIES:kids youth and family,Kids,Youth Ministry,Worship,Holy Week
ORGANIZER;CN="The Rev. Brin Bon":MAILTO:brin@gsaustin.org
END:VEVENT
BEGIN:VEVENT
DTSTART;TZID=America/Chicago:20240609T120000
DTEND;TZID=America/Chicago:20240609T140000
DTSTAMP:20260421T104549
CREATED:20240523T195629Z
LAST-MODIFIED:20240523T225011Z
UID:10043987-1717934400-1717941600@gsaustin.org
SUMMARY:Youth Leader Training Session
DESCRIPTION:We have a great group of youth in 6th–12th grade volunteering to help with our annual Shepherd and Edge Camp (VBS) this year! \nIf you would still like to join the fun\, please register and plan to join us for two meetings that youth volunteers are required to attend: \n\n‘Youth Church Worker Training’ on Sunday\, June 9 in the Media room on Windsor\n‘Volunteer Work Day and Set-Up’ on Sunday\, June 23 in the Media room on Windsor\n\nWith questions\, please contact the Rev. Brin Bon.
URL:https://gsaustin.org/event/youth-leader-training-session/
LOCATION:Windsor Campus\, Media Room\, 3201 Windsor Road\, Austin\, TX\, United States
CATEGORIES:Featured Events,Youth Ministry,Shepherd and Edge Camp
ATTACH;FMTTYPE=image/png:https://gsaustin.org/wp-content/uploads/2024/05/2024-06_ShepCamp-Training_Event-1.png
ORGANIZER;CN="The Rev. Brin Bon":MAILTO:brin@gsaustin.org
END:VEVENT
BEGIN:VEVENT
DTSTART;TZID=America/Chicago:20240616T091500
DTEND;TZID=America/Chicago:20240616T100000
DTSTAMP:20260421T104549
CREATED:20220328T182320Z
LAST-MODIFIED:20260311T163949Z
UID:10036143-1718529300-1718532000@gsaustin.org
SUMMARY:Early Church: Holy Eucharist
DESCRIPTION:Please join us for our Sunday morning service Early Church in the PLC. \nWith special attention to children ages 8 years and younger\, this service will be shorter in duration\, including a brief sermon. \nIf your child would like to participate as an usher or reader\, or you have any questions\, please contact the Rev. Brin Bon.
URL:https://gsaustin.org/event/early-church/2024-06-16/
LOCATION:Windsor Campus\, Parish Life Center (PLC)\, 3201 Windsor Road\, Austin\, TX\, 78703\, United States
CATEGORIES:kids youth and family,Kids,Youth Ministry,Worship,Holy Week
ORGANIZER;CN="The Rev. Brin Bon":MAILTO:brin@gsaustin.org
END:VEVENT
END:VCALENDAR