BEGIN:VCALENDAR
VERSION:2.0
PRODID:-//The Episcopal Church of the Good Shepherd - ECPv6.15.18//NONSGML v1.0//EN
CALSCALE:GREGORIAN
METHOD:PUBLISH
X-WR-CALNAME:The Episcopal Church of the Good Shepherd
X-ORIGINAL-URL:https://gsaustin.org
X-WR-CALDESC:Events for The Episcopal Church of the Good Shepherd
REFRESH-INTERVAL;VALUE=DURATION:PT1H
X-Robots-Tag:noindex
X-PUBLISHED-TTL:PT1H
BEGIN:VTIMEZONE
TZID:America/Chicago
BEGIN:DAYLIGHT
TZOFFSETFROM:-0600
TZOFFSETTO:-0500
TZNAME:CDT
DTSTART:20230312T080000
END:DAYLIGHT
BEGIN:STANDARD
TZOFFSETFROM:-0500
TZOFFSETTO:-0600
TZNAME:CST
DTSTART:20231105T070000
END:STANDARD
BEGIN:DAYLIGHT
TZOFFSETFROM:-0600
TZOFFSETTO:-0500
TZNAME:CDT
DTSTART:20240310T080000
END:DAYLIGHT
BEGIN:STANDARD
TZOFFSETFROM:-0500
TZOFFSETTO:-0600
TZNAME:CST
DTSTART:20241103T070000
END:STANDARD
BEGIN:DAYLIGHT
TZOFFSETFROM:-0600
TZOFFSETTO:-0500
TZNAME:CDT
DTSTART:20250309T080000
END:DAYLIGHT
BEGIN:STANDARD
TZOFFSETFROM:-0500
TZOFFSETTO:-0600
TZNAME:CST
DTSTART:20251102T070000
END:STANDARD
END:VTIMEZONE
BEGIN:VEVENT
DTSTART;TZID=America/Chicago:20241215T103000
DTEND;TZID=America/Chicago:20241215T113000
DTSTAMP:20260422T040916
CREATED:20230612T143728Z
LAST-MODIFIED:20260311T164115Z
UID:10035180-1734258600-1734262200@gsaustin.org
SUMMARY:Holy Eucharist with Organ and Choir
DESCRIPTION:Our most well-attended hour of worship\, we customarily pray this mid-morning service in the The Book of Common Prayer’s Rite II. Supported by the choral leadership of the Good Shepherd Choir and organ\, the 10:30a includes readings from scripture; a sermon; congregational hymns; prayers for God’s Church\, the world\, ourselves\, and one another; and the celebration of the Holy Eucharist.
URL:https://gsaustin.org/event/holy-eucharist-with-choir/2024-12-15/
LOCATION:Windsor Campus\, Nave\, 3201 Windsor Road\, Austin\, 78703
CATEGORIES:Windsor Campus,Worship
END:VEVENT
BEGIN:VEVENT
DTSTART;TZID=America/Chicago:20241215T180000
DTEND;TZID=America/Chicago:20241215T190000
DTSTAMP:20260422T040916
CREATED:20211202T051323Z
LAST-MODIFIED:20241111T213139Z
UID:10041919-1734285600-1734289200@gsaustin.org
SUMMARY:Advent Festival of Lessons and Carols
DESCRIPTION:The Good Shepherd Music Ministry presents a Festival of Lessons & Carols for Advent. Favorite carols\, choral masterworks and great organ music will be offered\, with a reception following in the Parish Life Center. \nFor more information please contact Chris Oelkers.
URL:https://gsaustin.org/event/advent-festival-of-lessons-and-carols/
LOCATION:Windsor Campus\, Nave\, 3201 Windsor Road\, Austin\, 78703
CATEGORIES:Worship
ORGANIZER;CN="Chris Oelkers":MAILTO:chris@gsaustin.org
END:VEVENT
BEGIN:VEVENT
DTSTART;TZID=America/Chicago:20241218T173000
DTEND;TZID=America/Chicago:20241218T180000
DTSTAMP:20260422T040916
CREATED:20220917T021808Z
LAST-MODIFIED:20260122T184636Z
UID:10046651-1734543000-1734544800@gsaustin.org
SUMMARY:Healing Service
DESCRIPTION:This quiet\, reflective service takes time to pray specifically for those whose names appear on our prayer lists – those who suffer in any way\, our expectant mothers and newborn babies and their families\, those who have died\, and those serving in the armed forces. Anointing of the sick is offered to those who so desire\, and the liturgy concludes with Holy Communion. \nWednesdays at 5:30p in the chapel on the Windsor campus.
URL:https://gsaustin.org/event/healing-service/2024-12-18/
LOCATION:Windsor Campus\, Chapel\, 3201 Windsor Road\, Austin\, TX\, 78703\, United States
CATEGORIES:Featured Events,Windsor Campus
ATTACH;FMTTYPE=image/png:https://gsaustin.org/wp-content/uploads/2022/09/healing-2.png
ORGANIZER;CN="The Rev. Brin Bon":MAILTO:brin@gsaustin.org
END:VEVENT
BEGIN:VEVENT
DTSTART;TZID=America/Chicago:20241218T183000
DTEND;TZID=America/Chicago:20241218T200000
DTSTAMP:20260422T040916
CREATED:20211202T032013Z
LAST-MODIFIED:20240217T223451Z
UID:10042654-1734546600-1734552000@gsaustin.org
SUMMARY:Vestry meeting
DESCRIPTION:Regular monthly meeting of the parish vestry.
URL:https://gsaustin.org/event/vestry-meeting/2024-12-18/
LOCATION:Windsor Campus\, Vestry Room\, 3201 Windsor Road\, Austin\, TX\, 78703\, United States
CATEGORIES:Vestry
ATTACH;FMTTYPE=image/png:https://gsaustin.org/wp-content/uploads/2021/12/VestryMeeting_Windsor.png
END:VEVENT
BEGIN:VEVENT
DTSTART;TZID=America/Chicago:20241218T193000
DTEND;TZID=America/Chicago:20241218T210000
DTSTAMP:20260422T040916
CREATED:20230910T163002Z
LAST-MODIFIED:20251209T193917Z
UID:10047798-1734550200-1734555600@gsaustin.org
SUMMARY:Good Shepherd Adult Choir Rehearsal
DESCRIPTION:The Good Shepherd Adult Choir leads worship at our 10:30a Sunday services in the church building and at special liturgies throughout the year.  \nWe draw on the very best of ancient\, modern and world music\, including works by local Austin composers.\nIf you can sing well\, are willing to work hard\, and can commit to a rehearsal schedule\, we welcome your participation.  \nRehearsals take place on Wednesday evenings from 7:30p – 9:00p.\nNo audition is needed\, and you are welcome to sit in on a rehearsal any time if you’d like to try it out. \n With question\, please contact Chris Oelkers.
URL:https://gsaustin.org/event/good-shepherd-adult-choir-rehearsal/2024-12-18/
LOCATION:Windsor Campus\, Choir Room\, 3201 Windsor Road\, Austin\, TX\, 78703\, United States
CATEGORIES:Windsor Campus,Choir
ORGANIZER;CN="Chris Oelkers":MAILTO:chris@gsaustin.org
END:VEVENT
BEGIN:VEVENT
DTSTART;TZID=America/Chicago:20241219T110000
DTEND;TZID=America/Chicago:20241219T120000
DTSTAMP:20260422T040916
CREATED:20240905T201446Z
LAST-MODIFIED:20250505T180338Z
UID:10046499-1734606000-1734609600@gsaustin.org
SUMMARY:Women on the Journey
DESCRIPTION:Women on the Journey meets in person and online for a time of spiritual connection\, mutual support\, study and prayer. Members find meaning and guidance for their own spiritual journeys and also become companions to one another on the journey of faith to which Christ beckons. New members are welcome to join us at any time. This group meets September–May. With questions or a link to join\, contact the Rev. Paige Alvarez Hanks. \n 
URL:https://gsaustin.org/event/women-on-the-journey-2/2024-12-19/
LOCATION:Windsor Campus\, Media Room\, 3201 Windsor Road\, Austin\, TX\, United States
CATEGORIES:Adult Formation,Formation,Virtual,Windsor Campus,Women on the Journey,Bible Study
ATTACH;FMTTYPE=image/png:https://gsaustin.org/wp-content/uploads/2022/08/WomenJourney_Event.png
ORGANIZER;CN="The Rev. Paige Alvarez Hanks":MAILTO:paige@gsaustin.com
END:VEVENT
BEGIN:VEVENT
DTSTART;TZID=America/Chicago:20241219T121500
DTEND;TZID=America/Chicago:20241219T124500
DTSTAMP:20260422T040916
CREATED:20241111T211216Z
LAST-MODIFIED:20241205T185427Z
UID:10047547-1734610500-1734612300@gsaustin.org
SUMMARY:Advent Organ Recital Series
DESCRIPTION:Join us for 30-minute organ recitals offered on Thursdays in Advent\, featuring fine organists from the Austin area performing seasonal music for Advent and Christmas. The concerts are free and open to the public\, with donations gratefully accepted. Recitals will be live-streamed on the GS website + Facebook. \n• December 5:Christoph Hintermüller\, St. Ignatius Martyr Parish• December 12:Chris Oelkers\, Good Shepherd• December 19:Jiae Kwak\, St. Louis King of France Parish
URL:https://gsaustin.org/event/advent-organ-recital-2/2024-12-19/
LOCATION:Windsor Campus\, Nave\, 3201 Windsor Road\, Austin\, 78703
CATEGORIES:Featured Events,Windsor Campus,Advent,Music Ministry
ATTACH;FMTTYPE=image/png:https://gsaustin.org/wp-content/uploads/2022/11/2023-12_Advent-Organ-Recitals_Event.png
ORGANIZER;CN="Chris Oelkers":MAILTO:chris@gsaustin.org
END:VEVENT
BEGIN:VEVENT
DTSTART;TZID=America/Chicago:20241219T160000
DTEND;TZID=America/Chicago:20241219T190000
DTSTAMP:20260422T040916
CREATED:20220517T213040Z
LAST-MODIFIED:20260409T150207Z
UID:10037020-1734624000-1734634800@gsaustin.org
SUMMARY:Mobile Loaves and Fishes: Food Truck Prep + Run
DESCRIPTION:Mobile Loaves and Fishes: Food Truck Prep + Run\nJoin Good Shepherd’s Team 102 for the Mobile Loaves and Fishes Food Truck prep and run. \nSign up to prepare sandwiches and load the truck from 4:00p-5:00p at the Mobile Loaves and Fishes Commissary (at St. John Neumann’s Catholic Church).\nYou may also sign up for the truck run from 5:00p-7:00p\, where you’ll take food to several locations around Austin. \nAll volunteers are welcome!\nThis is a wonderful opportunity for families with teens to serve together. \nTo sign up please CLICK HERE \nFor more information email Scott Ferguson.
URL:https://gsaustin.org/event/mlf-food-truck/2024-12-19/
LOCATION:St. John Neumann’s Catholic Church\, 5455 Bee Cave Road\, Austin\, TX\, 78746\, United States
CATEGORIES:Featured Events,Outreach,Volunteering
ATTACH;FMTTYPE=image/png:https://gsaustin.org/wp-content/uploads/2022/05/MLF_TruckPrep-Run.png
ORGANIZER;CN="Scott Ferguson":MAILTO:wklfjr@gmail.com
END:VEVENT
BEGIN:VEVENT
DTSTART;TZID=America/Chicago:20241220T090000
DTEND;TZID=America/Chicago:20241220T120000
DTSTAMP:20260422T040916
CREATED:20230614T201757Z
LAST-MODIFIED:20250410T202925Z
UID:10036767-1734685200-1734696000@gsaustin.org
SUMMARY:St. Brigid’s Guild Cook Day
DESCRIPTION:The St. Brigid’s Guild prepares frozen meal items on a regular basis for anyone in need\, helps when called upon with meal preparation for parish activities and outreach\, and is continually expanding the cooking knowledge of its members. \nSt. Brigid’s Guild Cook day is on the third Friday of every month in the PLC kitchen.\nWe are always looking for new guild members!\nIf you are interested in joining\, a food handler’s license is required. \nFor more information or to join the guild\, please email Louise Brown or call at 512 994 5800.
URL:https://gsaustin.org/event/st-brigids-guild-cook-day/2024-12-20/
LOCATION:Windsor Campus\, Parish Life Center\, Kitchen\, 3201 Windsor Rd\, Austin\, TX\, 78703\, United States
ORGANIZER;CN="Louise Brown":MAILTO:louisedb46@gmail.com
END:VEVENT
BEGIN:VEVENT
DTSTART;TZID=America/Chicago:20241220T103000
DTEND;TZID=America/Chicago:20241220T120000
DTSTAMP:20260422T040916
CREATED:20231107T004156Z
LAST-MODIFIED:20260415T210136Z
UID:10051016-1734690600-1734696000@gsaustin.org
SUMMARY:Prayer Shawl Meeting
DESCRIPTION:If you like to knit and or crochet\, or are interested in learning\, then you are welcome and invited to join the Prayer Shawl Ministry at Good Shepherd.\nWe meet the third Friday of the month at 10:30a in the art room upstairs in the Education building.\nYarn and friendship are provided! \nFor more information please contact Judy Vance.
URL:https://gsaustin.org/event/prayer-shawl-2/2024-12-20/
LOCATION:Windsor Campus\, Art Room\, 3201 Windsor Road\, Austin\, TX\, 78703\, United States
CATEGORIES:Featured Events,Windsor Campus,Prayer Shawl Ministry
ATTACH;FMTTYPE=image/jpeg:https://gsaustin.org/wp-content/uploads/2023/06/2023_PrayerShawl_event.jpg
ORGANIZER;CN="Judy Vance":MAILTO:javance06@yahoo.com
END:VEVENT
BEGIN:VEVENT
DTSTART;TZID=America/Chicago:20241221T090000
DTEND;TZID=America/Chicago:20241221T100000
DTSTAMP:20260422T040916
CREATED:20211224T040753Z
LAST-MODIFIED:20260326T202737Z
UID:10035897-1734771600-1734775200@gsaustin.org
SUMMARY:Altar Guild
DESCRIPTION:A team of women who work together to prepare the church and PLC for Sunday worship.\nThey serve on Saturdays from 9:00a–10:00a and on their scheduled Sunday morning as needed.\nAll are welcome to join one of six teams. \nFor more information contact Kathy Jolink
URL:https://gsaustin.org/event/altar-guild/2024-12-21/
LOCATION:Windsor Campus\, 3201 Windsor Road\, Austin\, TX\, 78748\, United States
CATEGORIES:Windsor Campus,Altar Guild
ORGANIZER;CN="Kathy Jolink":MAILTO:kathyj@gsaustin.org
END:VEVENT
BEGIN:VEVENT
DTSTART;TZID=America/Chicago:20241221T090000
DTEND;TZID=America/Chicago:20241221T120000
DTSTAMP:20260422T040916
CREATED:20240319T181517Z
LAST-MODIFIED:20250403T182414Z
UID:10042832-1734771600-1734782400@gsaustin.org
SUMMARY:Community First! Village: Move-Ins
DESCRIPTION:Join us to help Community First! Village set up new houses for our unhoused neighbors.\nVolunteers assemble furniture\, stock pantries\, hang pictures\, and clean and stock linens.\nWe also have an opportunity to tour the Village after our shift.\nGood Shepherd parishioners volunteer the 3rd Saturday of each month.\nWe need 12 volunteers total\, 6 for each house. Kids are encouraged to join in.\n\nClick HERE to sign up! \n\n\nWe meet at Community First! Village (9301 Hog Eye Rd Suite 950\, Austin\, TX 78724) at the Front Porch building across from the large parking lot on the first right turn after you come into the community and we will be guided to one of the new homes to clean and furnish for unhoused neighbors. \nCF!V is a 51-acre community that provides affordable\, permanent housing and a supportive community for people coming out of chronic homelessness.\n\nQuestions? Please contact Jack Wolfe.
URL:https://gsaustin.org/event/community-first-village-move-ins-2-2/2024-12-21/
LOCATION:Community First! Village\, 9301 Hog Eye Road\, Suite 950\, Austin\, TX\, 78724\, United States
CATEGORIES:Featured Events,Outreach,Volunteering
ATTACH;FMTTYPE=image/png:https://gsaustin.org/wp-content/uploads/2022/05/CFV_Moveins.png
ORGANIZER;CN="Jack Wolfe":MAILTO:jackwolfe@mac.com
END:VEVENT
BEGIN:VEVENT
DTSTART;TZID=America/Chicago:20241221T183000
DTEND;TZID=America/Chicago:20241221T193000
DTSTAMP:20260422T040916
CREATED:20221207T044845Z
LAST-MODIFIED:20241209T185957Z
UID:10041920-1734805800-1734809400@gsaustin.org
SUMMARY:The Longest Night Worship Service
DESCRIPTION:The Longest Night Worship Service\nAdvent and Christmas are often marked by expressions of joy\, excitement and happiness\, pointing to the hope that is found in the coming of the Christ child. This time of joy and expectation can sometimes overshadow grief and hurt that many also experience during this season\, when the world’s merriment puts the sorrow we may be experiencing in stark relief.\n\nPlease join us for a Service of the Longest Night at 6:30p where we will recognize our suffering and loss and acknowledge that our savior remains.
URL:https://gsaustin.org/event/the-longest-night-worship-service/
LOCATION:Windsor Campus\, Nave\, 3201 Windsor Road\, Austin\, 78703
CATEGORIES:Featured Events,Windsor Campus,Worship,Advent,Christmas
ATTACH;FMTTYPE=image/jpeg:https://gsaustin.org/wp-content/uploads/2022/12/2023_TheLongestNight_Event.jpg
END:VEVENT
BEGIN:VEVENT
DTSTART;TZID=America/Chicago:20241222T080000
DTEND;TZID=America/Chicago:20241222T090000
DTSTAMP:20260422T040916
CREATED:20240827T173644Z
LAST-MODIFIED:20260311T163915Z
UID:10045251-1734854400-1734858000@gsaustin.org
SUMMARY:Holy Eucharist
DESCRIPTION:We pray our early morning celebration of the Holy Eucharist using The Book of Common Prayer’s Rite II. The 8:00a service includes a sermon and Holy Communion. This service does not include music\, so there is ample opportunity for silence.
URL:https://gsaustin.org/event/holy-eucharist/2024-12-22/
LOCATION:Windsor Campus\, Nave\, 3201 Windsor Road\, Austin\, 78703
CATEGORIES:Worship
END:VEVENT
BEGIN:VEVENT
DTSTART;TZID=America/Chicago:20241222T091500
DTEND;TZID=America/Chicago:20241222T100000
DTSTAMP:20260422T040916
CREATED:20220328T182320Z
LAST-MODIFIED:20260311T163949Z
UID:10036170-1734858900-1734861600@gsaustin.org
SUMMARY:Early Church: Holy Eucharist
DESCRIPTION:Please join us for our Sunday morning service Early Church in the PLC. \nWith special attention to children ages 8 years and younger\, this service will be shorter in duration\, including a brief sermon. \nIf your child would like to participate as an usher or reader\, or you have any questions\, please contact the Rev. Brin Bon.
URL:https://gsaustin.org/event/early-church/2024-12-22/
LOCATION:Windsor Campus\, Parish Life Center (PLC)\, 3201 Windsor Road\, Austin\, TX\, 78703\, United States
CATEGORIES:kids youth and family,Kids,Youth Ministry,Worship,Holy Week
ORGANIZER;CN="The Rev. Brin Bon":MAILTO:brin@gsaustin.org
END:VEVENT
BEGIN:VEVENT
DTSTART;TZID=America/Chicago:20241222T093000
DTEND;TZID=America/Chicago:20241222T101500
DTSTAMP:20260422T040916
CREATED:20241120T000425Z
LAST-MODIFIED:20241209T211136Z
UID:10047464-1734859800-1734862500@gsaustin.org
SUMMARY:Children's Christmas Choir Practice
DESCRIPTION:the Hill Kids age 2 and up are invited to attend Sunday School at 9:30a during Advent to learn Christmas carols. They will perform them at the annual Christmas Carol Sing-Along on December 22. For more information\, contact the Rev. Leah Wise.
URL:https://gsaustin.org/event/childrens-christmas-choir-practice/2024-12-22/
LOCATION:The Hill\, 1700 Woodland Avenue\, Austin\, 78741\, United States
CATEGORIES:The Hill
ORGANIZER;CN="The Rev. Leah Wise":MAILTO:leah@gsaustin.org
END:VEVENT
BEGIN:VEVENT
DTSTART;TZID=America/Chicago:20241222T100000
DTEND;TZID=America/Chicago:20241222T103000
DTSTAMP:20260422T040916
CREATED:20240814T211600Z
LAST-MODIFIED:20250519T173532Z
UID:10044762-1734861600-1734863400@gsaustin.org
SUMMARY:Children's Choir
DESCRIPTION:The Children’s Choir aims to foster a love of singing\, musical skills to enjoy for a lifetime\, and will feature performances in our worship services throughout the year. Children’s Choir is open to children in Kindergarten-5th grades with no prior choir experience necessary. For more information\, please contact our Children’s Choir director\, Kellie Brewer.
URL:https://gsaustin.org/event/childrens-choir/2024-12-22/
LOCATION:Windsor Campus\, Education Building\, Second floor\, 3201 Windsor Road\, Austin\, TX\, 78703\, United States
CATEGORIES:Children's Ministry,Choir,Children Youth and Family
ORGANIZER;CN="Kellie Brewer":MAILTO:kellie@gsaustin.org
END:VEVENT
BEGIN:VEVENT
DTSTART;TZID=America/Chicago:20241222T100000
DTEND;TZID=America/Chicago:20241222T120000
DTSTAMP:20260422T040916
CREATED:20240918T162806Z
LAST-MODIFIED:20260123T174138Z
UID:10046746-1734861600-1734868800@gsaustin.org
SUMMARY:Nursery
DESCRIPTION:Nursery care is provided for our youngest members (under 3 years old) every Sunday during the 10:30a services on both campuses. In a warm and nurturing environment\, we will assist you in beginning to build your child’s faith foundation from the ground up. Children can be picked up at any time. We look forward to greeting you and your children for nursery care!
URL:https://gsaustin.org/event/nursery/2024-12-22/
LOCATION:Windsor Campus\, Nursery\, 3201 Windsor Road\, Austin\, TX\, 78703\, United States
CATEGORIES:Nursery,Children Youth and Family
ORGANIZER;CN="the Rev. Jonathan McManus-Dail":MAILTO:jonathan@gsaustin.org
END:VEVENT
BEGIN:VEVENT
DTSTART;TZID=America/Chicago:20241222T103000
DTEND;TZID=America/Chicago:20241222T113000
DTSTAMP:20260422T040916
CREATED:20220328T184827Z
LAST-MODIFIED:20260311T164045Z
UID:10034428-1734863400-1734867000@gsaustin.org
SUMMARY:Communion Café: Holy Eucharist
DESCRIPTION:Our second\, primary service of mid-morning worship\, Communion Café blends traditional\, Episcopal worship and a relaxed\, inclusive setting.\nSupported by the choral and musical leadership of a live\, acoustic band\, Communion Café includes readings from scripture; a sermon; prayers; congregational singing; and the celebration of the Holy Eucharist. \nNursery care available.
URL:https://gsaustin.org/event/communion-cafe/2024-12-22/
LOCATION:Windsor Campus\, Parish Life Center (PLC)\, 3201 Windsor Road\, Austin\, TX\, 78703\, United States
CATEGORIES:Windsor Campus,Worship,Holy Week
END:VEVENT
BEGIN:VEVENT
DTSTART;TZID=America/Chicago:20241222T103000
DTEND;TZID=America/Chicago:20241222T113000
DTSTAMP:20260422T040916
CREATED:20220329T181541Z
LAST-MODIFIED:20250210T182523Z
UID:10034700-1734863400-1734867000@gsaustin.org
SUMMARY:Holy Eucharist with an Acoustic Band: The Hill
DESCRIPTION:Our second campus’ Sunday worship follows a slightly less-traditional Episcopal liturgy\, in a comfortable setting. Prayed in the The Book of Common Prayer’s Rite II\, and supported by the choral and musical leadership of a live\, acoustic band\, The Hill’s worship includes readings from scripture; a sermon; prayers; congregational singing; and the celebration of the Holy Eucharist. \nThe Hill worship also includes a brief children’s sermon\, after which families may choose to allow their children to join appointed Youth for community-building time on the playground. Youth then lead participating children’s return to the sanctuary in time for Communion. \nNursery care available.
URL:https://gsaustin.org/event/holy-eucharist-the-hill/2024-12-22/
LOCATION:The Hill\, 1700 Woodland Avenue\, Austin\, 78741\, United States
CATEGORIES:The Hill,Worship,Holy Week
ORGANIZER;CN="The Rev. Leah Wise":MAILTO:leah@gsaustin.org
END:VEVENT
BEGIN:VEVENT
DTSTART;TZID=America/Chicago:20241222T103000
DTEND;TZID=America/Chicago:20241222T113000
DTSTAMP:20260422T040916
CREATED:20230612T143728Z
LAST-MODIFIED:20260311T164115Z
UID:10035181-1734863400-1734867000@gsaustin.org
SUMMARY:Holy Eucharist with Organ and Choir
DESCRIPTION:Our most well-attended hour of worship\, we customarily pray this mid-morning service in the The Book of Common Prayer’s Rite II. Supported by the choral leadership of the Good Shepherd Choir and organ\, the 10:30a includes readings from scripture; a sermon; congregational hymns; prayers for God’s Church\, the world\, ourselves\, and one another; and the celebration of the Holy Eucharist.
URL:https://gsaustin.org/event/holy-eucharist-with-choir/2024-12-22/
LOCATION:Windsor Campus\, Nave\, 3201 Windsor Road\, Austin\, 78703
CATEGORIES:Windsor Campus,Worship
END:VEVENT
BEGIN:VEVENT
DTSTART;TZID=America/Chicago:20241222T160000
DTEND;TZID=America/Chicago:20241222T170000
DTSTAMP:20260422T040916
CREATED:20241111T220045Z
LAST-MODIFIED:20241219T021911Z
UID:10047273-1734883200-1734886800@gsaustin.org
SUMMARY:Christmas Carol Sing Along & Children's Choir Concert
DESCRIPTION:Join us at the Hill to sing seasonal favorites\, both sacred and secular\, at our annual Christmas Hymn Christmas Carol Sing Along.No experience necessary–all are welcome! Our seasonal Children’s Choir will also perform the songs they have learned. Cookies and hot chocolate will be served!
URL:https://gsaustin.org/event/christmas-carol-sing-along/
LOCATION:The Hill\, 1700 Woodland Avenue\, Austin\, 78741\, United States
CATEGORIES:Featured Events,The Hill
ATTACH;FMTTYPE=image/png:https://gsaustin.org/wp-content/uploads/2024/11/2024-12_ChristmasSingAlong_Event.png
ORGANIZER;CN="The Rev. Leah Wise":MAILTO:leah@gsaustin.org
END:VEVENT
BEGIN:VEVENT
DTSTART;TZID=America/Chicago:20241222T180000
DTEND;TZID=America/Chicago:20241222T190000
DTSTAMP:20260422T040916
CREATED:20211202T054637Z
LAST-MODIFIED:20251117T232702Z
UID:10043639-1734890400-1734894000@gsaustin.org
SUMMARY:Holy Eucharist with Organ
DESCRIPTION:Our evening worship offers a more meditative\, intimate atmosphere\, acknowledging with prayer and setting the close of day.\nThe 6:00p includes readings from scripture; a sermon; prayers; congregational hymns led by organ; and the celebration of the Holy Eucharist.\n 
URL:https://gsaustin.org/event/holy-eucharist-with-organ/2024-12-22/
LOCATION:Windsor Campus\, Nave\, 3201 Windsor Road\, Austin\, 78703
CATEGORIES:Windsor Campus,Worship
END:VEVENT
BEGIN:VEVENT
DTSTART;TZID=America/Chicago:20241224T140000
DTEND;TZID=America/Chicago:20241224T150000
DTSTAMP:20260422T040916
CREATED:20211205T025504Z
LAST-MODIFIED:20241107T190034Z
UID:10041825-1735048800-1735052400@gsaustin.org
SUMMARY:Holy Eucharist with Children's Choir and Christmas Pageant
DESCRIPTION:Children are invited to arrive early to choose a part\, pick out a costume and join in the pageant.  We provide the costumes! The service includes favorite carols and a celebration of the Holy Eucharist. \nNursery care will be provided during the 2:00p service.
URL:https://gsaustin.org/event/pageant-holy-eucharist/
LOCATION:Windsor Campus\, Nave\, 3201 Windsor Road\, Austin\, 78703
CATEGORIES:Featured Events,Worship,Christmas
ATTACH;FMTTYPE=image/jpeg:https://gsaustin.org/wp-content/uploads/2023/04/2021_ChristmasPageant_event.jpg
END:VEVENT
BEGIN:VEVENT
DTSTART;TZID=America/Chicago:20241224T163000
DTEND;TZID=America/Chicago:20241224T170000
DTSTAMP:20260422T040916
CREATED:20211205T025809Z
LAST-MODIFIED:20241107T184042Z
UID:10041673-1735057800-1735059600@gsaustin.org
SUMMARY:Carols for Christmas
DESCRIPTION:Arrive early by 4:30p to enjoy Carols for Christmas music before the worship service begins at 5:00p in the Windsor Nave and Parish Life Center. \n  \n 
URL:https://gsaustin.org/event/carols-for-christmas/
LOCATION:Windsor church building & PLC\, 3201 Windsor Road\, Austin\, TX\, 78703\, United States
CATEGORIES:Worship,Christmas
END:VEVENT
BEGIN:VEVENT
DTSTART;TZID=America/Chicago:20241224T170000
DTEND;TZID=America/Chicago:20241224T180000
DTSTAMP:20260422T040916
CREATED:20211205T030834Z
LAST-MODIFIED:20241107T191815Z
UID:10041826-1735059600-1735063200@gsaustin.org
SUMMARY:Holy Eucharist with Acoustic Band (PLC)
DESCRIPTION:A more contemporary and less formal service of Scripture and Holy Eucharist\, including music by an acoustic band. Arrive early by 4:30p to enjoy Carols for Christmas music before the worship service begins at 5:00p.
URL:https://gsaustin.org/event/christmas-eve-holy-eucharist-5p-plc/
LOCATION:Windsor Campus\, Parish Life Center (PLC)\, 3201 Windsor Road\, Austin\, TX\, 78703\, United States
CATEGORIES:Worship,Christmas
END:VEVENT
BEGIN:VEVENT
DTSTART;TZID=America/Chicago:20241224T180000
DTEND;TZID=America/Chicago:20241224T190000
DTSTAMP:20260422T040916
CREATED:20231116T195701Z
LAST-MODIFIED:20241107T183919Z
UID:10041833-1735063200-1735066800@gsaustin.org
SUMMARY:Holy Eucharist with Acoustic Band at the Hill
DESCRIPTION:An ASL interpreter will be on site at the Hill for this Christmas Eve service.
URL:https://gsaustin.org/event/christmas-eve-hill/
LOCATION:The Hill\, Parish Hall\, 1700 Woodland Avenue\, Austin\, TX\, 78741\, United States
CATEGORIES:Christmas
ORGANIZER;CN="The Rev. Leah Wise":MAILTO:leah@gsaustin.org
END:VEVENT
BEGIN:VEVENT
DTSTART;TZID=America/Chicago:20241224T193000
DTEND;TZID=America/Chicago:20241224T200000
DTSTAMP:20260422T040916
CREATED:20231116T194136Z
LAST-MODIFIED:20241107T183444Z
UID:10041830-1735068600-1735070400@gsaustin.org
SUMMARY:Carols for Christmas
DESCRIPTION:Arrive early by 7:30p to enjoy Carols for Christmas music before the worship service begins at 8:00p.
URL:https://gsaustin.org/event/carols-for-christmas-2/
LOCATION:Windsor Campus\, Nave\, 3201 Windsor Road\, Austin\, 78703
CATEGORIES:Worship,Christmas
END:VEVENT
BEGIN:VEVENT
DTSTART;TZID=America/Chicago:20241224T223000
DTEND;TZID=America/Chicago:20241224T230000
DTSTAMP:20260422T040916
CREATED:20211205T030623Z
LAST-MODIFIED:20241107T183823Z
UID:10041670-1735079400-1735081200@gsaustin.org
SUMMARY:Carols for Christmas
DESCRIPTION:Arrive early by 10:30p to enjoy Carols for Christmas music before the worship service begins at 11:00p.
URL:https://gsaustin.org/event/carols-for-christmas-3/
LOCATION:Windsor Campus\, Nave\, 3201 Windsor Road\, Austin\, 78703
CATEGORIES:Worship,Christmas
END:VEVENT
BEGIN:VEVENT
DTSTART;TZID=America/Chicago:20241225T103000
DTEND;TZID=America/Chicago:20241225T113000
DTSTAMP:20260422T040916
CREATED:20231205T213442Z
LAST-MODIFIED:20241107T182327Z
UID:10041983-1735122600-1735126200@gsaustin.org
SUMMARY:Christmas Day Holy Eucharist
DESCRIPTION:Come celebrate Christmas Day with us\, including Holy Communion\, organ\, and a cantor.
URL:https://gsaustin.org/event/christmas-day-holy-eucharist/
LOCATION:Windsor Campus\, Nave\, 3201 Windsor Road\, Austin\, 78703
CATEGORIES:Worship,Christmas
END:VEVENT
END:VCALENDAR