BEGIN:VCALENDAR
VERSION:2.0
PRODID:-//The Episcopal Church of the Good Shepherd - ECPv6.15.18//NONSGML v1.0//EN
CALSCALE:GREGORIAN
METHOD:PUBLISH
X-ORIGINAL-URL:https://gsaustin.org
X-WR-CALDESC:Events for The Episcopal Church of the Good Shepherd
REFRESH-INTERVAL;VALUE=DURATION:PT1H
X-Robots-Tag:noindex
X-PUBLISHED-TTL:PT1H
BEGIN:VTIMEZONE
TZID:America/Chicago
BEGIN:DAYLIGHT
TZOFFSETFROM:-0600
TZOFFSETTO:-0500
TZNAME:CDT
DTSTART:20250309T080000
END:DAYLIGHT
BEGIN:STANDARD
TZOFFSETFROM:-0500
TZOFFSETTO:-0600
TZNAME:CST
DTSTART:20251102T070000
END:STANDARD
BEGIN:DAYLIGHT
TZOFFSETFROM:-0600
TZOFFSETTO:-0500
TZNAME:CDT
DTSTART:20260308T080000
END:DAYLIGHT
BEGIN:STANDARD
TZOFFSETFROM:-0500
TZOFFSETTO:-0600
TZNAME:CST
DTSTART:20261101T070000
END:STANDARD
BEGIN:DAYLIGHT
TZOFFSETFROM:-0600
TZOFFSETTO:-0500
TZNAME:CDT
DTSTART:20270314T080000
END:DAYLIGHT
BEGIN:STANDARD
TZOFFSETFROM:-0500
TZOFFSETTO:-0600
TZNAME:CST
DTSTART:20271107T070000
END:STANDARD
END:VTIMEZONE
BEGIN:VEVENT
DTSTART;TZID=America/Chicago:20260201T120000
DTEND;TZID=America/Chicago:20260201T140000
DTSTAMP:20260425T075923
CREATED:20211202T033628Z
LAST-MODIFIED:20260123T164904Z
UID:10019653-1769947200-1769954400@gsaustin.org
SUMMARY:Annual Parish Meeting
DESCRIPTION:Join us for this year’s Annual Parish Meeting in the Parish Life Center after the 10:30a services at Windsor.\nHear about the state of the parish and plans for 2026 and elect our new vestry class. \nBreakfast tacos will be served in the PLC after 10:30a worship.
URL:https://gsaustin.org/event/annual-parish-meeting/
LOCATION:Windsor Campus\, Parish Life Center\, 3201 Windsor Road\, Austin\, TX\, 78703\, United States
CATEGORIES:Featured Events,Windsor Campus,Parish Life,Vestry
ATTACH;FMTTYPE=image/png:https://gsaustin.org/wp-content/uploads/2021/12/2026-01-15_APM_Event.png
ORGANIZER;CN="The Rev. Stanford Adams":MAILTO:https://gsaustin.org
END:VEVENT
END:VCALENDAR