BEGIN:VCALENDAR
VERSION:2.0
PRODID:-//The Episcopal Church of the Good Shepherd - ECPv6.15.18//NONSGML v1.0//EN
CALSCALE:GREGORIAN
METHOD:PUBLISH
X-WR-CALNAME:The Episcopal Church of the Good Shepherd
X-ORIGINAL-URL:https://gsaustin.org
X-WR-CALDESC:Events for The Episcopal Church of the Good Shepherd
REFRESH-INTERVAL;VALUE=DURATION:PT1H
X-Robots-Tag:noindex
X-PUBLISHED-TTL:PT1H
BEGIN:VTIMEZONE
TZID:America/Chicago
BEGIN:DAYLIGHT
TZOFFSETFROM:-0600
TZOFFSETTO:-0500
TZNAME:CDT
DTSTART:20240310T080000
END:DAYLIGHT
BEGIN:STANDARD
TZOFFSETFROM:-0500
TZOFFSETTO:-0600
TZNAME:CST
DTSTART:20241103T070000
END:STANDARD
BEGIN:DAYLIGHT
TZOFFSETFROM:-0600
TZOFFSETTO:-0500
TZNAME:CDT
DTSTART:20250309T080000
END:DAYLIGHT
BEGIN:STANDARD
TZOFFSETFROM:-0500
TZOFFSETTO:-0600
TZNAME:CST
DTSTART:20251102T070000
END:STANDARD
BEGIN:DAYLIGHT
TZOFFSETFROM:-0600
TZOFFSETTO:-0500
TZNAME:CDT
DTSTART:20260308T080000
END:DAYLIGHT
BEGIN:STANDARD
TZOFFSETFROM:-0500
TZOFFSETTO:-0600
TZNAME:CST
DTSTART:20261101T070000
END:STANDARD
END:VTIMEZONE
BEGIN:VEVENT
DTSTART;TZID=America/Chicago:20251123T100000
DTEND;TZID=America/Chicago:20251123T103000
DTSTAMP:20260421T003012
CREATED:20250813T164814Z
LAST-MODIFIED:20251007T191425Z
UID:10049149-1763892000-1763893800@gsaustin.org
SUMMARY:Children's Choir
DESCRIPTION:The Children’s Choir aims to foster a love of singing\, musical skills to enjoy for a lifetime\, and will feature performances in our worship services throughout the year. Children’s Choir is open to children in Kindergarten-5th grades with no prior choir experience necessary. For more information\, please contact our Children’s Choir director\, Kellie Brewer.
URL:https://gsaustin.org/event/childrens-choir-2/2025-11-23/
LOCATION:Windsor Campus\, Education Building\, Second floor\, 3201 Windsor Road\, Austin\, TX\, 78703\, United States
CATEGORIES:Children's Ministry,Choir,Children Youth and Family
ORGANIZER;CN="Kellie Brewer":MAILTO:kellie@gsaustin.org
END:VEVENT
END:VCALENDAR