BEGIN:VCALENDAR
VERSION:2.0
PRODID:-//The Episcopal Church of the Good Shepherd - ECPv6.15.18//NONSGML v1.0//EN
CALSCALE:GREGORIAN
METHOD:PUBLISH
X-WR-CALNAME:The Episcopal Church of the Good Shepherd
X-ORIGINAL-URL:https://gsaustin.org
X-WR-CALDESC:Events for The Episcopal Church of the Good Shepherd
REFRESH-INTERVAL;VALUE=DURATION:PT1H
X-Robots-Tag:noindex
X-PUBLISHED-TTL:PT1H
BEGIN:VTIMEZONE
TZID:America/Chicago
BEGIN:DAYLIGHT
TZOFFSETFROM:-0600
TZOFFSETTO:-0500
TZNAME:CDT
DTSTART:20240310T080000
END:DAYLIGHT
BEGIN:STANDARD
TZOFFSETFROM:-0500
TZOFFSETTO:-0600
TZNAME:CST
DTSTART:20241103T070000
END:STANDARD
BEGIN:DAYLIGHT
TZOFFSETFROM:-0600
TZOFFSETTO:-0500
TZNAME:CDT
DTSTART:20250309T080000
END:DAYLIGHT
BEGIN:STANDARD
TZOFFSETFROM:-0500
TZOFFSETTO:-0600
TZNAME:CST
DTSTART:20251102T070000
END:STANDARD
BEGIN:DAYLIGHT
TZOFFSETFROM:-0600
TZOFFSETTO:-0500
TZNAME:CDT
DTSTART:20260308T080000
END:DAYLIGHT
BEGIN:STANDARD
TZOFFSETFROM:-0500
TZOFFSETTO:-0600
TZNAME:CST
DTSTART:20261101T070000
END:STANDARD
END:VTIMEZONE
BEGIN:VEVENT
DTSTART;TZID=America/Chicago:20251123T113000
DTEND;TZID=America/Chicago:20251123T123000
DTSTAMP:20260420T235528
CREATED:20250730T141751Z
LAST-MODIFIED:20251120T213018Z
UID:10048764-1763897400-1763901000@gsaustin.org
SUMMARY:Thanksgiving Meal Kit Packing and Delivery
DESCRIPTION:Help us share the spirit of Thanksgiving by providing meals to neighbors in need. Join us after the 10:30a service at Windsor on Sunday\, November 23\, to pack non-perishable food items into meal kits and deliver them to residents of the North Loop Apartments. This is a child-friendly volunteer opportunity—perfect for the whole family! \nSign up here to help with packing and delivery and click here to view the list of needed items. Donation bins are available in the Education Center atrium and the Windsor admin building for item drop-offs. For any additional information on how to help out contact Helen and Christine.
URL:https://gsaustin.org/event/thanksgiving-food-drive-2025/
LOCATION:Windsor Campus\, 3201 Windsor Road\, Austin\, TX\, 78748\, United States
CATEGORIES:Featured Events,Windsor Campus,Volunteering
ATTACH;FMTTYPE=image/jpeg:https://gsaustin.org/wp-content/uploads/2023/04/2022-11_ThanksgivingMeals_Event.jpg
ORGANIZER;CN="Jessica Riels":MAILTO:jessica@gsaustin.org
END:VEVENT
END:VCALENDAR