BEGIN:VCALENDAR
VERSION:2.0
PRODID:-//The Episcopal Church of the Good Shepherd - ECPv6.15.18//NONSGML v1.0//EN
CALSCALE:GREGORIAN
METHOD:PUBLISH
X-ORIGINAL-URL:https://gsaustin.org
X-WR-CALDESC:Events for The Episcopal Church of the Good Shepherd
REFRESH-INTERVAL;VALUE=DURATION:PT1H
X-Robots-Tag:noindex
X-PUBLISHED-TTL:PT1H
BEGIN:VTIMEZONE
TZID:America/Chicago
BEGIN:DAYLIGHT
TZOFFSETFROM:-0600
TZOFFSETTO:-0500
TZNAME:CDT
DTSTART:20240310T080000
END:DAYLIGHT
BEGIN:STANDARD
TZOFFSETFROM:-0500
TZOFFSETTO:-0600
TZNAME:CST
DTSTART:20241103T070000
END:STANDARD
BEGIN:DAYLIGHT
TZOFFSETFROM:-0600
TZOFFSETTO:-0500
TZNAME:CDT
DTSTART:20250309T080000
END:DAYLIGHT
BEGIN:STANDARD
TZOFFSETFROM:-0500
TZOFFSETTO:-0600
TZNAME:CST
DTSTART:20251102T070000
END:STANDARD
BEGIN:DAYLIGHT
TZOFFSETFROM:-0600
TZOFFSETTO:-0500
TZNAME:CDT
DTSTART:20260308T080000
END:DAYLIGHT
BEGIN:STANDARD
TZOFFSETFROM:-0500
TZOFFSETTO:-0600
TZNAME:CST
DTSTART:20261101T070000
END:STANDARD
END:VTIMEZONE
BEGIN:VEVENT
DTSTART;TZID=America/Chicago:20250905T080000
DTEND;TZID=America/Chicago:20250905T100000
DTSTAMP:20260421T155607
CREATED:20250709T150432Z
LAST-MODIFIED:20260323T160545Z
UID:10049990-1757059200-1757066400@gsaustin.org
SUMMARY:First Friday Fellowship & Chapel at the Hill
DESCRIPTION:On the first Friday of every month\, the Hill hosts a reception from 7:45a-9:00a in the parish hall for Hillside parents and caregivers. All are welcome to stay after for the preschool chapel service led by the Rev. Leah Wise in the church building. \n 
URL:https://gsaustin.org/event/first-friday-fellowship-4-2/2025-09-05/
LOCATION:The Hill\, Sanctuary\, 1700 Woodland Avenue\, Austin\, TX\, 78741\, United States
CATEGORIES:Featured Events,The Hill,Hillside
ATTACH;FMTTYPE=image/png:https://gsaustin.org/wp-content/uploads/2024/03/2024_FirstFridayFellowship_Event.png
ORGANIZER;CN="The Rev. Leah Wise":MAILTO:leah@gsaustin.org
END:VEVENT
BEGIN:VEVENT
DTSTART;TZID=America/Chicago:20250907T093000
DTEND;TZID=America/Chicago:20250907T101500
DTSTAMP:20260421T155607
CREATED:20250915T231009Z
LAST-MODIFIED:20260219T192741Z
UID:10049483-1757237400-1757240100@gsaustin.org
SUMMARY:Education Hour: Adult & ASL Formation
DESCRIPTION:Education Hour is what we call our “Sunday School” or “Formation” classes. Formation means “an act of giving shape to something.” We are shaped into followers of Jesus in lots of ways: through scripture\, prayer\, worship\, friendship\, and care for our neighbors\, among other things. Every Sunday\, adults and older teens are invited to take some time to study scripture and theology as part of this formation. \nAll are welcome!\nNo preparation necessary – we will supply books and materials as needed.\nCome hungry! We’ll have breakfast tacos and donuts. \n*Nursery care available
URL:https://gsaustin.org/event/adult-asl-formation/2025-09-07/
LOCATION:The Hill\, Parish Hall\, 1700 Woodland Avenue\, Austin\, TX\, 78741\, United States
CATEGORIES:The Hill
ORGANIZER;CN="The Rev. Leah Wise":MAILTO:leah@gsaustin.org
END:VEVENT
BEGIN:VEVENT
DTSTART;TZID=America/Chicago:20250907T113000
DTEND;TZID=America/Chicago:20250907T123000
DTSTAMP:20260421T155607
CREATED:20250915T232503Z
LAST-MODIFIED:20260323T211658Z
UID:10049563-1757244600-1757248200@gsaustin.org
SUMMARY:Coffee Hour with Donuts
DESCRIPTION:All are invited to gather\, chat\, and check in with one another over coffee (or tea) and donuts immediately after the 10:30 service.
URL:https://gsaustin.org/event/coffee-hour-with-donuts/2025-09-07/
CATEGORIES:The Hill
END:VEVENT
BEGIN:VEVENT
DTSTART;TZID=America/Chicago:20250909T093000
DTEND;TZID=America/Chicago:20250909T103000
DTSTAMP:20260421T155607
CREATED:20250903T173137Z
LAST-MODIFIED:20260323T153834Z
UID:10048757-1757410200-1757413800@gsaustin.org
SUMMARY:Mom's Bible Study
DESCRIPTION:We gather in person to support one another in the trials and joys of motherhood.\nWe hold space to meet weekly and explore together mini-sabbaths and bite-size spiritual practices when there is seemingly never enough time in the day for ourselves. The group is comprised of moms of all ages\, with a particular emphasis on those with small children at home. Nursery care is provided. New members are welcome to join us at any time. This group meets September-May.\nFor more information please contact Jessica Riels.
URL:https://gsaustin.org/event/moms-bible-study/2025-09-09/
LOCATION:Windsor Campus\, Media Room\, 3201 Windsor Road\, Austin\, TX\, United States
CATEGORIES:Adult Formation,Featured Events,Windsor Campus,Mom’s Bible Study
ATTACH;FMTTYPE=image/jpeg:https://gsaustin.org/wp-content/uploads/2022/08/2023-09_MomBibleStudy_Event-2.jpg
ORGANIZER;CN="Jessica Riels":MAILTO:jessica@gsaustin.org
END:VEVENT
BEGIN:VEVENT
DTSTART;TZID=America/Chicago:20250909T170000
DTEND;TZID=America/Chicago:20250909T180000
DTSTAMP:20260421T155607
CREATED:20240712T143034Z
LAST-MODIFIED:20260408T192129Z
UID:10047284-1757437200-1757440800@gsaustin.org
SUMMARY:Women’s Book Club
DESCRIPTION:We will meet once a month in-person or online on Tuesdays at 5:00p\, in the Parent Lounge on the Windsor campus. \nUpcoming meetings and books: \n\nApril 14: Unsheltered\, Barbara Kingsolver (2018)\nMay 12: The Library Book\, Susan Orlean\n\nJune 9: The Correspondent\, Virginia Evans\n\n\n\n\nJuly 14: The Search Committee\, José Skinner (local author & bookstore owner)\n\n\nPlease share with your friends\, as they are welcome to join us even if they have not read the book. With questions or for a link to join online please email Linda Gorzycki.
URL:https://gsaustin.org/event/womens-book-club/2025-09-09/
LOCATION:Windsor Campus\, Parent Lounge\, 3201 Windsor Road\, Austin\, 78703\, United States
CATEGORIES:Featured Events,Women’s Book Club
ATTACH;FMTTYPE=image/png:https://gsaustin.org/wp-content/uploads/2023/08/2023_WBookClub_Event.png
ORGANIZER;CN="Linda Gorzycki":MAILTO:woodcats@flash.net
END:VEVENT
BEGIN:VEVENT
DTSTART;TZID=America/Chicago:20250914T093000
DTEND;TZID=America/Chicago:20250914T101500
DTSTAMP:20260421T155607
CREATED:20250915T231009Z
LAST-MODIFIED:20260219T192741Z
UID:10049484-1757842200-1757844900@gsaustin.org
SUMMARY:Education Hour: Adult & ASL Formation
DESCRIPTION:Education Hour is what we call our “Sunday School” or “Formation” classes. Formation means “an act of giving shape to something.” We are shaped into followers of Jesus in lots of ways: through scripture\, prayer\, worship\, friendship\, and care for our neighbors\, among other things. Every Sunday\, adults and older teens are invited to take some time to study scripture and theology as part of this formation. \nAll are welcome!\nNo preparation necessary – we will supply books and materials as needed.\nCome hungry! We’ll have breakfast tacos and donuts. \n*Nursery care available
URL:https://gsaustin.org/event/adult-asl-formation/2025-09-14/
LOCATION:The Hill\, Parish Hall\, 1700 Woodland Avenue\, Austin\, TX\, 78741\, United States
CATEGORIES:The Hill
ORGANIZER;CN="The Rev. Leah Wise":MAILTO:leah@gsaustin.org
END:VEVENT
BEGIN:VEVENT
DTSTART;TZID=America/Chicago:20250914T113000
DTEND;TZID=America/Chicago:20250914T123000
DTSTAMP:20260421T155607
CREATED:20250915T232503Z
LAST-MODIFIED:20260323T211658Z
UID:10049564-1757849400-1757853000@gsaustin.org
SUMMARY:Coffee Hour with Donuts
DESCRIPTION:All are invited to gather\, chat\, and check in with one another over coffee (or tea) and donuts immediately after the 10:30 service.
URL:https://gsaustin.org/event/coffee-hour-with-donuts/2025-09-14/
CATEGORIES:The Hill
END:VEVENT
BEGIN:VEVENT
DTSTART;TZID=America/Chicago:20250916T093000
DTEND;TZID=America/Chicago:20250916T103000
DTSTAMP:20260421T155607
CREATED:20250903T173137Z
LAST-MODIFIED:20260323T153834Z
UID:10049290-1758015000-1758018600@gsaustin.org
SUMMARY:Mom's Bible Study
DESCRIPTION:We gather in person to support one another in the trials and joys of motherhood.\nWe hold space to meet weekly and explore together mini-sabbaths and bite-size spiritual practices when there is seemingly never enough time in the day for ourselves. The group is comprised of moms of all ages\, with a particular emphasis on those with small children at home. Nursery care is provided. New members are welcome to join us at any time. This group meets September-May.\nFor more information please contact Jessica Riels.
URL:https://gsaustin.org/event/moms-bible-study/2025-09-16/
LOCATION:Windsor Campus\, Media Room\, 3201 Windsor Road\, Austin\, TX\, United States
CATEGORIES:Adult Formation,Featured Events,Windsor Campus,Mom’s Bible Study
ATTACH;FMTTYPE=image/jpeg:https://gsaustin.org/wp-content/uploads/2022/08/2023-09_MomBibleStudy_Event-2.jpg
ORGANIZER;CN="Jessica Riels":MAILTO:jessica@gsaustin.org
END:VEVENT
BEGIN:VEVENT
DTSTART;TZID=America/Chicago:20250918T093000
DTEND;TZID=America/Chicago:20250918T110000
DTSTAMP:20260421T155607
CREATED:20250428T180201Z
LAST-MODIFIED:20260326T202847Z
UID:10049417-1758187800-1758193200@gsaustin.org
SUMMARY:Thursday Bible Study: We Believe - A Study of the Nicene Creed
DESCRIPTION:Join us this spring for a thoughtful exploration of the Nicene Creed\, the ancient statement of faith Christians still proclaim each Sunday. Using a variety of texts we will explore how the creed emerged\, what it means\, and why it still matters for Christian belief\, worship\, and daily life. Contact the Rev. Brin Bon for more information or to get the link to join on Zoom.
URL:https://gsaustin.org/event/thursday-bible-study/2025-09-18/
LOCATION:Windsor Campus\, Vestry Room\, 3201 Windsor Road\, Austin\, TX\, 78703\, United States
CATEGORIES:Adult Formation,Featured Events
ATTACH;FMTTYPE=image/png:https://gsaustin.org/wp-content/uploads/2024/09/2024_ThursdayBibleStudy_Event.png
ORGANIZER;CN="The Rev. Brin Bon":MAILTO:brin@gsaustin.org
END:VEVENT
BEGIN:VEVENT
DTSTART;TZID=America/Chicago:20250918T110000
DTEND;TZID=America/Chicago:20250918T120000
DTSTAMP:20260421T155608
CREATED:20250903T175127Z
LAST-MODIFIED:20260309T154443Z
UID:10048443-1758193200-1758196800@gsaustin.org
SUMMARY:Women on the Journey
DESCRIPTION:Women on the Journey meets in person and online for a time of spiritual connection\, mutual support\, study and prayer. Members find meaning and guidance for their own spiritual journeys and also become companions to one another on the journey of faith to which Christ beckons. New members are welcome to join us at any time. This group meets September–May. With questions or a link to join\, contact the Rev. Paige Alvarez Hanks. \n 
URL:https://gsaustin.org/event/women-on-the-journey/2025-09-18/
LOCATION:Windsor Campus\, Media Room\, 3201 Windsor Road\, Austin\, TX\, United States
CATEGORIES:Adult Formation,Formation,Virtual,Windsor Campus,Women on the Journey,Bible Study
ATTACH;FMTTYPE=image/png:https://gsaustin.org/wp-content/uploads/2022/08/WomenJourney_Event.png
ORGANIZER;CN="The Rev. Paige Alvarez Hanks":MAILTO:paige@gsaustin.com
END:VEVENT
BEGIN:VEVENT
DTSTART;TZID=America/Chicago:20250918T160000
DTEND;TZID=America/Chicago:20250918T190000
DTSTAMP:20260421T155608
CREATED:20220517T213040Z
LAST-MODIFIED:20260409T150207Z
UID:10037029-1758211200-1758222000@gsaustin.org
SUMMARY:Mobile Loaves and Fishes: Food Truck Prep + Run
DESCRIPTION:Mobile Loaves and Fishes: Food Truck Prep + Run\nJoin Good Shepherd’s Team 102 for the Mobile Loaves and Fishes Food Truck prep and run. \nSign up to prepare sandwiches and load the truck from 4:00p-5:00p at the Mobile Loaves and Fishes Commissary (at St. John Neumann’s Catholic Church).\nYou may also sign up for the truck run from 5:00p-7:00p\, where you’ll take food to several locations around Austin. \nAll volunteers are welcome!\nThis is a wonderful opportunity for families with teens to serve together. \nTo sign up please CLICK HERE \nFor more information email Scott Ferguson.
URL:https://gsaustin.org/event/mlf-food-truck/2025-09-18/
LOCATION:St. John Neumann’s Catholic Church\, 5455 Bee Cave Road\, Austin\, TX\, 78746\, United States
CATEGORIES:Featured Events,Outreach,Volunteering
ATTACH;FMTTYPE=image/png:https://gsaustin.org/wp-content/uploads/2022/05/MLF_TruckPrep-Run.png
ORGANIZER;CN="Scott Ferguson":MAILTO:wklfjr@gmail.com
END:VEVENT
BEGIN:VEVENT
DTSTART;TZID=America/Chicago:20250921T080000
DTEND;TZID=America/Chicago:20250921T120000
DTSTAMP:20260421T155608
CREATED:20250825T153505Z
LAST-MODIFIED:20250903T190031Z
UID:10049227-1758441600-1758456000@gsaustin.org
SUMMARY:Dean Churchwell Visit
DESCRIPTION:On Sunday\, September 21\, we welcome the Very Reverend Katie Churchwell\, Dean of St. Paul’s Cathedral in Oklahoma City\, OK. She will preach at 8:00a and 10:30a in the Windsor\, nave and will join the Rev. Stanford Adams for a conversation at 9:15a in the Windsor\, media room. St. Paul’s Cathedral is located just over a block from the Murrah Federal Building and the church was profoundly damaged in the 1995 bombing. Katie and Stanford will discuss what it means to be a witness to resilience and hope\, even during tragedy and suffering. We hope that St. Paul’s experience will provide a helpful perspective as we continue to mourn the losses of the Central Texas floods.
URL:https://gsaustin.org/event/katie-churchwell-visit/
LOCATION:Windsor Campus\, 3201 Windsor Road\, Austin\, TX\, 78748\, United States
CATEGORIES:The Hill,Windsor Campus
ATTACH;FMTTYPE=image/png:https://gsaustin.org/wp-content/uploads/2025/08/2025-09-21_DeanChurchwellVisit_Event.png
ORGANIZER;CN="Jessica Riels":MAILTO:jessica@gsaustin.org
END:VEVENT
BEGIN:VEVENT
DTSTART;TZID=America/Chicago:20250921T093000
DTEND;TZID=America/Chicago:20250921T101500
DTSTAMP:20260421T155608
CREATED:20250915T231009Z
LAST-MODIFIED:20260219T192741Z
UID:10049485-1758447000-1758449700@gsaustin.org
SUMMARY:Education Hour: Adult & ASL Formation
DESCRIPTION:Education Hour is what we call our “Sunday School” or “Formation” classes. Formation means “an act of giving shape to something.” We are shaped into followers of Jesus in lots of ways: through scripture\, prayer\, worship\, friendship\, and care for our neighbors\, among other things. Every Sunday\, adults and older teens are invited to take some time to study scripture and theology as part of this formation. \nAll are welcome!\nNo preparation necessary – we will supply books and materials as needed.\nCome hungry! We’ll have breakfast tacos and donuts. \n*Nursery care available
URL:https://gsaustin.org/event/adult-asl-formation/2025-09-21/
LOCATION:The Hill\, Parish Hall\, 1700 Woodland Avenue\, Austin\, TX\, 78741\, United States
CATEGORIES:The Hill
ORGANIZER;CN="The Rev. Leah Wise":MAILTO:leah@gsaustin.org
END:VEVENT
BEGIN:VEVENT
DTSTART;TZID=America/Chicago:20250921T113000
DTEND;TZID=America/Chicago:20250921T123000
DTSTAMP:20260421T155608
CREATED:20250915T232503Z
LAST-MODIFIED:20260323T211658Z
UID:10049565-1758454200-1758457800@gsaustin.org
SUMMARY:Coffee Hour with Donuts
DESCRIPTION:All are invited to gather\, chat\, and check in with one another over coffee (or tea) and donuts immediately after the 10:30 service.
URL:https://gsaustin.org/event/coffee-hour-with-donuts/2025-09-21/
CATEGORIES:The Hill
END:VEVENT
BEGIN:VEVENT
DTSTART;TZID=America/Chicago:20250923T093000
DTEND;TZID=America/Chicago:20250923T103000
DTSTAMP:20260421T155608
CREATED:20250903T173137Z
LAST-MODIFIED:20260323T153834Z
UID:10049291-1758619800-1758623400@gsaustin.org
SUMMARY:Mom's Bible Study
DESCRIPTION:We gather in person to support one another in the trials and joys of motherhood.\nWe hold space to meet weekly and explore together mini-sabbaths and bite-size spiritual practices when there is seemingly never enough time in the day for ourselves. The group is comprised of moms of all ages\, with a particular emphasis on those with small children at home. Nursery care is provided. New members are welcome to join us at any time. This group meets September-May.\nFor more information please contact Jessica Riels.
URL:https://gsaustin.org/event/moms-bible-study/2025-09-23/
LOCATION:Windsor Campus\, Media Room\, 3201 Windsor Road\, Austin\, TX\, United States
CATEGORIES:Adult Formation,Featured Events,Windsor Campus,Mom’s Bible Study
ATTACH;FMTTYPE=image/jpeg:https://gsaustin.org/wp-content/uploads/2022/08/2023-09_MomBibleStudy_Event-2.jpg
ORGANIZER;CN="Jessica Riels":MAILTO:jessica@gsaustin.org
END:VEVENT
BEGIN:VEVENT
DTSTART;TZID=America/Chicago:20250925T093000
DTEND;TZID=America/Chicago:20250925T110000
DTSTAMP:20260421T155608
CREATED:20250428T180201Z
LAST-MODIFIED:20260326T202847Z
UID:10049418-1758792600-1758798000@gsaustin.org
SUMMARY:Thursday Bible Study: We Believe - A Study of the Nicene Creed
DESCRIPTION:Join us this spring for a thoughtful exploration of the Nicene Creed\, the ancient statement of faith Christians still proclaim each Sunday. Using a variety of texts we will explore how the creed emerged\, what it means\, and why it still matters for Christian belief\, worship\, and daily life. Contact the Rev. Brin Bon for more information or to get the link to join on Zoom.
URL:https://gsaustin.org/event/thursday-bible-study/2025-09-25/
LOCATION:Windsor Campus\, Vestry Room\, 3201 Windsor Road\, Austin\, TX\, 78703\, United States
CATEGORIES:Adult Formation,Featured Events
ATTACH;FMTTYPE=image/png:https://gsaustin.org/wp-content/uploads/2024/09/2024_ThursdayBibleStudy_Event.png
ORGANIZER;CN="The Rev. Brin Bon":MAILTO:brin@gsaustin.org
END:VEVENT
BEGIN:VEVENT
DTSTART;TZID=America/Chicago:20250925T110000
DTEND;TZID=America/Chicago:20250925T120000
DTSTAMP:20260421T155608
CREATED:20250903T175127Z
LAST-MODIFIED:20260309T154443Z
UID:10049325-1758798000-1758801600@gsaustin.org
SUMMARY:Women on the Journey
DESCRIPTION:Women on the Journey meets in person and online for a time of spiritual connection\, mutual support\, study and prayer. Members find meaning and guidance for their own spiritual journeys and also become companions to one another on the journey of faith to which Christ beckons. New members are welcome to join us at any time. This group meets September–May. With questions or a link to join\, contact the Rev. Paige Alvarez Hanks. \n 
URL:https://gsaustin.org/event/women-on-the-journey/2025-09-25/
LOCATION:Windsor Campus\, Media Room\, 3201 Windsor Road\, Austin\, TX\, United States
CATEGORIES:Adult Formation,Formation,Virtual,Windsor Campus,Women on the Journey,Bible Study
ATTACH;FMTTYPE=image/png:https://gsaustin.org/wp-content/uploads/2022/08/WomenJourney_Event.png
ORGANIZER;CN="The Rev. Paige Alvarez Hanks":MAILTO:paige@gsaustin.com
END:VEVENT
BEGIN:VEVENT
DTSTART;TZID=America/Chicago:20250928T093000
DTEND;TZID=America/Chicago:20250928T101500
DTSTAMP:20260421T155608
CREATED:20250915T231009Z
LAST-MODIFIED:20260219T192741Z
UID:10049486-1759051800-1759054500@gsaustin.org
SUMMARY:Education Hour: Adult & ASL Formation
DESCRIPTION:Education Hour is what we call our “Sunday School” or “Formation” classes. Formation means “an act of giving shape to something.” We are shaped into followers of Jesus in lots of ways: through scripture\, prayer\, worship\, friendship\, and care for our neighbors\, among other things. Every Sunday\, adults and older teens are invited to take some time to study scripture and theology as part of this formation. \nAll are welcome!\nNo preparation necessary – we will supply books and materials as needed.\nCome hungry! We’ll have breakfast tacos and donuts. \n*Nursery care available
URL:https://gsaustin.org/event/adult-asl-formation/2025-09-28/
LOCATION:The Hill\, Parish Hall\, 1700 Woodland Avenue\, Austin\, TX\, 78741\, United States
CATEGORIES:The Hill
ORGANIZER;CN="The Rev. Leah Wise":MAILTO:leah@gsaustin.org
END:VEVENT
BEGIN:VEVENT
DTSTART;TZID=America/Chicago:20250928T113000
DTEND;TZID=America/Chicago:20250928T123000
DTSTAMP:20260421T155608
CREATED:20250915T232503Z
LAST-MODIFIED:20260323T211658Z
UID:10049566-1759059000-1759062600@gsaustin.org
SUMMARY:Coffee Hour with Donuts
DESCRIPTION:All are invited to gather\, chat\, and check in with one another over coffee (or tea) and donuts immediately after the 10:30 service.
URL:https://gsaustin.org/event/coffee-hour-with-donuts/2025-09-28/
CATEGORIES:The Hill
END:VEVENT
BEGIN:VEVENT
DTSTART;TZID=America/Chicago:20250928T180000
DTEND;TZID=America/Chicago:20250928T190000
DTSTAMP:20260421T155608
CREATED:20211202T073020Z
LAST-MODIFIED:20250813T170709Z
UID:10018278-1759082400-1759086000@gsaustin.org
SUMMARY:Choral Evensong for St. Michael's & All Angels
DESCRIPTION:Choral Evensong\, or Evening Prayer\, is a cherished tradition of the Anglican Communion. Join us for an evening of sung prayer\, great hymns and organ masterworks. A wine and cheese reception will follow in the PLC. With questions please email Chris Oelkers.
URL:https://gsaustin.org/event/choral-evensong/
LOCATION:Windsor Campus\, Nave\, 3201 Windsor Road\, Austin\, 78703
CATEGORIES:Featured Events,Windsor Campus,Worship,Choral Evensong,Choir
ATTACH;FMTTYPE=image/png:https://gsaustin.org/wp-content/uploads/2021/12/2024-05_ChoralEvensong_EVENT.png
ORGANIZER;CN="Chris Oelkers":MAILTO:chris@gsaustin.org
END:VEVENT
BEGIN:VEVENT
DTSTART;TZID=America/Chicago:20250930T093000
DTEND;TZID=America/Chicago:20250930T103000
DTSTAMP:20260421T155608
CREATED:20250903T173137Z
LAST-MODIFIED:20260323T153834Z
UID:10049292-1759224600-1759228200@gsaustin.org
SUMMARY:Mom's Bible Study
DESCRIPTION:We gather in person to support one another in the trials and joys of motherhood.\nWe hold space to meet weekly and explore together mini-sabbaths and bite-size spiritual practices when there is seemingly never enough time in the day for ourselves. The group is comprised of moms of all ages\, with a particular emphasis on those with small children at home. Nursery care is provided. New members are welcome to join us at any time. This group meets September-May.\nFor more information please contact Jessica Riels.
URL:https://gsaustin.org/event/moms-bible-study/2025-09-30/
LOCATION:Windsor Campus\, Media Room\, 3201 Windsor Road\, Austin\, TX\, United States
CATEGORIES:Adult Formation,Featured Events,Windsor Campus,Mom’s Bible Study
ATTACH;FMTTYPE=image/jpeg:https://gsaustin.org/wp-content/uploads/2022/08/2023-09_MomBibleStudy_Event-2.jpg
ORGANIZER;CN="Jessica Riels":MAILTO:jessica@gsaustin.org
END:VEVENT
END:VCALENDAR