BEGIN:VCALENDAR
VERSION:2.0
PRODID:-//The Episcopal Church of the Good Shepherd - ECPv6.15.18//NONSGML v1.0//EN
CALSCALE:GREGORIAN
METHOD:PUBLISH
X-WR-CALNAME:The Episcopal Church of the Good Shepherd
X-ORIGINAL-URL:https://gsaustin.org
X-WR-CALDESC:Events for The Episcopal Church of the Good Shepherd
REFRESH-INTERVAL;VALUE=DURATION:PT1H
X-Robots-Tag:noindex
X-PUBLISHED-TTL:PT1H
BEGIN:VTIMEZONE
TZID:America/Chicago
BEGIN:DAYLIGHT
TZOFFSETFROM:-0600
TZOFFSETTO:-0500
TZNAME:CDT
DTSTART:20240310T080000
END:DAYLIGHT
BEGIN:STANDARD
TZOFFSETFROM:-0500
TZOFFSETTO:-0600
TZNAME:CST
DTSTART:20241103T070000
END:STANDARD
BEGIN:DAYLIGHT
TZOFFSETFROM:-0600
TZOFFSETTO:-0500
TZNAME:CDT
DTSTART:20250309T080000
END:DAYLIGHT
BEGIN:STANDARD
TZOFFSETFROM:-0500
TZOFFSETTO:-0600
TZNAME:CST
DTSTART:20251102T070000
END:STANDARD
BEGIN:DAYLIGHT
TZOFFSETFROM:-0600
TZOFFSETTO:-0500
TZNAME:CDT
DTSTART:20260308T080000
END:DAYLIGHT
BEGIN:STANDARD
TZOFFSETFROM:-0500
TZOFFSETTO:-0600
TZNAME:CST
DTSTART:20261101T070000
END:STANDARD
END:VTIMEZONE
BEGIN:VEVENT
DTSTART;TZID=America/Chicago:20251207T113000
DTEND;TZID=America/Chicago:20251207T123000
DTSTAMP:20260420T142050
CREATED:20250915T232503Z
LAST-MODIFIED:20260323T211658Z
UID:10049576-1765107000-1765110600@gsaustin.org
SUMMARY:Coffee Hour with Donuts
DESCRIPTION:All are invited to gather\, chat\, and check in with one another over coffee (or tea) and donuts immediately after the 10:30 service.
URL:https://gsaustin.org/event/coffee-hour-with-donuts/2025-12-07/
CATEGORIES:The Hill
END:VEVENT
BEGIN:VEVENT
DTSTART;TZID=America/Chicago:20251214T113000
DTEND;TZID=America/Chicago:20251214T123000
DTSTAMP:20260420T142050
CREATED:20250915T232503Z
LAST-MODIFIED:20260323T211658Z
UID:10050767-1765711800-1765715400@gsaustin.org
SUMMARY:Coffee Hour with Donuts
DESCRIPTION:All are invited to gather\, chat\, and check in with one another over coffee (or tea) and donuts immediately after the 10:30 service.
URL:https://gsaustin.org/event/coffee-hour-with-donuts/2025-12-14/
CATEGORIES:The Hill
END:VEVENT
BEGIN:VEVENT
DTSTART;TZID=America/Chicago:20251221T113000
DTEND;TZID=America/Chicago:20251221T123000
DTSTAMP:20260420T142050
CREATED:20250915T232503Z
LAST-MODIFIED:20260323T211658Z
UID:10049578-1766316600-1766320200@gsaustin.org
SUMMARY:Coffee Hour with Donuts
DESCRIPTION:All are invited to gather\, chat\, and check in with one another over coffee (or tea) and donuts immediately after the 10:30 service.
URL:https://gsaustin.org/event/coffee-hour-with-donuts/2025-12-21/
CATEGORIES:The Hill
END:VEVENT
BEGIN:VEVENT
DTSTART;TZID=America/Chicago:20251228T113000
DTEND;TZID=America/Chicago:20251228T123000
DTSTAMP:20260420T142050
CREATED:20250915T232503Z
LAST-MODIFIED:20260323T211658Z
UID:10049579-1766921400-1766925000@gsaustin.org
SUMMARY:Coffee Hour with Donuts
DESCRIPTION:All are invited to gather\, chat\, and check in with one another over coffee (or tea) and donuts immediately after the 10:30 service.
URL:https://gsaustin.org/event/coffee-hour-with-donuts/2025-12-28/
CATEGORIES:The Hill
END:VEVENT
END:VCALENDAR