BEGIN:VCALENDAR
VERSION:2.0
PRODID:-//The Episcopal Church of the Good Shepherd - ECPv6.15.18//NONSGML v1.0//EN
CALSCALE:GREGORIAN
METHOD:PUBLISH
X-WR-CALNAME:The Episcopal Church of the Good Shepherd
X-ORIGINAL-URL:https://gsaustin.org
X-WR-CALDESC:Events for The Episcopal Church of the Good Shepherd
REFRESH-INTERVAL;VALUE=DURATION:PT1H
X-Robots-Tag:noindex
X-PUBLISHED-TTL:PT1H
BEGIN:VTIMEZONE
TZID:America/Chicago
BEGIN:DAYLIGHT
TZOFFSETFROM:-0600
TZOFFSETTO:-0500
TZNAME:CDT
DTSTART:20240310T080000
END:DAYLIGHT
BEGIN:STANDARD
TZOFFSETFROM:-0500
TZOFFSETTO:-0600
TZNAME:CST
DTSTART:20241103T070000
END:STANDARD
BEGIN:DAYLIGHT
TZOFFSETFROM:-0600
TZOFFSETTO:-0500
TZNAME:CDT
DTSTART:20250309T080000
END:DAYLIGHT
BEGIN:STANDARD
TZOFFSETFROM:-0500
TZOFFSETTO:-0600
TZNAME:CST
DTSTART:20251102T070000
END:STANDARD
BEGIN:DAYLIGHT
TZOFFSETFROM:-0600
TZOFFSETTO:-0500
TZNAME:CDT
DTSTART:20260308T080000
END:DAYLIGHT
BEGIN:STANDARD
TZOFFSETFROM:-0500
TZOFFSETTO:-0600
TZNAME:CST
DTSTART:20261101T070000
END:STANDARD
END:VTIMEZONE
BEGIN:VEVENT
DTSTART;TZID=America/Chicago:20250801T080000
DTEND;TZID=America/Chicago:20250801T100000
DTSTAMP:20260420T022725
CREATED:20250709T150432Z
LAST-MODIFIED:20260323T160545Z
UID:10048050-1754035200-1754042400@gsaustin.org
SUMMARY:First Friday Fellowship & Chapel at the Hill
DESCRIPTION:On the first Friday of every month\, the Hill hosts a reception from 7:45a-9:00a in the parish hall for Hillside parents and caregivers. All are welcome to stay after for the preschool chapel service led by the Rev. Leah Wise in the church building. \n 
URL:https://gsaustin.org/event/first-friday-fellowship-4-2/2025-08-01/
LOCATION:The Hill\, Sanctuary\, 1700 Woodland Avenue\, Austin\, TX\, 78741\, United States
CATEGORIES:Featured Events,The Hill,Hillside
ATTACH;FMTTYPE=image/png:https://gsaustin.org/wp-content/uploads/2024/03/2024_FirstFridayFellowship_Event.png
ORGANIZER;CN="The Rev. Leah Wise":MAILTO:leah@gsaustin.org
END:VEVENT
BEGIN:VEVENT
DTSTART;TZID=America/Chicago:20250821T160000
DTEND;TZID=America/Chicago:20250821T190000
DTSTAMP:20260420T022725
CREATED:20220517T213040Z
LAST-MODIFIED:20260409T150207Z
UID:10037028-1755792000-1755802800@gsaustin.org
SUMMARY:Mobile Loaves and Fishes: Food Truck Prep + Run
DESCRIPTION:Mobile Loaves and Fishes: Food Truck Prep + Run\nJoin Good Shepherd’s Team 102 for the Mobile Loaves and Fishes Food Truck prep and run. \nSign up to prepare sandwiches and load the truck from 4:00p-5:00p at the Mobile Loaves and Fishes Commissary (at St. John Neumann’s Catholic Church).\nYou may also sign up for the truck run from 5:00p-7:00p\, where you’ll take food to several locations around Austin. \nAll volunteers are welcome!\nThis is a wonderful opportunity for families with teens to serve together. \nTo sign up please CLICK HERE \nFor more information email Scott Ferguson.
URL:https://gsaustin.org/event/mlf-food-truck/2025-08-21/
LOCATION:St. John Neumann’s Catholic Church\, 5455 Bee Cave Road\, Austin\, TX\, 78746\, United States
CATEGORIES:Featured Events,Outreach,Volunteering
ATTACH;FMTTYPE=image/png:https://gsaustin.org/wp-content/uploads/2022/05/MLF_TruckPrep-Run.png
ORGANIZER;CN="Scott Ferguson":MAILTO:wklfjr@gmail.com
END:VEVENT
BEGIN:VEVENT
DTSTART;TZID=America/Chicago:20250823T180000
DTEND;TZID=America/Chicago:20250823T210000
DTSTAMP:20260420T022725
CREATED:20250718T214334Z
LAST-MODIFIED:20250820T142808Z
UID:10044251-1755972000-1755982800@gsaustin.org
SUMMARY:Episcopalians at Austin Pride
DESCRIPTION:Episcopalians from across the Austin area will gather on Saturday\, August 23\, to stand in support of our LGBTQ+ siblings. We will begin with a Eucharist service at 6:00p at St. David’s Episcopal Church\, followed by walking in the Austin Pride Parade together at 8:00p. The evening will conclude by 9:00p.\nIf you plan to attend—or would like to help lead worship or assist with parade planning—please sign up here.\n\n6:00p – Pride Eucharist at St David’s Church (301 E 8th Street\, Austin\, free parking available)\n7:30p – Parade delegation assembly (walking distance from St. David’s)\n8:00p – Parade kickoff\n9:00p – Approximate end time for parade walkers\, at Congress Avenue and Cesar Chavez Street\n\nQuestions? Contact the Rev. Noah Stansbury.
URL:https://gsaustin.org/event/austin-pride-parade/
LOCATION:St. David’s Episcopal Church\, 301 E 8th Street\, Austin\, TX\, 78701\, United States
ATTACH;FMTTYPE=image/png:https://gsaustin.org/wp-content/uploads/2025/07/2025-08_PrideParade_Event.png
ORGANIZER;CN="The Rev. Paige Alvarez Hanks":MAILTO:paige@gsaustin.com
END:VEVENT
END:VCALENDAR