BEGIN:VCALENDAR
VERSION:2.0
PRODID:-//The Episcopal Church of the Good Shepherd - ECPv6.15.18//NONSGML v1.0//EN
CALSCALE:GREGORIAN
METHOD:PUBLISH
X-ORIGINAL-URL:https://gsaustin.org
X-WR-CALDESC:Events for The Episcopal Church of the Good Shepherd
REFRESH-INTERVAL;VALUE=DURATION:PT1H
X-Robots-Tag:noindex
X-PUBLISHED-TTL:PT1H
BEGIN:VTIMEZONE
TZID:America/Chicago
BEGIN:DAYLIGHT
TZOFFSETFROM:-0600
TZOFFSETTO:-0500
TZNAME:CDT
DTSTART:20250309T080000
END:DAYLIGHT
BEGIN:STANDARD
TZOFFSETFROM:-0500
TZOFFSETTO:-0600
TZNAME:CST
DTSTART:20251102T070000
END:STANDARD
BEGIN:DAYLIGHT
TZOFFSETFROM:-0600
TZOFFSETTO:-0500
TZNAME:CDT
DTSTART:20260308T080000
END:DAYLIGHT
BEGIN:STANDARD
TZOFFSETFROM:-0500
TZOFFSETTO:-0600
TZNAME:CST
DTSTART:20261101T070000
END:STANDARD
BEGIN:DAYLIGHT
TZOFFSETFROM:-0600
TZOFFSETTO:-0500
TZNAME:CDT
DTSTART:20270314T080000
END:DAYLIGHT
BEGIN:STANDARD
TZOFFSETFROM:-0500
TZOFFSETTO:-0600
TZNAME:CST
DTSTART:20271107T070000
END:STANDARD
END:VTIMEZONE
BEGIN:VEVENT
DTSTART;TZID=America/Chicago:20260426T113000
DTEND;TZID=America/Chicago:20260426T130000
DTSTAMP:20260423T154512
CREATED:20240328T193311Z
LAST-MODIFIED:20260325T165903Z
UID:10042970-1777203000-1777208400@gsaustin.org
SUMMARY:Good Shepherd Sunday Parish Picnic
DESCRIPTION:Celebrate Good Shepherd Sunday with our annual Parish Picnic. Join us on the Windsor campus following the 10:30a worship services for a relaxed afternoon of lunch\, lawn games\, live music\, and fellowship. The parish will provide the main dish and beverages. Parishioners are invited to bring a favorite side dish\, salad or dessert\, and all are warmly welcome to attend with or without bringing food. Dress comfortably for an outdoor picnic on the common. Click here to sign up to bring sides.
URL:https://gsaustin.org/event/parish-picnic/
LOCATION:Windsor Campus\, 3201 Windsor Road\, Austin\, TX\, 78748\, United States
CATEGORIES:Featured Events
ATTACH;FMTTYPE=image/png:https://gsaustin.org/wp-content/uploads/2024/03/2025_ParishPicnic_Event.png
ORGANIZER;CN="Jessica Riels":MAILTO:jessica@gsaustin.org
END:VEVENT
END:VCALENDAR