BEGIN:VCALENDAR
VERSION:2.0
PRODID:-//The Episcopal Church of the Good Shepherd - ECPv6.15.18//NONSGML v1.0//EN
CALSCALE:GREGORIAN
METHOD:PUBLISH
X-WR-CALNAME:The Episcopal Church of the Good Shepherd
X-ORIGINAL-URL:https://gsaustin.org
X-WR-CALDESC:Events for The Episcopal Church of the Good Shepherd
REFRESH-INTERVAL;VALUE=DURATION:PT1H
X-Robots-Tag:noindex
X-PUBLISHED-TTL:PT1H
BEGIN:VTIMEZONE
TZID:America/Chicago
BEGIN:DAYLIGHT
TZOFFSETFROM:-0600
TZOFFSETTO:-0500
TZNAME:CDT
DTSTART:20250309T080000
END:DAYLIGHT
BEGIN:STANDARD
TZOFFSETFROM:-0500
TZOFFSETTO:-0600
TZNAME:CST
DTSTART:20251102T070000
END:STANDARD
BEGIN:DAYLIGHT
TZOFFSETFROM:-0600
TZOFFSETTO:-0500
TZNAME:CDT
DTSTART:20260308T080000
END:DAYLIGHT
BEGIN:STANDARD
TZOFFSETFROM:-0500
TZOFFSETTO:-0600
TZNAME:CST
DTSTART:20261101T070000
END:STANDARD
BEGIN:DAYLIGHT
TZOFFSETFROM:-0600
TZOFFSETTO:-0500
TZNAME:CDT
DTSTART:20270314T080000
END:DAYLIGHT
BEGIN:STANDARD
TZOFFSETFROM:-0500
TZOFFSETTO:-0600
TZNAME:CST
DTSTART:20271107T070000
END:STANDARD
END:VTIMEZONE
BEGIN:VEVENT
DTSTART;TZID=America/Chicago:20260721T183000
DTEND;TZID=America/Chicago:20260721T200000
DTSTAMP:20260422T094355
CREATED:20241219T172535Z
LAST-MODIFIED:20260323T190301Z
UID:10050086-1784658600-1784664000@gsaustin.org
SUMMARY:Men’s Bible Study
DESCRIPTION:The Men’s Bible Study invites all men of the parish to join them on Tuesday nights from 6:30 to 8:00p as they study the Bible together. Participants can bring any Bible translation they like. They also read commentaries and the the Book of Common Prayer to enhance their understanding of the Bible\, aiming for a balance between a close reading and discussion of the impact of scripture on our lives and our world.\n\nWe invite all the men in the parish to join us!\nWith questions\, please contact Frank Pool
URL:https://gsaustin.org/event/mens-bible-study-2/2026-07-21/
LOCATION:Windsor Campus\, Vestry Room\, 3201 Windsor Road\, Austin\, TX\, 78703\, United States
CATEGORIES:Adult Formation,Formation,Virtual,Windsor Campus
ATTACH;FMTTYPE=image/png:https://gsaustin.org/wp-content/uploads/2021/12/2024_MensBibleStudy_Event.png
ORGANIZER;CN="The Rev. Brin Bon":MAILTO:brin@gsaustin.org
END:VEVENT
BEGIN:VEVENT
DTSTART;TZID=America/Chicago:20260728T183000
DTEND;TZID=America/Chicago:20260728T200000
DTSTAMP:20260422T094355
CREATED:20241219T172535Z
LAST-MODIFIED:20260323T190301Z
UID:10050087-1785263400-1785268800@gsaustin.org
SUMMARY:Men’s Bible Study
DESCRIPTION:The Men’s Bible Study invites all men of the parish to join them on Tuesday nights from 6:30 to 8:00p as they study the Bible together. Participants can bring any Bible translation they like. They also read commentaries and the the Book of Common Prayer to enhance their understanding of the Bible\, aiming for a balance between a close reading and discussion of the impact of scripture on our lives and our world.\n\nWe invite all the men in the parish to join us!\nWith questions\, please contact Frank Pool
URL:https://gsaustin.org/event/mens-bible-study-2/2026-07-28/
LOCATION:Windsor Campus\, Vestry Room\, 3201 Windsor Road\, Austin\, TX\, 78703\, United States
CATEGORIES:Adult Formation,Formation,Virtual,Windsor Campus
ATTACH;FMTTYPE=image/png:https://gsaustin.org/wp-content/uploads/2021/12/2024_MensBibleStudy_Event.png
ORGANIZER;CN="The Rev. Brin Bon":MAILTO:brin@gsaustin.org
END:VEVENT
BEGIN:VEVENT
DTSTART;TZID=America/Chicago:20260804T183000
DTEND;TZID=America/Chicago:20260804T200000
DTSTAMP:20260422T094355
CREATED:20241219T172535Z
LAST-MODIFIED:20260323T190301Z
UID:10050088-1785868200-1785873600@gsaustin.org
SUMMARY:Men’s Bible Study
DESCRIPTION:The Men’s Bible Study invites all men of the parish to join them on Tuesday nights from 6:30 to 8:00p as they study the Bible together. Participants can bring any Bible translation they like. They also read commentaries and the the Book of Common Prayer to enhance their understanding of the Bible\, aiming for a balance between a close reading and discussion of the impact of scripture on our lives and our world.\n\nWe invite all the men in the parish to join us!\nWith questions\, please contact Frank Pool
URL:https://gsaustin.org/event/mens-bible-study-2/2026-08-04/
LOCATION:Windsor Campus\, Vestry Room\, 3201 Windsor Road\, Austin\, TX\, 78703\, United States
CATEGORIES:Adult Formation,Formation,Virtual,Windsor Campus
ATTACH;FMTTYPE=image/png:https://gsaustin.org/wp-content/uploads/2021/12/2024_MensBibleStudy_Event.png
ORGANIZER;CN="The Rev. Brin Bon":MAILTO:brin@gsaustin.org
END:VEVENT
BEGIN:VEVENT
DTSTART;TZID=America/Chicago:20260811T183000
DTEND;TZID=America/Chicago:20260811T200000
DTSTAMP:20260422T094355
CREATED:20241219T172535Z
LAST-MODIFIED:20260323T190301Z
UID:10050089-1786473000-1786478400@gsaustin.org
SUMMARY:Men’s Bible Study
DESCRIPTION:The Men’s Bible Study invites all men of the parish to join them on Tuesday nights from 6:30 to 8:00p as they study the Bible together. Participants can bring any Bible translation they like. They also read commentaries and the the Book of Common Prayer to enhance their understanding of the Bible\, aiming for a balance between a close reading and discussion of the impact of scripture on our lives and our world.\n\nWe invite all the men in the parish to join us!\nWith questions\, please contact Frank Pool
URL:https://gsaustin.org/event/mens-bible-study-2/2026-08-11/
LOCATION:Windsor Campus\, Vestry Room\, 3201 Windsor Road\, Austin\, TX\, 78703\, United States
CATEGORIES:Adult Formation,Formation,Virtual,Windsor Campus
ATTACH;FMTTYPE=image/png:https://gsaustin.org/wp-content/uploads/2021/12/2024_MensBibleStudy_Event.png
ORGANIZER;CN="The Rev. Brin Bon":MAILTO:brin@gsaustin.org
END:VEVENT
BEGIN:VEVENT
DTSTART;TZID=America/Chicago:20260818T183000
DTEND;TZID=America/Chicago:20260818T200000
DTSTAMP:20260422T094355
CREATED:20241219T172535Z
LAST-MODIFIED:20260323T190301Z
UID:10050090-1787077800-1787083200@gsaustin.org
SUMMARY:Men’s Bible Study
DESCRIPTION:The Men’s Bible Study invites all men of the parish to join them on Tuesday nights from 6:30 to 8:00p as they study the Bible together. Participants can bring any Bible translation they like. They also read commentaries and the the Book of Common Prayer to enhance their understanding of the Bible\, aiming for a balance between a close reading and discussion of the impact of scripture on our lives and our world.\n\nWe invite all the men in the parish to join us!\nWith questions\, please contact Frank Pool
URL:https://gsaustin.org/event/mens-bible-study-2/2026-08-18/
LOCATION:Windsor Campus\, Vestry Room\, 3201 Windsor Road\, Austin\, TX\, 78703\, United States
CATEGORIES:Adult Formation,Formation,Virtual,Windsor Campus
ATTACH;FMTTYPE=image/png:https://gsaustin.org/wp-content/uploads/2021/12/2024_MensBibleStudy_Event.png
ORGANIZER;CN="The Rev. Brin Bon":MAILTO:brin@gsaustin.org
END:VEVENT
BEGIN:VEVENT
DTSTART;TZID=America/Chicago:20260825T183000
DTEND;TZID=America/Chicago:20260825T200000
DTSTAMP:20260422T094355
CREATED:20241219T172535Z
LAST-MODIFIED:20260323T190301Z
UID:10050091-1787682600-1787688000@gsaustin.org
SUMMARY:Men’s Bible Study
DESCRIPTION:The Men’s Bible Study invites all men of the parish to join them on Tuesday nights from 6:30 to 8:00p as they study the Bible together. Participants can bring any Bible translation they like. They also read commentaries and the the Book of Common Prayer to enhance their understanding of the Bible\, aiming for a balance between a close reading and discussion of the impact of scripture on our lives and our world.\n\nWe invite all the men in the parish to join us!\nWith questions\, please contact Frank Pool
URL:https://gsaustin.org/event/mens-bible-study-2/2026-08-25/
LOCATION:Windsor Campus\, Vestry Room\, 3201 Windsor Road\, Austin\, TX\, 78703\, United States
CATEGORIES:Adult Formation,Formation,Virtual,Windsor Campus
ATTACH;FMTTYPE=image/png:https://gsaustin.org/wp-content/uploads/2021/12/2024_MensBibleStudy_Event.png
ORGANIZER;CN="The Rev. Brin Bon":MAILTO:brin@gsaustin.org
END:VEVENT
BEGIN:VEVENT
DTSTART;TZID=America/Chicago:20260901T183000
DTEND;TZID=America/Chicago:20260901T200000
DTSTAMP:20260422T094355
CREATED:20241219T172535Z
LAST-MODIFIED:20260323T190301Z
UID:10050092-1788287400-1788292800@gsaustin.org
SUMMARY:Men’s Bible Study
DESCRIPTION:The Men’s Bible Study invites all men of the parish to join them on Tuesday nights from 6:30 to 8:00p as they study the Bible together. Participants can bring any Bible translation they like. They also read commentaries and the the Book of Common Prayer to enhance their understanding of the Bible\, aiming for a balance between a close reading and discussion of the impact of scripture on our lives and our world.\n\nWe invite all the men in the parish to join us!\nWith questions\, please contact Frank Pool
URL:https://gsaustin.org/event/mens-bible-study-2/2026-09-01/
LOCATION:Windsor Campus\, Vestry Room\, 3201 Windsor Road\, Austin\, TX\, 78703\, United States
CATEGORIES:Adult Formation,Formation,Virtual,Windsor Campus
ATTACH;FMTTYPE=image/png:https://gsaustin.org/wp-content/uploads/2021/12/2024_MensBibleStudy_Event.png
ORGANIZER;CN="The Rev. Brin Bon":MAILTO:brin@gsaustin.org
END:VEVENT
BEGIN:VEVENT
DTSTART;TZID=America/Chicago:20260908T183000
DTEND;TZID=America/Chicago:20260908T200000
DTSTAMP:20260422T094355
CREATED:20241219T172535Z
LAST-MODIFIED:20260323T190301Z
UID:10050093-1788892200-1788897600@gsaustin.org
SUMMARY:Men’s Bible Study
DESCRIPTION:The Men’s Bible Study invites all men of the parish to join them on Tuesday nights from 6:30 to 8:00p as they study the Bible together. Participants can bring any Bible translation they like. They also read commentaries and the the Book of Common Prayer to enhance their understanding of the Bible\, aiming for a balance between a close reading and discussion of the impact of scripture on our lives and our world.\n\nWe invite all the men in the parish to join us!\nWith questions\, please contact Frank Pool
URL:https://gsaustin.org/event/mens-bible-study-2/2026-09-08/
LOCATION:Windsor Campus\, Vestry Room\, 3201 Windsor Road\, Austin\, TX\, 78703\, United States
CATEGORIES:Adult Formation,Formation,Virtual,Windsor Campus
ATTACH;FMTTYPE=image/png:https://gsaustin.org/wp-content/uploads/2021/12/2024_MensBibleStudy_Event.png
ORGANIZER;CN="The Rev. Brin Bon":MAILTO:brin@gsaustin.org
END:VEVENT
BEGIN:VEVENT
DTSTART;TZID=America/Chicago:20260915T183000
DTEND;TZID=America/Chicago:20260915T200000
DTSTAMP:20260422T094355
CREATED:20241219T172535Z
LAST-MODIFIED:20260323T190301Z
UID:10050094-1789497000-1789502400@gsaustin.org
SUMMARY:Men’s Bible Study
DESCRIPTION:The Men’s Bible Study invites all men of the parish to join them on Tuesday nights from 6:30 to 8:00p as they study the Bible together. Participants can bring any Bible translation they like. They also read commentaries and the the Book of Common Prayer to enhance their understanding of the Bible\, aiming for a balance between a close reading and discussion of the impact of scripture on our lives and our world.\n\nWe invite all the men in the parish to join us!\nWith questions\, please contact Frank Pool
URL:https://gsaustin.org/event/mens-bible-study-2/2026-09-15/
LOCATION:Windsor Campus\, Vestry Room\, 3201 Windsor Road\, Austin\, TX\, 78703\, United States
CATEGORIES:Adult Formation,Formation,Virtual,Windsor Campus
ATTACH;FMTTYPE=image/png:https://gsaustin.org/wp-content/uploads/2021/12/2024_MensBibleStudy_Event.png
ORGANIZER;CN="The Rev. Brin Bon":MAILTO:brin@gsaustin.org
END:VEVENT
BEGIN:VEVENT
DTSTART;TZID=America/Chicago:20260922T183000
DTEND;TZID=America/Chicago:20260922T200000
DTSTAMP:20260422T094355
CREATED:20241219T172535Z
LAST-MODIFIED:20260323T190301Z
UID:10050095-1790101800-1790107200@gsaustin.org
SUMMARY:Men’s Bible Study
DESCRIPTION:The Men’s Bible Study invites all men of the parish to join them on Tuesday nights from 6:30 to 8:00p as they study the Bible together. Participants can bring any Bible translation they like. They also read commentaries and the the Book of Common Prayer to enhance their understanding of the Bible\, aiming for a balance between a close reading and discussion of the impact of scripture on our lives and our world.\n\nWe invite all the men in the parish to join us!\nWith questions\, please contact Frank Pool
URL:https://gsaustin.org/event/mens-bible-study-2/2026-09-22/
LOCATION:Windsor Campus\, Vestry Room\, 3201 Windsor Road\, Austin\, TX\, 78703\, United States
CATEGORIES:Adult Formation,Formation,Virtual,Windsor Campus
ATTACH;FMTTYPE=image/png:https://gsaustin.org/wp-content/uploads/2021/12/2024_MensBibleStudy_Event.png
ORGANIZER;CN="The Rev. Brin Bon":MAILTO:brin@gsaustin.org
END:VEVENT
BEGIN:VEVENT
DTSTART;TZID=America/Chicago:20260929T183000
DTEND;TZID=America/Chicago:20260929T200000
DTSTAMP:20260422T094355
CREATED:20241219T172535Z
LAST-MODIFIED:20260323T190301Z
UID:10050096-1790706600-1790712000@gsaustin.org
SUMMARY:Men’s Bible Study
DESCRIPTION:The Men’s Bible Study invites all men of the parish to join them on Tuesday nights from 6:30 to 8:00p as they study the Bible together. Participants can bring any Bible translation they like. They also read commentaries and the the Book of Common Prayer to enhance their understanding of the Bible\, aiming for a balance between a close reading and discussion of the impact of scripture on our lives and our world.\n\nWe invite all the men in the parish to join us!\nWith questions\, please contact Frank Pool
URL:https://gsaustin.org/event/mens-bible-study-2/2026-09-29/
LOCATION:Windsor Campus\, Vestry Room\, 3201 Windsor Road\, Austin\, TX\, 78703\, United States
CATEGORIES:Adult Formation,Formation,Virtual,Windsor Campus
ATTACH;FMTTYPE=image/png:https://gsaustin.org/wp-content/uploads/2021/12/2024_MensBibleStudy_Event.png
ORGANIZER;CN="The Rev. Brin Bon":MAILTO:brin@gsaustin.org
END:VEVENT
BEGIN:VEVENT
DTSTART;TZID=America/Chicago:20261006T183000
DTEND;TZID=America/Chicago:20261006T200000
DTSTAMP:20260422T094355
CREATED:20241219T172535Z
LAST-MODIFIED:20260323T190301Z
UID:10050097-1791311400-1791316800@gsaustin.org
SUMMARY:Men’s Bible Study
DESCRIPTION:The Men’s Bible Study invites all men of the parish to join them on Tuesday nights from 6:30 to 8:00p as they study the Bible together. Participants can bring any Bible translation they like. They also read commentaries and the the Book of Common Prayer to enhance their understanding of the Bible\, aiming for a balance between a close reading and discussion of the impact of scripture on our lives and our world.\n\nWe invite all the men in the parish to join us!\nWith questions\, please contact Frank Pool
URL:https://gsaustin.org/event/mens-bible-study-2/2026-10-06/
LOCATION:Windsor Campus\, Vestry Room\, 3201 Windsor Road\, Austin\, TX\, 78703\, United States
CATEGORIES:Adult Formation,Formation,Virtual,Windsor Campus
ATTACH;FMTTYPE=image/png:https://gsaustin.org/wp-content/uploads/2021/12/2024_MensBibleStudy_Event.png
ORGANIZER;CN="The Rev. Brin Bon":MAILTO:brin@gsaustin.org
END:VEVENT
BEGIN:VEVENT
DTSTART;TZID=America/Chicago:20261013T183000
DTEND;TZID=America/Chicago:20261013T200000
DTSTAMP:20260422T094355
CREATED:20241219T172535Z
LAST-MODIFIED:20260323T190301Z
UID:10050098-1791916200-1791921600@gsaustin.org
SUMMARY:Men’s Bible Study
DESCRIPTION:The Men’s Bible Study invites all men of the parish to join them on Tuesday nights from 6:30 to 8:00p as they study the Bible together. Participants can bring any Bible translation they like. They also read commentaries and the the Book of Common Prayer to enhance their understanding of the Bible\, aiming for a balance between a close reading and discussion of the impact of scripture on our lives and our world.\n\nWe invite all the men in the parish to join us!\nWith questions\, please contact Frank Pool
URL:https://gsaustin.org/event/mens-bible-study-2/2026-10-13/
LOCATION:Windsor Campus\, Vestry Room\, 3201 Windsor Road\, Austin\, TX\, 78703\, United States
CATEGORIES:Adult Formation,Formation,Virtual,Windsor Campus
ATTACH;FMTTYPE=image/png:https://gsaustin.org/wp-content/uploads/2021/12/2024_MensBibleStudy_Event.png
ORGANIZER;CN="The Rev. Brin Bon":MAILTO:brin@gsaustin.org
END:VEVENT
BEGIN:VEVENT
DTSTART;TZID=America/Chicago:20261020T183000
DTEND;TZID=America/Chicago:20261020T200000
DTSTAMP:20260422T094355
CREATED:20241219T172535Z
LAST-MODIFIED:20260323T190301Z
UID:10050099-1792521000-1792526400@gsaustin.org
SUMMARY:Men’s Bible Study
DESCRIPTION:The Men’s Bible Study invites all men of the parish to join them on Tuesday nights from 6:30 to 8:00p as they study the Bible together. Participants can bring any Bible translation they like. They also read commentaries and the the Book of Common Prayer to enhance their understanding of the Bible\, aiming for a balance between a close reading and discussion of the impact of scripture on our lives and our world.\n\nWe invite all the men in the parish to join us!\nWith questions\, please contact Frank Pool
URL:https://gsaustin.org/event/mens-bible-study-2/2026-10-20/
LOCATION:Windsor Campus\, Vestry Room\, 3201 Windsor Road\, Austin\, TX\, 78703\, United States
CATEGORIES:Adult Formation,Formation,Virtual,Windsor Campus
ATTACH;FMTTYPE=image/png:https://gsaustin.org/wp-content/uploads/2021/12/2024_MensBibleStudy_Event.png
ORGANIZER;CN="The Rev. Brin Bon":MAILTO:brin@gsaustin.org
END:VEVENT
BEGIN:VEVENT
DTSTART;TZID=America/Chicago:20261027T183000
DTEND;TZID=America/Chicago:20261027T200000
DTSTAMP:20260422T094355
CREATED:20241219T172535Z
LAST-MODIFIED:20260323T190301Z
UID:10050100-1793125800-1793131200@gsaustin.org
SUMMARY:Men’s Bible Study
DESCRIPTION:The Men’s Bible Study invites all men of the parish to join them on Tuesday nights from 6:30 to 8:00p as they study the Bible together. Participants can bring any Bible translation they like. They also read commentaries and the the Book of Common Prayer to enhance their understanding of the Bible\, aiming for a balance between a close reading and discussion of the impact of scripture on our lives and our world.\n\nWe invite all the men in the parish to join us!\nWith questions\, please contact Frank Pool
URL:https://gsaustin.org/event/mens-bible-study-2/2026-10-27/
LOCATION:Windsor Campus\, Vestry Room\, 3201 Windsor Road\, Austin\, TX\, 78703\, United States
CATEGORIES:Adult Formation,Formation,Virtual,Windsor Campus
ATTACH;FMTTYPE=image/png:https://gsaustin.org/wp-content/uploads/2021/12/2024_MensBibleStudy_Event.png
ORGANIZER;CN="The Rev. Brin Bon":MAILTO:brin@gsaustin.org
END:VEVENT
BEGIN:VEVENT
DTSTART;TZID=America/Chicago:20261103T183000
DTEND;TZID=America/Chicago:20261103T200000
DTSTAMP:20260422T094355
CREATED:20241219T172535Z
LAST-MODIFIED:20260323T190301Z
UID:10050101-1793730600-1793736000@gsaustin.org
SUMMARY:Men’s Bible Study
DESCRIPTION:The Men’s Bible Study invites all men of the parish to join them on Tuesday nights from 6:30 to 8:00p as they study the Bible together. Participants can bring any Bible translation they like. They also read commentaries and the the Book of Common Prayer to enhance their understanding of the Bible\, aiming for a balance between a close reading and discussion of the impact of scripture on our lives and our world.\n\nWe invite all the men in the parish to join us!\nWith questions\, please contact Frank Pool
URL:https://gsaustin.org/event/mens-bible-study-2/2026-11-03/
LOCATION:Windsor Campus\, Vestry Room\, 3201 Windsor Road\, Austin\, TX\, 78703\, United States
CATEGORIES:Adult Formation,Formation,Virtual,Windsor Campus
ATTACH;FMTTYPE=image/png:https://gsaustin.org/wp-content/uploads/2021/12/2024_MensBibleStudy_Event.png
ORGANIZER;CN="The Rev. Brin Bon":MAILTO:brin@gsaustin.org
END:VEVENT
BEGIN:VEVENT
DTSTART;TZID=America/Chicago:20261110T183000
DTEND;TZID=America/Chicago:20261110T200000
DTSTAMP:20260422T094355
CREATED:20241219T172535Z
LAST-MODIFIED:20260323T190301Z
UID:10050102-1794335400-1794340800@gsaustin.org
SUMMARY:Men’s Bible Study
DESCRIPTION:The Men’s Bible Study invites all men of the parish to join them on Tuesday nights from 6:30 to 8:00p as they study the Bible together. Participants can bring any Bible translation they like. They also read commentaries and the the Book of Common Prayer to enhance their understanding of the Bible\, aiming for a balance between a close reading and discussion of the impact of scripture on our lives and our world.\n\nWe invite all the men in the parish to join us!\nWith questions\, please contact Frank Pool
URL:https://gsaustin.org/event/mens-bible-study-2/2026-11-10/
LOCATION:Windsor Campus\, Vestry Room\, 3201 Windsor Road\, Austin\, TX\, 78703\, United States
CATEGORIES:Adult Formation,Formation,Virtual,Windsor Campus
ATTACH;FMTTYPE=image/png:https://gsaustin.org/wp-content/uploads/2021/12/2024_MensBibleStudy_Event.png
ORGANIZER;CN="The Rev. Brin Bon":MAILTO:brin@gsaustin.org
END:VEVENT
BEGIN:VEVENT
DTSTART;TZID=America/Chicago:20261117T183000
DTEND;TZID=America/Chicago:20261117T200000
DTSTAMP:20260422T094355
CREATED:20241219T172535Z
LAST-MODIFIED:20260323T190301Z
UID:10050103-1794940200-1794945600@gsaustin.org
SUMMARY:Men’s Bible Study
DESCRIPTION:The Men’s Bible Study invites all men of the parish to join them on Tuesday nights from 6:30 to 8:00p as they study the Bible together. Participants can bring any Bible translation they like. They also read commentaries and the the Book of Common Prayer to enhance their understanding of the Bible\, aiming for a balance between a close reading and discussion of the impact of scripture on our lives and our world.\n\nWe invite all the men in the parish to join us!\nWith questions\, please contact Frank Pool
URL:https://gsaustin.org/event/mens-bible-study-2/2026-11-17/
LOCATION:Windsor Campus\, Vestry Room\, 3201 Windsor Road\, Austin\, TX\, 78703\, United States
CATEGORIES:Adult Formation,Formation,Virtual,Windsor Campus
ATTACH;FMTTYPE=image/png:https://gsaustin.org/wp-content/uploads/2021/12/2024_MensBibleStudy_Event.png
ORGANIZER;CN="The Rev. Brin Bon":MAILTO:brin@gsaustin.org
END:VEVENT
BEGIN:VEVENT
DTSTART;TZID=America/Chicago:20261124T183000
DTEND;TZID=America/Chicago:20261124T200000
DTSTAMP:20260422T094355
CREATED:20241219T172535Z
LAST-MODIFIED:20260323T190301Z
UID:10050104-1795545000-1795550400@gsaustin.org
SUMMARY:Men’s Bible Study
DESCRIPTION:The Men’s Bible Study invites all men of the parish to join them on Tuesday nights from 6:30 to 8:00p as they study the Bible together. Participants can bring any Bible translation they like. They also read commentaries and the the Book of Common Prayer to enhance their understanding of the Bible\, aiming for a balance between a close reading and discussion of the impact of scripture on our lives and our world.\n\nWe invite all the men in the parish to join us!\nWith questions\, please contact Frank Pool
URL:https://gsaustin.org/event/mens-bible-study-2/2026-11-24/
LOCATION:Windsor Campus\, Vestry Room\, 3201 Windsor Road\, Austin\, TX\, 78703\, United States
CATEGORIES:Adult Formation,Formation,Virtual,Windsor Campus
ATTACH;FMTTYPE=image/png:https://gsaustin.org/wp-content/uploads/2021/12/2024_MensBibleStudy_Event.png
ORGANIZER;CN="The Rev. Brin Bon":MAILTO:brin@gsaustin.org
END:VEVENT
BEGIN:VEVENT
DTSTART;TZID=America/Chicago:20261201T183000
DTEND;TZID=America/Chicago:20261201T200000
DTSTAMP:20260422T094355
CREATED:20241219T172535Z
LAST-MODIFIED:20260323T190301Z
UID:10050105-1796149800-1796155200@gsaustin.org
SUMMARY:Men’s Bible Study
DESCRIPTION:The Men’s Bible Study invites all men of the parish to join them on Tuesday nights from 6:30 to 8:00p as they study the Bible together. Participants can bring any Bible translation they like. They also read commentaries and the the Book of Common Prayer to enhance their understanding of the Bible\, aiming for a balance between a close reading and discussion of the impact of scripture on our lives and our world.\n\nWe invite all the men in the parish to join us!\nWith questions\, please contact Frank Pool
URL:https://gsaustin.org/event/mens-bible-study-2/2026-12-01/
LOCATION:Windsor Campus\, Vestry Room\, 3201 Windsor Road\, Austin\, TX\, 78703\, United States
CATEGORIES:Adult Formation,Formation,Virtual,Windsor Campus
ATTACH;FMTTYPE=image/png:https://gsaustin.org/wp-content/uploads/2021/12/2024_MensBibleStudy_Event.png
ORGANIZER;CN="The Rev. Brin Bon":MAILTO:brin@gsaustin.org
END:VEVENT
BEGIN:VEVENT
DTSTART;TZID=America/Chicago:20261208T183000
DTEND;TZID=America/Chicago:20261208T200000
DTSTAMP:20260422T094355
CREATED:20241219T172535Z
LAST-MODIFIED:20260323T190301Z
UID:10050106-1796754600-1796760000@gsaustin.org
SUMMARY:Men’s Bible Study
DESCRIPTION:The Men’s Bible Study invites all men of the parish to join them on Tuesday nights from 6:30 to 8:00p as they study the Bible together. Participants can bring any Bible translation they like. They also read commentaries and the the Book of Common Prayer to enhance their understanding of the Bible\, aiming for a balance between a close reading and discussion of the impact of scripture on our lives and our world.\n\nWe invite all the men in the parish to join us!\nWith questions\, please contact Frank Pool
URL:https://gsaustin.org/event/mens-bible-study-2/2026-12-08/
LOCATION:Windsor Campus\, Vestry Room\, 3201 Windsor Road\, Austin\, TX\, 78703\, United States
CATEGORIES:Adult Formation,Formation,Virtual,Windsor Campus
ATTACH;FMTTYPE=image/png:https://gsaustin.org/wp-content/uploads/2021/12/2024_MensBibleStudy_Event.png
ORGANIZER;CN="The Rev. Brin Bon":MAILTO:brin@gsaustin.org
END:VEVENT
BEGIN:VEVENT
DTSTART;TZID=America/Chicago:20261215T183000
DTEND;TZID=America/Chicago:20261215T200000
DTSTAMP:20260422T094355
CREATED:20241219T172535Z
LAST-MODIFIED:20260323T190301Z
UID:10050107-1797359400-1797364800@gsaustin.org
SUMMARY:Men’s Bible Study
DESCRIPTION:The Men’s Bible Study invites all men of the parish to join them on Tuesday nights from 6:30 to 8:00p as they study the Bible together. Participants can bring any Bible translation they like. They also read commentaries and the the Book of Common Prayer to enhance their understanding of the Bible\, aiming for a balance between a close reading and discussion of the impact of scripture on our lives and our world.\n\nWe invite all the men in the parish to join us!\nWith questions\, please contact Frank Pool
URL:https://gsaustin.org/event/mens-bible-study-2/2026-12-15/
LOCATION:Windsor Campus\, Vestry Room\, 3201 Windsor Road\, Austin\, TX\, 78703\, United States
CATEGORIES:Adult Formation,Formation,Virtual,Windsor Campus
ATTACH;FMTTYPE=image/png:https://gsaustin.org/wp-content/uploads/2021/12/2024_MensBibleStudy_Event.png
ORGANIZER;CN="The Rev. Brin Bon":MAILTO:brin@gsaustin.org
END:VEVENT
BEGIN:VEVENT
DTSTART;TZID=America/Chicago:20261222T183000
DTEND;TZID=America/Chicago:20261222T200000
DTSTAMP:20260422T094355
CREATED:20241219T172535Z
LAST-MODIFIED:20260323T190301Z
UID:10050108-1797964200-1797969600@gsaustin.org
SUMMARY:Men’s Bible Study
DESCRIPTION:The Men’s Bible Study invites all men of the parish to join them on Tuesday nights from 6:30 to 8:00p as they study the Bible together. Participants can bring any Bible translation they like. They also read commentaries and the the Book of Common Prayer to enhance their understanding of the Bible\, aiming for a balance between a close reading and discussion of the impact of scripture on our lives and our world.\n\nWe invite all the men in the parish to join us!\nWith questions\, please contact Frank Pool
URL:https://gsaustin.org/event/mens-bible-study-2/2026-12-22/
LOCATION:Windsor Campus\, Vestry Room\, 3201 Windsor Road\, Austin\, TX\, 78703\, United States
CATEGORIES:Adult Formation,Formation,Virtual,Windsor Campus
ATTACH;FMTTYPE=image/png:https://gsaustin.org/wp-content/uploads/2021/12/2024_MensBibleStudy_Event.png
ORGANIZER;CN="The Rev. Brin Bon":MAILTO:brin@gsaustin.org
END:VEVENT
END:VCALENDAR