BEGIN:VCALENDAR
VERSION:2.0
PRODID:-//The Episcopal Church of the Good Shepherd - ECPv6.15.18//NONSGML v1.0//EN
CALSCALE:GREGORIAN
METHOD:PUBLISH
X-ORIGINAL-URL:https://gsaustin.org
X-WR-CALDESC:Events for The Episcopal Church of the Good Shepherd
REFRESH-INTERVAL;VALUE=DURATION:PT1H
X-Robots-Tag:noindex
X-PUBLISHED-TTL:PT1H
BEGIN:VTIMEZONE
TZID:America/Chicago
BEGIN:DAYLIGHT
TZOFFSETFROM:-0600
TZOFFSETTO:-0500
TZNAME:CDT
DTSTART:20250309T080000
END:DAYLIGHT
BEGIN:STANDARD
TZOFFSETFROM:-0500
TZOFFSETTO:-0600
TZNAME:CST
DTSTART:20251102T070000
END:STANDARD
BEGIN:DAYLIGHT
TZOFFSETFROM:-0600
TZOFFSETTO:-0500
TZNAME:CDT
DTSTART:20260308T080000
END:DAYLIGHT
BEGIN:STANDARD
TZOFFSETFROM:-0500
TZOFFSETTO:-0600
TZNAME:CST
DTSTART:20261101T070000
END:STANDARD
BEGIN:DAYLIGHT
TZOFFSETFROM:-0600
TZOFFSETTO:-0500
TZNAME:CDT
DTSTART:20270314T080000
END:DAYLIGHT
BEGIN:STANDARD
TZOFFSETFROM:-0500
TZOFFSETTO:-0600
TZNAME:CST
DTSTART:20271107T070000
END:STANDARD
END:VTIMEZONE
BEGIN:VEVENT
DTSTART;TZID=America/Chicago:20260705T080000
DTEND;TZID=America/Chicago:20260705T090000
DTSTAMP:20260421T191030
CREATED:20240827T173644Z
LAST-MODIFIED:20260311T163915Z
UID:10045331-1783238400-1783242000@gsaustin.org
SUMMARY:Holy Eucharist
DESCRIPTION:We pray our early morning celebration of the Holy Eucharist using The Book of Common Prayer’s Rite II. The 8:00a service includes a sermon and Holy Communion. This service does not include music\, so there is ample opportunity for silence.
URL:https://gsaustin.org/event/holy-eucharist/2026-07-05/
LOCATION:Windsor Campus\, Nave\, 3201 Windsor Road\, Austin\, 78703
CATEGORIES:Worship
END:VEVENT
BEGIN:VEVENT
DTSTART;TZID=America/Chicago:20260712T080000
DTEND;TZID=America/Chicago:20260712T090000
DTSTAMP:20260421T191030
CREATED:20240827T173644Z
LAST-MODIFIED:20260311T163915Z
UID:10045332-1783843200-1783846800@gsaustin.org
SUMMARY:Holy Eucharist
DESCRIPTION:We pray our early morning celebration of the Holy Eucharist using The Book of Common Prayer’s Rite II. The 8:00a service includes a sermon and Holy Communion. This service does not include music\, so there is ample opportunity for silence.
URL:https://gsaustin.org/event/holy-eucharist/2026-07-12/
LOCATION:Windsor Campus\, Nave\, 3201 Windsor Road\, Austin\, 78703
CATEGORIES:Worship
END:VEVENT
BEGIN:VEVENT
DTSTART;TZID=America/Chicago:20260719T080000
DTEND;TZID=America/Chicago:20260719T090000
DTSTAMP:20260421T191030
CREATED:20240827T173644Z
LAST-MODIFIED:20260311T163915Z
UID:10045333-1784448000-1784451600@gsaustin.org
SUMMARY:Holy Eucharist
DESCRIPTION:We pray our early morning celebration of the Holy Eucharist using The Book of Common Prayer’s Rite II. The 8:00a service includes a sermon and Holy Communion. This service does not include music\, so there is ample opportunity for silence.
URL:https://gsaustin.org/event/holy-eucharist/2026-07-19/
LOCATION:Windsor Campus\, Nave\, 3201 Windsor Road\, Austin\, 78703
CATEGORIES:Worship
END:VEVENT
BEGIN:VEVENT
DTSTART;TZID=America/Chicago:20260726T080000
DTEND;TZID=America/Chicago:20260726T090000
DTSTAMP:20260421T191030
CREATED:20240827T173644Z
LAST-MODIFIED:20260311T163915Z
UID:10045334-1785052800-1785056400@gsaustin.org
SUMMARY:Holy Eucharist
DESCRIPTION:We pray our early morning celebration of the Holy Eucharist using The Book of Common Prayer’s Rite II. The 8:00a service includes a sermon and Holy Communion. This service does not include music\, so there is ample opportunity for silence.
URL:https://gsaustin.org/event/holy-eucharist/2026-07-26/
LOCATION:Windsor Campus\, Nave\, 3201 Windsor Road\, Austin\, 78703
CATEGORIES:Worship
END:VEVENT
END:VCALENDAR